BEGIN:VCALENDAR
VERSION:2.0
PRODID:-//Knife River Training Center - ECPv6.15.20//NONSGML v1.0//EN
CALSCALE:GREGORIAN
METHOD:PUBLISH
X-ORIGINAL-URL:https://krtrainingcenter.com
X-WR-CALDESC:Events for Knife River Training Center
REFRESH-INTERVAL;VALUE=DURATION:PT1H
X-Robots-Tag:noindex
X-PUBLISHED-TTL:PT1H
BEGIN:VTIMEZONE
TZID:America/Vancouver
BEGIN:DAYLIGHT
TZOFFSETFROM:-0800
TZOFFSETTO:-0700
TZNAME:PDT
DTSTART:20210314T100000
END:DAYLIGHT
BEGIN:STANDARD
TZOFFSETFROM:-0700
TZOFFSETTO:-0800
TZNAME:PST
DTSTART:20211107T090000
END:STANDARD
BEGIN:DAYLIGHT
TZOFFSETFROM:-0800
TZOFFSETTO:-0700
TZNAME:PDT
DTSTART:20220313T100000
END:DAYLIGHT
BEGIN:STANDARD
TZOFFSETFROM:-0700
TZOFFSETTO:-0800
TZNAME:PST
DTSTART:20221106T090000
END:STANDARD
BEGIN:DAYLIGHT
TZOFFSETFROM:-0800
TZOFFSETTO:-0700
TZNAME:PDT
DTSTART:20230312T100000
END:DAYLIGHT
BEGIN:STANDARD
TZOFFSETFROM:-0700
TZOFFSETTO:-0800
TZNAME:PST
DTSTART:20231105T090000
END:STANDARD
END:VTIMEZONE
BEGIN:VEVENT
DTSTART;VALUE=DATE:20220207
DTEND;VALUE=DATE:20220227
DTSTAMP:20260424T084211
CREATED:20220119T211940Z
LAST-MODIFIED:20220126T235508Z
UID:1082-1644192000-1645919999@krtrainingcenter.com
SUMMARY:CDL Prep Class #2 2022
DESCRIPTION:Content is protected.
URL:https://krtrainingcenter.com/training/cdl-prep-class-2-2022/
LOCATION:Knife River Training Center – Snake River Room\, 35973 Kennel Road SE\, Albany\, OR\, 97322\, United States
ORGANIZER;CN="Reyes%2C Alex":MAILTO:alex.reyes@kniferiver.net
END:VEVENT
BEGIN:VEVENT
DTSTART;VALUE=DATE:20220214
DTEND;VALUE=DATE:20220217
DTSTAMP:20260424T084211
CREATED:20220125T222253Z
LAST-MODIFIED:20220210T165224Z
UID:1092-1644796800-1645055999@krtrainingcenter.com
SUMMARY:Wheel Loader Level 2 Training -  Knife River Only
DESCRIPTION:Dates: Monday\, February 14 to Wednesday\, February 16\, 2022 \nStart Time: 8:00am sharp \nEnd Time: 5pm \nPPE Required \nDress for both indoor and outdoor activity \nThis course is for experienced operators with at least 6 months of seat time prier to the training. \nSupervisors\, you can enroll multiple individuals with each submission.
URL:https://krtrainingcenter.com/training/wheel-loader-level-2-training-knife-river-onley/
LOCATION:Knifer River Training Center – Columbia River Room\, 35973 Kennel Road SE\, Albany\, OR\, 97322\, United States
END:VEVENT
END:VCALENDAR