BEGIN:VCALENDAR
VERSION:2.0
PRODID:-//Knife River Training Center - ECPv6.15.20//NONSGML v1.0//EN
CALSCALE:GREGORIAN
METHOD:PUBLISH
X-ORIGINAL-URL:https://krtrainingcenter.com
X-WR-CALDESC:Events for Knife River Training Center
REFRESH-INTERVAL;VALUE=DURATION:PT1H
X-Robots-Tag:noindex
X-PUBLISHED-TTL:PT1H
BEGIN:VTIMEZONE
TZID:America/Vancouver
BEGIN:DAYLIGHT
TZOFFSETFROM:-0800
TZOFFSETTO:-0700
TZNAME:PDT
DTSTART:20210314T100000
END:DAYLIGHT
BEGIN:STANDARD
TZOFFSETFROM:-0700
TZOFFSETTO:-0800
TZNAME:PST
DTSTART:20211107T090000
END:STANDARD
BEGIN:DAYLIGHT
TZOFFSETFROM:-0800
TZOFFSETTO:-0700
TZNAME:PDT
DTSTART:20220313T100000
END:DAYLIGHT
BEGIN:STANDARD
TZOFFSETFROM:-0700
TZOFFSETTO:-0800
TZNAME:PST
DTSTART:20221106T090000
END:STANDARD
BEGIN:DAYLIGHT
TZOFFSETFROM:-0800
TZOFFSETTO:-0700
TZNAME:PDT
DTSTART:20230312T100000
END:DAYLIGHT
BEGIN:STANDARD
TZOFFSETFROM:-0700
TZOFFSETTO:-0800
TZNAME:PST
DTSTART:20231105T090000
END:STANDARD
END:VTIMEZONE
BEGIN:VEVENT
DTSTART;VALUE=DATE:20221031
DTEND;VALUE=DATE:20221119
DTSTAMP:20260423T044824
CREATED:20220518T230335Z
LAST-MODIFIED:20220902T182916Z
UID:1402-1667174400-1668815999@krtrainingcenter.com
SUMMARY:ELDT/CDL Prep Class  2022
DESCRIPTION:Course Description:  CDL – Entry Level Driver Training – Knife River Training Center \n3 week course \nDate: October 31st through November 18th \nStart Time:  7:30 am sharp \nLunch is provided. \nTo register for this class follow the steps below:\n\n Choose an Online application:\n\nFor Businesses –  tinyurl.com/ThroughEmployer \nFor General Population –  tinyurl.com/GeneralApplicant\n\n\nEmail the completed Program Application to CDL@linnbenton.edu\nFor assistance\, please contact 541-917-4846 or email to CDL@linnbenton.edu\n\n  \nItems students need before the start of class:  \n\nValid Drivers License\nCurrent Medical Card\nDOT Drug Test\nCDL Class A Permit- with a minimum of 30 days remaining at the completion of the course\nCleared through HR & have completed the “Pre-Employment” process as a driver
URL:https://krtrainingcenter.com/training/eldt-cdl-prep-class-2022-2/
LOCATION:Knife River Training Center – Snake River Room\, 35973 Kennel Road SE\, Albany\, OR\, 97322\, United States
ATTACH;FMTTYPE=image/png:https://krtrainingcenter.com/wp-content/uploads/2022/05/CDL-promo-pic-copy-new-2.png
ORGANIZER;CN="Reyes%2C Alex":MAILTO:alex.reyes@kniferiver.net
END:VEVENT
BEGIN:VEVENT
DTSTART;TZID=America/Vancouver:20221031T073000
DTEND;TZID=America/Vancouver:20221104T170000
DTSTAMP:20260423T044824
CREATED:20220928T202157Z
LAST-MODIFIED:20221010T215422Z
UID:1715-1667201400-1667581200@krtrainingcenter.com
SUMMARY:Top Drum/Top Wheel Master Trainer
DESCRIPTION:Dates: Monday\, October 31 to Tuesday\, November 4\, 2022 \nStart Time: 7:30am sharp \nEnd Time: 5pm \nPPE Required \nDress for both indoor and outdoor activity \nSupervisors\, you can enroll multiple individuals with each submission. \n  \nTravel Information:  Airports\, Hotels\, Shuttle and other Nearby Services – Travel Information – Knife River Training Center
URL:https://krtrainingcenter.com/training/top-drum-top-wheel-master-trainer/
LOCATION:Knife River Training Center – Copper River Room\, 35973 Kennel Road SE\, Albany\, OR\, 97322\, United States
END:VEVENT
BEGIN:VEVENT
DTSTART;TZID=America/Vancouver:20221103T080000
DTEND;TZID=America/Vancouver:20221104T170000
DTSTAMP:20260423T044824
CREATED:20220928T194645Z
LAST-MODIFIED:20221028T154209Z
UID:1706-1667462400-1667581200@krtrainingcenter.com
SUMMARY:Top Drum / Top Wheel Train the Trainer #2 - Knife River Only
DESCRIPTION:Dates: Thursday 3rd to Friday\, November 4th\, 2022 \nStart Time: 8am sharp \nEnd Time: 5pm \nPPE Required \nDress for both indoor and outdoor activity \nThis course is for new or recertifying Top Drum or Wheel trainers only – Mentor Driver is not yet scheduled.  If Top Drum/Wheel is new to you\, or you’re unfamiliar with it then we strongly encourage you to attend as well! It is the Knife River standard for all drivers of Commercial Vehicles. \nSupervisors\, you can enroll multiple individuals with each submission. \n  \nTravel Information:  Airports\, Hotels\, Shuttle and other Nearby Services – Travel Information – Knife River Training Center
URL:https://krtrainingcenter.com/training/top-drum-top-wheel-train-the-trainer-2-knife-river-only/
LOCATION:Knife River Training Center – Snake River Room\, 35973 Kennel Road SE\, Albany\, OR\, 97322\, United States
CATEGORIES:Training
ORGANIZER;CN="Reyes%2C Alex":MAILTO:alex.reyes@kniferiver.net
END:VEVENT
END:VCALENDAR