BEGIN:VCALENDAR
VERSION:2.0
PRODID:-//Knife River Training Center - ECPv6.15.20//NONSGML v1.0//EN
CALSCALE:GREGORIAN
METHOD:PUBLISH
X-WR-CALNAME:Knife River Training Center
X-ORIGINAL-URL:https://krtrainingcenter.com
X-WR-CALDESC:Events for Knife River Training Center
REFRESH-INTERVAL;VALUE=DURATION:PT1H
X-Robots-Tag:noindex
X-PUBLISHED-TTL:PT1H
BEGIN:VTIMEZONE
TZID:America/Vancouver
BEGIN:DAYLIGHT
TZOFFSETFROM:-0800
TZOFFSETTO:-0700
TZNAME:PDT
DTSTART:20220313T100000
END:DAYLIGHT
BEGIN:STANDARD
TZOFFSETFROM:-0700
TZOFFSETTO:-0800
TZNAME:PST
DTSTART:20221106T090000
END:STANDARD
BEGIN:DAYLIGHT
TZOFFSETFROM:-0800
TZOFFSETTO:-0700
TZNAME:PDT
DTSTART:20230312T100000
END:DAYLIGHT
BEGIN:STANDARD
TZOFFSETFROM:-0700
TZOFFSETTO:-0800
TZNAME:PST
DTSTART:20231105T090000
END:STANDARD
BEGIN:DAYLIGHT
TZOFFSETFROM:-0800
TZOFFSETTO:-0700
TZNAME:PDT
DTSTART:20240310T100000
END:DAYLIGHT
BEGIN:STANDARD
TZOFFSETFROM:-0700
TZOFFSETTO:-0800
TZNAME:PST
DTSTART:20241103T090000
END:STANDARD
END:VTIMEZONE
BEGIN:VEVENT
DTSTART;VALUE=DATE:20230109
DTEND;VALUE=DATE:20230128
DTSTAMP:20260422T233106
CREATED:20220519T180230Z
LAST-MODIFIED:20220519T180250Z
UID:1409-1673222400-1674863999@krtrainingcenter.com
SUMMARY:ELDT/CDL Prep Class  2023
DESCRIPTION:3 week course \nDate: January 9th through January 27th \nStart Time:  8:00am sharp \nLunch is provided. \nTo register for this class please contact Lee LeJanic by phone at 541-917-4846 or email at lee.lejanic@linnbenton.edu\nItems students need before the start of class:  \n\nValid Drivers License\nCurrent Medical Card\nDOT Drug Test\nCDL Class A Permit- with a minimum of 30 days remaining at the completion of the course\nCleared through HR & have completed the “Pre-Employment” process as a driver\n\nPlease email a copy of the LBCC registration to lee.lejanic@linnbenton.edu \n 
URL:https://krtrainingcenter.com/training/eldt-cdl-prep-class-2022-copy/
LOCATION:Knife River Training Center – Snake River Room\, 35973 Kennel Road SE\, Albany\, OR\, 97322\, United States
ATTACH;FMTTYPE=image/png:https://krtrainingcenter.com/wp-content/uploads/2022/05/CDL-promo-pic-copy.png
ORGANIZER;CN="Reyes%2C Alex":MAILTO:alex.reyes@kniferiver.net
END:VEVENT
BEGIN:VEVENT
DTSTART;VALUE=DATE:20230117
DTEND;VALUE=DATE:20230120
DTSTAMP:20260422T233106
CREATED:20221027T122622Z
LAST-MODIFIED:20221027T122622Z
UID:1890-1673913600-1674172799@krtrainingcenter.com
SUMMARY:Motor Grader Training - Knife River Only - Class is Full
DESCRIPTION:Dates: Tuesday\, January 17 to Thursday\, January 19\, 2023 \nStart Time: 7:30am sharp \nEnd Time: 5:00pm \nPlease bring all your Personal Protective Equipment (PPE) each day \nDress for both indoor and outdoor activity \nSupervisors\, you can enroll multiple individuals with each submission \n  \nTravel Information:  Airports\, Hotels\, Shuttle and other Nearby Services – Travel Information – Knife River Training Center
URL:https://krtrainingcenter.com/training/motor-grader-training-knife-river-only-class-is-full/
LOCATION:Knifer River Training Center – Columbia River Room\, 35973 Kennel Road SE\, Albany\, OR\, 97322\, United States
ATTACH;FMTTYPE=image/png:https://krtrainingcenter.com/wp-content/uploads/2021/10/New-TC-Motor-Grader1-e1636648882545.png
ORGANIZER;CN="Reyes%2C Alex":MAILTO:alex.reyes@kniferiver.net
END:VEVENT
BEGIN:VEVENT
DTSTART;TZID=America/Vancouver:20230117T103000
DTEND;TZID=America/Vancouver:20230119T170000
DTSTAMP:20260422T233106
CREATED:20221111T183425Z
LAST-MODIFIED:20221111T183547Z
UID:1941-1673951400-1674147600@krtrainingcenter.com
SUMMARY:Track Type Tractor Training (Dozer) - Knife River Only
DESCRIPTION:Class Information Click Here – TTT/Dozer Operator Course\nDates: Tuesday\, January 17 to Thursday\, January 19\, 2023 \nStart Time: 7:30am sharp \nEnd Time: 5:00pm \nPlease bring all your Personal Protective Equipment (PPE) each day \nDress for both indoor and outdoor activity \nSupervisors\, you can enroll multiple individuals with each submission \n  \nTravel Information:  Airports\, Hotels\, Shuttle and other Nearby Services – Travel Information – Knife River Training Center
URL:https://krtrainingcenter.com/training/track-type-tractor-training-dozer-knife-river-only-2/
LOCATION:Knifer River Training Center – Columbia River Room\, 35973 Kennel Road SE\, Albany\, OR\, 97322\, United States
ATTACH;FMTTYPE=image/png:https://krtrainingcenter.com/wp-content/uploads/2022/07/New-TC-dozer2.png
ORGANIZER;CN="Reyes%2C Alex":MAILTO:alex.reyes@kniferiver.net
END:VEVENT
END:VCALENDAR