BEGIN:VCALENDAR
VERSION:2.0
PRODID:-//Knife River Training Center - ECPv6.15.20//NONSGML v1.0//EN
CALSCALE:GREGORIAN
METHOD:PUBLISH
X-ORIGINAL-URL:https://krtrainingcenter.com
X-WR-CALDESC:Events for Knife River Training Center
REFRESH-INTERVAL;VALUE=DURATION:PT1H
X-Robots-Tag:noindex
X-PUBLISHED-TTL:PT1H
BEGIN:VTIMEZONE
TZID:America/Vancouver
BEGIN:DAYLIGHT
TZOFFSETFROM:-0800
TZOFFSETTO:-0700
TZNAME:PDT
DTSTART:20220313T100000
END:DAYLIGHT
BEGIN:STANDARD
TZOFFSETFROM:-0700
TZOFFSETTO:-0800
TZNAME:PST
DTSTART:20221106T090000
END:STANDARD
BEGIN:DAYLIGHT
TZOFFSETFROM:-0800
TZOFFSETTO:-0700
TZNAME:PDT
DTSTART:20230312T100000
END:DAYLIGHT
BEGIN:STANDARD
TZOFFSETFROM:-0700
TZOFFSETTO:-0800
TZNAME:PST
DTSTART:20231105T090000
END:STANDARD
BEGIN:DAYLIGHT
TZOFFSETFROM:-0800
TZOFFSETTO:-0700
TZNAME:PDT
DTSTART:20240310T100000
END:DAYLIGHT
BEGIN:STANDARD
TZOFFSETFROM:-0700
TZOFFSETTO:-0800
TZNAME:PST
DTSTART:20241103T090000
END:STANDARD
END:VTIMEZONE
BEGIN:VEVENT
DTSTART;VALUE=DATE:20230213
DTEND;VALUE=DATE:20230308
DTSTAMP:20260422T220715
CREATED:20220519T193225Z
LAST-MODIFIED:20230214T192918Z
UID:1413-1676246400-1678233599@krtrainingcenter.com
SUMMARY:ELDT/CDL Prep Class  2023
DESCRIPTION:This course is to obtain an “Unrestricted” Class A or Class B CDL for operating Trucks in the Construction Industry \nThis course is 3 weeks and 2 days (or approximately 136 hours) \nDate: February 13th through March 7th (Monday thru Friday) \nStart Time:  8:00am sharp \nLunch is provided. \nThis Entry Level Driver Training (ELDT) program is a partnership between Knife River and \nLinn Benton Community College.\nFor course information\, tuition and registration information please CLICK HERE\n  \nFor question and assistance please reach out to the LBCC Coordinator at 541-917-4961 or email CDL@LinnBenton.edu \n  \nItems students need before the start of class:  \n\nValid Drivers License\nCurrent Medical Card\nDOT Drug Test\nCDL Class A Permit- with a minimum of 30 days remaining at the completion of the course\nCleared through HR & have completed the “Pre-Employment” process as a driver\n\n  \n 
URL:https://krtrainingcenter.com/training/eldt-cdl-prep-class-2023/
LOCATION:Knife River Training Center – Missouri River Room\, 35973 Kennel Rd SE\, Albany\, OR\, 97322\, United States
ATTACH;FMTTYPE=image/png:https://krtrainingcenter.com/wp-content/uploads/2022/05/CDL-promo-pic-copy.png
ORGANIZER;CN="Reyes%2C Alex":MAILTO:alex.reyes@kniferiver.net
END:VEVENT
BEGIN:VEVENT
DTSTART;TZID=America/Vancouver:20230213T080000
DTEND;TZID=America/Vancouver:20230215T170000
DTSTAMP:20260422T220715
CREATED:20221027T125754Z
LAST-MODIFIED:20230208T205853Z
UID:1899-1676275200-1676480400@krtrainingcenter.com
SUMMARY:Hydraulic Excavator Operator Training - Knife River only
DESCRIPTION:Course Information Click Here – Hydraulic Excavator Operator Course\nDates: Monday\, February 13 to Wednesday\, February 15\, 2023 \nStart Time: 7:30am sharp \nEnd Time: 5:00pm \nPlease bring all your Personal Protective Equipment (PPE) each day \nDress for both indoor and outdoor activity \nSupervisors\, you can enroll multiple individuals with each submission \n  \nTravel Information:  Airports\, Hotels\, Shuttle and other Nearby Services – Travel Information – Knife River Training Center
URL:https://krtrainingcenter.com/training/hydraulic-excavator-operator-training-knife-river-only/
LOCATION:Knifer River Training Center – Columbia River Room\, 35973 Kennel Road SE\, Albany\, OR\, 97322\, United States
ATTACH;FMTTYPE=image/png:https://krtrainingcenter.com/wp-content/uploads/2020/09/knife-river-logo-color.png
ORGANIZER;CN="Reyes%2C Alex":MAILTO:alex.reyes@kniferiver.net
END:VEVENT
END:VCALENDAR