BEGIN:VCALENDAR
VERSION:2.0
PRODID:-//Knife River Training Center - ECPv6.15.20//NONSGML v1.0//EN
CALSCALE:GREGORIAN
METHOD:PUBLISH
X-ORIGINAL-URL:https://krtrainingcenter.com
X-WR-CALDESC:Events for Knife River Training Center
REFRESH-INTERVAL;VALUE=DURATION:PT1H
X-Robots-Tag:noindex
X-PUBLISHED-TTL:PT1H
BEGIN:VTIMEZONE
TZID:America/Vancouver
BEGIN:DAYLIGHT
TZOFFSETFROM:-0800
TZOFFSETTO:-0700
TZNAME:PDT
DTSTART:20220313T100000
END:DAYLIGHT
BEGIN:STANDARD
TZOFFSETFROM:-0700
TZOFFSETTO:-0800
TZNAME:PST
DTSTART:20221106T090000
END:STANDARD
BEGIN:DAYLIGHT
TZOFFSETFROM:-0800
TZOFFSETTO:-0700
TZNAME:PDT
DTSTART:20230312T100000
END:DAYLIGHT
BEGIN:STANDARD
TZOFFSETFROM:-0700
TZOFFSETTO:-0800
TZNAME:PST
DTSTART:20231105T090000
END:STANDARD
BEGIN:DAYLIGHT
TZOFFSETFROM:-0800
TZOFFSETTO:-0700
TZNAME:PDT
DTSTART:20240310T100000
END:DAYLIGHT
BEGIN:STANDARD
TZOFFSETFROM:-0700
TZOFFSETTO:-0800
TZNAME:PST
DTSTART:20241103T090000
END:STANDARD
END:VTIMEZONE
BEGIN:VEVENT
DTSTART;VALUE=DATE:20230320
DTEND;VALUE=DATE:20230412
DTSTAMP:20260422T194242
CREATED:20220519T193530Z
LAST-MODIFIED:20230404T161904Z
UID:1415-1679270400-1681257599@krtrainingcenter.com
SUMMARY:ELDT CDL Program
DESCRIPTION:This course is to obtain an “Unrestricted” Class A or Class B CDL for operating Trucks in the Construction Industry \nThis course is 3 weeks and 2 days (or approximately 136 hours) \nDate: March 20th through April 11th (Monday thru Friday) \nStart Time:  8:00am sharp \nLunch is provided. \nThis Entry Level Driver Training (ELDT) program is a partnership between Knife River and \nLinn Benton Community College.\nFor course information\, tuition and registration information please CLICK HERE\n  \nFor question and assistance please reach out to the LBCC Coordinator at 541-917-4961 or email CDL@LinnBenton.edu \n 
URL:https://krtrainingcenter.com/training/eldt-cdl-prep-class-2023-2/
LOCATION:Knife River Training Center – Snake River Room\, 35973 Kennel Road SE\, Albany\, OR\, 97322\, United States
ATTACH;FMTTYPE=image/png:https://krtrainingcenter.com/wp-content/uploads/2022/05/CDL-promo-pic-copy.png
ORGANIZER;CN="Reyes%2C Alex":MAILTO:alex.reyes@kniferiver.net
END:VEVENT
BEGIN:VEVENT
DTSTART;VALUE=DATE:20230403
DTEND;VALUE=DATE:20230406
DTSTAMP:20260422T194242
CREATED:20230202T161010Z
LAST-MODIFIED:20230404T204459Z
UID:2068-1680480000-1680739199@krtrainingcenter.com
SUMMARY:Motor Grader Training Level 2 - Knife River Only
DESCRIPTION:Dates: Monday April 3rd to Wednesday\, April 5th\, 2023 \nStart Time: 7:30am sharp \nEnd Time: 5:00pm \nPlease bring all your Personal Protective Equipment (PPE) each day \nDress for both indoor and outdoor activity \nSupervisors\, you can enroll multiple individuals with each submission \n  \nTravel Information:  Airports\, Hotels\, Shuttle and other Nearby Services – Travel Information – Knife River Training Center
URL:https://krtrainingcenter.com/training/motor-grader-training-level-2-knife-river-only/
LOCATION:Knifer River Training Center – Columbia River Room\, 35973 Kennel Road SE\, Albany\, OR\, 97322\, United States
ATTACH;FMTTYPE=image/png:https://krtrainingcenter.com/wp-content/uploads/2021/10/New-TC-Motor-Grader1-e1636648882545.png
ORGANIZER;CN="Reyes%2C Alex":MAILTO:alex.reyes@kniferiver.net
END:VEVENT
END:VCALENDAR