BEGIN:VCALENDAR
VERSION:2.0
PRODID:-//Knife River Training Center - ECPv6.15.20//NONSGML v1.0//EN
CALSCALE:GREGORIAN
METHOD:PUBLISH
X-ORIGINAL-URL:https://krtrainingcenter.com
X-WR-CALDESC:Events for Knife River Training Center
REFRESH-INTERVAL;VALUE=DURATION:PT1H
X-Robots-Tag:noindex
X-PUBLISHED-TTL:PT1H
BEGIN:VTIMEZONE
TZID:America/Vancouver
BEGIN:DAYLIGHT
TZOFFSETFROM:-0800
TZOFFSETTO:-0700
TZNAME:PDT
DTSTART:20220313T100000
END:DAYLIGHT
BEGIN:STANDARD
TZOFFSETFROM:-0700
TZOFFSETTO:-0800
TZNAME:PST
DTSTART:20221106T090000
END:STANDARD
BEGIN:DAYLIGHT
TZOFFSETFROM:-0800
TZOFFSETTO:-0700
TZNAME:PDT
DTSTART:20230312T100000
END:DAYLIGHT
BEGIN:STANDARD
TZOFFSETFROM:-0700
TZOFFSETTO:-0800
TZNAME:PST
DTSTART:20231105T090000
END:STANDARD
BEGIN:DAYLIGHT
TZOFFSETFROM:-0800
TZOFFSETTO:-0700
TZNAME:PDT
DTSTART:20240310T100000
END:DAYLIGHT
BEGIN:STANDARD
TZOFFSETFROM:-0700
TZOFFSETTO:-0800
TZNAME:PST
DTSTART:20241103T090000
END:STANDARD
END:VTIMEZONE
BEGIN:VEVENT
DTSTART;TZID=America/Vancouver:20230515T073000
DTEND;TZID=America/Vancouver:20230519T170000
DTSTAMP:20260422T193442
CREATED:20230206T164313Z
LAST-MODIFIED:20230424T171328Z
UID:2077-1684135800-1684515600@krtrainingcenter.com
SUMMARY:Leadership Development Course - Knife River Only
DESCRIPTION:Leadership Development Course (LDC) – Overview\nDates: Monday\, May 15 to Friday\, May 19\, 2023 \nStart Time: 7:30am sharp \nEnd Time: 5:00pm \nClosed toe shoes required on Friday for activities in the Dome \nDress for both indoor and outdoor activity \nSupervisors\, you can enroll multiple individuals with each submission \nFor The General Public: \nTickets are $3500.00 \nOn Sale! Course reduced to $2500.00 including daily hot lunch\, snacks and beverages.  Also includes a Thursday evening social and class supplies. \n  \nTravel Information:  Airports\, Hotels\, Shuttle and other Nearby Services – Travel Information – Knife River Training Center \n 
URL:https://krtrainingcenter.com/training/leadership-development-course-open-to-public-3/
LOCATION:Knife River Training Center – Copper River Room\, 35973 Kennel Road SE\, Albany\, OR\, 97322\, United States
ATTACH;FMTTYPE=image/png:https://krtrainingcenter.com/wp-content/uploads/2020/09/knife-river-logo-color.png
ORGANIZER;CN="Reyes%2C Alex":MAILTO:alex.reyes@kniferiver.net
END:VEVENT
BEGIN:VEVENT
DTSTART;TZID=America/Vancouver:20230517T073000
DTEND;TZID=America/Vancouver:20230519T170000
DTSTAMP:20260422T193442
CREATED:20230403T213112Z
LAST-MODIFIED:20230403T213112Z
UID:2242-1684308600-1684515600@krtrainingcenter.com
SUMMARY:Wheel Loader - Knife River Only
DESCRIPTION:Content is protected.
URL:https://krtrainingcenter.com/training/wheel-loader-knife-river-only-5/
LOCATION:Knife River Training Center – Missouri River Room\, 35973 Kennel Rd SE\, Albany\, OR\, 97322\, United States
ORGANIZER;CN="Reyes%2C Alex":MAILTO:alex.reyes@kniferiver.net
END:VEVENT
END:VCALENDAR