BEGIN:VCALENDAR
VERSION:2.0
PRODID:-//Knife River Training Center - ECPv6.15.20//NONSGML v1.0//EN
CALSCALE:GREGORIAN
METHOD:PUBLISH
X-ORIGINAL-URL:https://krtrainingcenter.com
X-WR-CALDESC:Events for Knife River Training Center
REFRESH-INTERVAL;VALUE=DURATION:PT1H
X-Robots-Tag:noindex
X-PUBLISHED-TTL:PT1H
BEGIN:VTIMEZONE
TZID:America/Vancouver
BEGIN:DAYLIGHT
TZOFFSETFROM:-0800
TZOFFSETTO:-0700
TZNAME:PDT
DTSTART:20220313T100000
END:DAYLIGHT
BEGIN:STANDARD
TZOFFSETFROM:-0700
TZOFFSETTO:-0800
TZNAME:PST
DTSTART:20221106T090000
END:STANDARD
BEGIN:DAYLIGHT
TZOFFSETFROM:-0800
TZOFFSETTO:-0700
TZNAME:PDT
DTSTART:20230312T100000
END:DAYLIGHT
BEGIN:STANDARD
TZOFFSETFROM:-0700
TZOFFSETTO:-0800
TZNAME:PST
DTSTART:20231105T090000
END:STANDARD
BEGIN:DAYLIGHT
TZOFFSETFROM:-0800
TZOFFSETTO:-0700
TZNAME:PDT
DTSTART:20240310T100000
END:DAYLIGHT
BEGIN:STANDARD
TZOFFSETFROM:-0700
TZOFFSETTO:-0800
TZNAME:PST
DTSTART:20241103T090000
END:STANDARD
END:VTIMEZONE
BEGIN:VEVENT
DTSTART;TZID=America/Vancouver:20230809T073000
DTEND;TZID=America/Vancouver:20230809T170000
DTSTAMP:20260422T140429
CREATED:20230724T181439Z
LAST-MODIFIED:20230807T170740Z
UID:2434-1691566200-1691600400@krtrainingcenter.com
SUMMARY:Dozer 2D
DESCRIPTION:There are many features that are now standard on the newer Dozers.  The students will not only get to see how to make changes but will also get to operate the machine to see how the features work.  We will be going over slope assist\, and blade assist and how to change the wear on the blade so we can keep an accurate grade. \nDates: Wednesday\, August 9\, 2023 \nStart Time: 7:30am sharp \nEnd Time: 5:00pm \nPlease bring all your Personal Protective Equipment (PPE) each day \nDress for both indoor and outdoor activity \nSupervisors\, you can enroll multiple individuals with each submission \n  \nTravel Information:  Airports\, Hotels\, Shuttle and other Nearby Services – Travel Information – Knife River Training Center \nCancellation Policy: If\, for any reason\, you and/or any student(s) you’re registering cannot attend a class\, you’ll receive a full refund or are not charged if you cancel 14 days prior to the start of the scheduled class. Please call the Training Center Office to cancel or email alex.reyes@kniferiver.com \nIf you cannot cancel less than 14 days prior to the start of your scheduled class\, then 30% of your course fee is non-refundable.\nTransferring to another scheduled class must be made 14 days prior to the start of the scheduled class or may be subject to a transfer fee. \nStudent’s who do not show up for their registered course will forfeit all tuition.
URL:https://krtrainingcenter.com/training/dozer-2d/
LOCATION:Knife River Training Center – Copper River Room\, 35973 Kennel Road SE\, Albany\, OR\, 97322\, United States
ORGANIZER;CN="Abbott%2C Dan":MAILTO:dan.abbott@kniferiver.com
END:VEVENT
END:VCALENDAR