BEGIN:VCALENDAR
VERSION:2.0
PRODID:-//Knife River Training Center - ECPv6.15.20//NONSGML v1.0//EN
CALSCALE:GREGORIAN
METHOD:PUBLISH
X-ORIGINAL-URL:https://krtrainingcenter.com
X-WR-CALDESC:Events for Knife River Training Center
REFRESH-INTERVAL;VALUE=DURATION:PT1H
X-Robots-Tag:noindex
X-PUBLISHED-TTL:PT1H
BEGIN:VTIMEZONE
TZID:America/Vancouver
BEGIN:DAYLIGHT
TZOFFSETFROM:-0800
TZOFFSETTO:-0700
TZNAME:PDT
DTSTART:20230312T100000
END:DAYLIGHT
BEGIN:STANDARD
TZOFFSETFROM:-0700
TZOFFSETTO:-0800
TZNAME:PST
DTSTART:20231105T090000
END:STANDARD
BEGIN:DAYLIGHT
TZOFFSETFROM:-0800
TZOFFSETTO:-0700
TZNAME:PDT
DTSTART:20240310T100000
END:DAYLIGHT
BEGIN:STANDARD
TZOFFSETFROM:-0700
TZOFFSETTO:-0800
TZNAME:PST
DTSTART:20241103T090000
END:STANDARD
BEGIN:DAYLIGHT
TZOFFSETFROM:-0800
TZOFFSETTO:-0700
TZNAME:PDT
DTSTART:20250309T100000
END:DAYLIGHT
BEGIN:STANDARD
TZOFFSETFROM:-0700
TZOFFSETTO:-0800
TZNAME:PST
DTSTART:20251102T090000
END:STANDARD
END:VTIMEZONE
BEGIN:VEVENT
DTSTART;TZID=America/Vancouver:20240129T073000
DTEND;TZID=America/Vancouver:20240131T163000
DTSTAMP:20260422T003134
CREATED:20231004T205758Z
LAST-MODIFIED:20231004T205758Z
UID:2674-1706513400-1706718600@krtrainingcenter.com
SUMMARY:Hydraulic Excavator Operator Training - Knife River Only
DESCRIPTION:Course Information Click Here – Hydraulic Excavator Operator Course\nDates: Monday\, January 29 to Wednesday\, January 31\, 2024 \nStart Time: 7:30am sharp \nEnd Time: 4:30pm \nPlease bring all your Personal Protective Equipment (PPE) each day \nDress for both indoor and outdoor activity \nSupervisors\, you can enroll multiple individuals with each submission \n  \nTravel Information:  Airports\, Hotels\, Shuttle and other Nearby Services – Travel Information – Knife River Training Center \nCancellation Policy: If\, for any reason\, you and/or any student(s) you’re registering cannot attend a class\, you’ll receive a full refund or are not charged if you cancel 14 days prior to the start of the scheduled class. Please call the Training Center Office to cancel or email alex.reyes@kniferiver.com \nIf you cannot cancel less than 14 days prior to the start of your scheduled class\, then 30% of your course fee is non-refundable.\nTransferring to another scheduled class must be made 14 days prior to the start of the scheduled class or may be subject to a transfer fee. \nStudent’s who do not show up for their registered course will forfeit all tuition.
URL:https://krtrainingcenter.com/training/hydraulic-excavator-operator-training-knife-river-only-3/
LOCATION:Knifer River Training Center – Columbia River Room\, 35973 Kennel Road SE\, Albany\, OR\, 97322\, United States
ATTACH;FMTTYPE=image/png:https://krtrainingcenter.com/wp-content/uploads/2020/09/knife-river-logo-color.png
END:VEVENT
BEGIN:VEVENT
DTSTART;TZID=America/Vancouver:20240129T073000
DTEND;TZID=America/Vancouver:20240131T163000
DTSTAMP:20260422T003134
CREATED:20231004T210659Z
LAST-MODIFIED:20231004T210659Z
UID:2673-1706513400-1706718600@krtrainingcenter.com
SUMMARY:Track Type Tractor Training (Dozer) - Knife River Only
DESCRIPTION:Class Information Click Here – TTT/Dozer Operator Course\nDates: Monday\, January 29th to Wednesday\, January 31\, 2024 \nStart Time: 7:30am sharp \nEnd Time: 4:30pm \nPlease bring all your Personal Protective Equipment (PPE) each day \nDress for both indoor and outdoor activity \nSupervisors\, you can enroll multiple individuals with each submission \n  \nTravel Information:  Airports\, Hotels\, Shuttle and other Nearby Services – Travel Information – Knife River Training Center \nCancellation Policy: If\, for any reason\, you and/or any student(s) you’re registering cannot attend a class\, you’ll receive a full refund or are not charged if you cancel 14 days prior to the start of the scheduled class. Please call the Training Center Office to cancel or email alex.reyes@kniferiver.com \nIf you cannot cancel less than 14 days prior to the start of your scheduled class\, then 30% of your course fee is non-refundable.\nTransferring to another scheduled class must be made 14 days prior to the start of the scheduled class or may be subject to a transfer fee. \nStudent’s who do not show up for their registered course will forfeit all tuition.
URL:https://krtrainingcenter.com/training/track-type-tractor-training-dozer-knife-river-only-4/
LOCATION:Knife River Training Center – Snake River Room\, 35973 Kennel Road SE\, Albany\, OR\, 97322\, United States
ATTACH;FMTTYPE=image/png:https://krtrainingcenter.com/wp-content/uploads/2022/07/New-TC-dozer2.png
END:VEVENT
END:VCALENDAR