BEGIN:VCALENDAR
VERSION:2.0
PRODID:-//Knife River Training Center - ECPv6.15.20//NONSGML v1.0//EN
CALSCALE:GREGORIAN
METHOD:PUBLISH
X-ORIGINAL-URL:https://krtrainingcenter.com
X-WR-CALDESC:Events for Knife River Training Center
REFRESH-INTERVAL;VALUE=DURATION:PT1H
X-Robots-Tag:noindex
X-PUBLISHED-TTL:PT1H
BEGIN:VTIMEZONE
TZID:America/Vancouver
BEGIN:DAYLIGHT
TZOFFSETFROM:-0800
TZOFFSETTO:-0700
TZNAME:PDT
DTSTART:20230312T100000
END:DAYLIGHT
BEGIN:STANDARD
TZOFFSETFROM:-0700
TZOFFSETTO:-0800
TZNAME:PST
DTSTART:20231105T090000
END:STANDARD
BEGIN:DAYLIGHT
TZOFFSETFROM:-0800
TZOFFSETTO:-0700
TZNAME:PDT
DTSTART:20240310T100000
END:DAYLIGHT
BEGIN:STANDARD
TZOFFSETFROM:-0700
TZOFFSETTO:-0800
TZNAME:PST
DTSTART:20241103T090000
END:STANDARD
BEGIN:DAYLIGHT
TZOFFSETFROM:-0800
TZOFFSETTO:-0700
TZNAME:PDT
DTSTART:20250309T100000
END:DAYLIGHT
BEGIN:STANDARD
TZOFFSETFROM:-0700
TZOFFSETTO:-0800
TZNAME:PST
DTSTART:20251102T090000
END:STANDARD
END:VTIMEZONE
BEGIN:VEVENT
DTSTART;VALUE=DATE:20240318
DTEND;VALUE=DATE:20240410
DTSTAMP:20260422T004116
CREATED:20230825T170005Z
LAST-MODIFIED:20240215T170617Z
UID:2536-1710720000-1712707199@krtrainingcenter.com
SUMMARY:ELDT/CDL Program
DESCRIPTION:This course is to obtain an “Unrestricted” Class A or Class B CDL for operating Commercial Motor Vehicles (CMV) \nThis course is 3 weeks and 2 days (or approximately 136 hours) \nDate: March 18th through April 9th (Monday thru Friday) \nStart Time:  7:30am sharp! \nLunch is provided. \nThis Entry Level Driver Training (ELDT) program is a partnership between Knife River and \nLinn Benton Community College.\nFor course information\, tuition and registration information please CLICK HERE\n  \nFor question and assistance please reach out to the LBCC Coordinator at 541-917-4961 or email CDL@LinnBenton.edu \n 
URL:https://krtrainingcenter.com/training/eldt-cdl-program-3/
LOCATION:Knife River Training Center – Missouri River Room\, 35973 Kennel Rd SE\, Albany\, OR\, 97322\, United States
ATTACH;FMTTYPE=image/jpeg:https://krtrainingcenter.com/wp-content/uploads/2023/08/Class-A-CDL.jpg
ORGANIZER;CN="Reyes%2C Alex":MAILTO:alex.reyes@kniferiver.net
END:VEVENT
BEGIN:VEVENT
DTSTART;TZID=America/Vancouver:20240318T073000
DTEND;TZID=America/Vancouver:20240322T163000
DTSTAMP:20260422T004116
CREATED:20240206T163011Z
LAST-MODIFIED:20240215T170351Z
UID:2924-1710747000-1711125000@krtrainingcenter.com
SUMMARY:Level 1 Construction Bootcamp
DESCRIPTION:Level 1 – Construction / Industry Bootcamp\nKRTC’s Bootcamp provides entry level skills training for individuals interested in careers in construction\, transportation\, or warehousing. \nFive-day course includes: \n\nOSHA 10 Certification\nBasic First Aid\, CPR\, AED Card\nEntry Level Equipment Operation:  Skid Steer\, Manlift\, Telehandler/Forklift\n\nTuition:  $3500/student includes course\, certification/cards\, daily hot lunch. \nTuition support may be available for qualifying applicants. \nFor additional information contact Kris Latimer at kris.latimer@kniferiver.com
URL:https://krtrainingcenter.com/training/level-1-construction-bootcamp-copy/
ORGANIZER;CN="Kris Latimer":MAILTO:kris.latimer@kniferiver.net
END:VEVENT
BEGIN:VEVENT
DTSTART;TZID=America/Vancouver:20240318T073000
DTEND;TZID=America/Vancouver:20240322T170000
DTSTAMP:20260422T004116
CREATED:20230811T175803Z
LAST-MODIFIED:20231201T185101Z
UID:2472-1710747000-1711126800@krtrainingcenter.com
SUMMARY:Leadership Development Course - Class is Full!
DESCRIPTION:Leadership Development Course (LDC) – Overview\nDates: Monday\, March 18th to Friday\, March 22nd\, 2024 \nStart Time: 7:30am sharp! \nEnd Time: 5:00pm \nClosed toe shoes required on Friday for activities in the Dome \nDress for both indoor and outdoor activity \nSupervisors\, you can enroll multiple individuals with each submission. \nFor The General Public: \nTickets are $3500.00 \nOn Sale! Course reduced to $2500.00 including daily hot lunch\, snacks and beverages.  Also includes a Thursday evening social and class supplies. \n  \nTravel Information:  Airports\, Hotels\, Shuttle and other Nearby Services – Travel Information – Knife River Training Center \nCancellation Policy: If\, for any reason\, you and/or any student(s) you’re registering cannot attend a class\, you’ll receive a full refund or are not charged if you cancel 14 days prior to the start of the scheduled class. Please call the Training Center Office to cancel or email alex.reyes@kniferiver.com \nIf you cannot cancel less than 14 days prior to the start of your scheduled class\, then 30% of your course fee is non-refundable.\nTransferring to another scheduled class must be made 14 days prior to the start of the scheduled class or may be subject to a transfer fee. \nStudent’s who do not show up for their registered course will forfeit all tuition.
URL:https://krtrainingcenter.com/training/leadership-development-course-open-to-public-9/
LOCATION:Knife River Training Center – Snake River Room\, 35973 Kennel Road SE\, Albany\, OR\, 97322\, United States
ATTACH;FMTTYPE=image/png:https://krtrainingcenter.com/wp-content/uploads/2020/09/knife-river-logo-color.png
ORGANIZER;CN="Reyes%2C Alex":MAILTO:alex.reyes@kniferiver.net
END:VEVENT
END:VCALENDAR