BEGIN:VCALENDAR
VERSION:2.0
PRODID:-//Knife River Training Center - ECPv6.15.20//NONSGML v1.0//EN
CALSCALE:GREGORIAN
METHOD:PUBLISH
X-WR-CALNAME:Knife River Training Center
X-ORIGINAL-URL:https://krtrainingcenter.com
X-WR-CALDESC:Events for Knife River Training Center
REFRESH-INTERVAL;VALUE=DURATION:PT1H
X-Robots-Tag:noindex
X-PUBLISHED-TTL:PT1H
BEGIN:VTIMEZONE
TZID:America/Vancouver
BEGIN:DAYLIGHT
TZOFFSETFROM:-0800
TZOFFSETTO:-0700
TZNAME:PDT
DTSTART:20230312T100000
END:DAYLIGHT
BEGIN:STANDARD
TZOFFSETFROM:-0700
TZOFFSETTO:-0800
TZNAME:PST
DTSTART:20231105T090000
END:STANDARD
BEGIN:DAYLIGHT
TZOFFSETFROM:-0800
TZOFFSETTO:-0700
TZNAME:PDT
DTSTART:20240310T100000
END:DAYLIGHT
BEGIN:STANDARD
TZOFFSETFROM:-0700
TZOFFSETTO:-0800
TZNAME:PST
DTSTART:20241103T090000
END:STANDARD
BEGIN:DAYLIGHT
TZOFFSETFROM:-0800
TZOFFSETTO:-0700
TZNAME:PDT
DTSTART:20250309T100000
END:DAYLIGHT
BEGIN:STANDARD
TZOFFSETFROM:-0700
TZOFFSETTO:-0800
TZNAME:PST
DTSTART:20251102T090000
END:STANDARD
END:VTIMEZONE
BEGIN:VEVENT
DTSTART;VALUE=DATE:20240318
DTEND;VALUE=DATE:20240410
DTSTAMP:20260421T231047
CREATED:20230825T170005Z
LAST-MODIFIED:20240215T170617Z
UID:2536-1710720000-1712707199@krtrainingcenter.com
SUMMARY:ELDT/CDL Program
DESCRIPTION:This course is to obtain an “Unrestricted” Class A or Class B CDL for operating Commercial Motor Vehicles (CMV) \nThis course is 3 weeks and 2 days (or approximately 136 hours) \nDate: March 18th through April 9th (Monday thru Friday) \nStart Time:  7:30am sharp! \nLunch is provided. \nThis Entry Level Driver Training (ELDT) program is a partnership between Knife River and \nLinn Benton Community College.\nFor course information\, tuition and registration information please CLICK HERE\n  \nFor question and assistance please reach out to the LBCC Coordinator at 541-917-4961 or email CDL@LinnBenton.edu \n 
URL:https://krtrainingcenter.com/training/eldt-cdl-program-3/
LOCATION:Knife River Training Center – Missouri River Room\, 35973 Kennel Rd SE\, Albany\, OR\, 97322\, United States
ATTACH;FMTTYPE=image/jpeg:https://krtrainingcenter.com/wp-content/uploads/2023/08/Class-A-CDL.jpg
ORGANIZER;CN="Reyes%2C Alex":MAILTO:alex.reyes@kniferiver.net
END:VEVENT
BEGIN:VEVENT
DTSTART;TZID=America/Vancouver:20240325T073000
DTEND;TZID=America/Vancouver:20240326T163000
DTSTAMP:20260421T231047
CREATED:20240228T181110Z
LAST-MODIFIED:20240315T181305Z
UID:2966-1711351800-1711470600@krtrainingcenter.com
SUMMARY:Top Drum / Top Wheel Train the Trainer
DESCRIPTION:Dates: Monday\, March 25th to Tuesday\, March 26th\, 2024 \nStart Time: 7:30am sharp \nEnd Time: 4:30pm \nPPE Required \nDress for both indoor and outdoor activity \nThis course is for new or recertifying Top Drum or Wheel trainers only – Mentor Driver is not yet scheduled.  If Top Drum/Wheel is new to you\, or you’re unfamiliar with it then we strongly encourage you to attend as well! It is the Knife River standard for all drivers of Commercial Vehicles. \nSupervisors\, you can enroll multiple individuals with each submission. \nThis course will be going over inputting data electronically.  An iPad will be needed.  Please bring a company provided iPad if you have one.  For those who do not have access to one\, an iPad will be provided during this course. \n  \nTravel Information:  Airports\, Hotels\, Shuttle and other Nearby Services – Travel Information – Knife River Training Center \nCancellation Policy: If\, for any reason\, you and/or any student(s) you’re registering cannot attend a class\, you’ll receive a full refund or are not charged if you cancel 14 days prior to the start of the scheduled class. Please call the Training Center Office to cancel or email alex.reyes@kniferiver.com \nIf you cannot cancel less than 14 days prior to the start of your scheduled class\, then 30% of your course fee is non-refundable.\nTransferring to another scheduled class must be made 14 days prior to the start of the scheduled class or may be subject to a transfer fee. \nStudent’s who do not show up for their registered course will forfeit all tuition.
URL:https://krtrainingcenter.com/training/top-drum-top-wheel-train-the-trainer-knife-river-only-5/
LOCATION:Knife River Training Center – Snake River Room\, 35973 Kennel Road SE\, Albany\, OR\, 97322\, United States
CATEGORIES:Training
ATTACH;FMTTYPE=image/png:https://krtrainingcenter.com/wp-content/uploads/2023/08/Untitled-1.png
END:VEVENT
BEGIN:VEVENT
DTSTART;TZID=America/Vancouver:20240325T073000
DTEND;TZID=America/Vancouver:20240327T163000
DTSTAMP:20260421T231047
CREATED:20240131T162732Z
LAST-MODIFIED:20240315T181028Z
UID:2910-1711351800-1711557000@krtrainingcenter.com
SUMMARY:Skid Steer Loader Level 2 Training- Knife River Only
DESCRIPTION:Class Information:  Skid Steer/Compact Track Loader Course \nDates: Monday\, March 25th to Wednesday\, March 27th\, 2024 \nStart Time: 7:30am sharp \nEnd Time: 4:30pm \nPPE Required \nDress for both indoor and outdoor activity \nThis course is for experienced operators with at least 6 months of seat time prior to the training. \nSupervisors\, you can enroll multiple individuals with each submission. \nTravel Information:  Airports\, Hotels\, Shuttle and other Nearby Services – Travel Information – Knife River Training Center \nCancellation Policy: If\, for any reason\, you and/or any student(s) you’re registering cannot attend a class\, you’ll receive a full refund or are not charged if you cancel 14 days prior to the start of the scheduled class. Please call the Training Center Office to cancel or email alex.reyes@kniferiver.com \nIf you cannot cancel less than 14 days prior to the start of your scheduled class\, then 30% of your course fee is non-refundable.\nTransferring to another scheduled class must be made 14 days prior to the start of the scheduled class or may be subject to a transfer fee. \nStudent’s who do not show up for their registered course will forfeit all tuition.
URL:https://krtrainingcenter.com/training/skid-steer-loader-level-2-training-knife-river-only-2/
LOCATION:Knifer River Training Center – Columbia River Room\, 35973 Kennel Road SE\, Albany\, OR\, 97322\, United States
END:VEVENT
END:VCALENDAR