BEGIN:VCALENDAR
VERSION:2.0
PRODID:-//Knife River Training Center - ECPv6.15.20//NONSGML v1.0//EN
CALSCALE:GREGORIAN
METHOD:PUBLISH
X-ORIGINAL-URL:https://krtrainingcenter.com
X-WR-CALDESC:Events for Knife River Training Center
REFRESH-INTERVAL;VALUE=DURATION:PT1H
X-Robots-Tag:noindex
X-PUBLISHED-TTL:PT1H
BEGIN:VTIMEZONE
TZID:America/Vancouver
BEGIN:DAYLIGHT
TZOFFSETFROM:-0800
TZOFFSETTO:-0700
TZNAME:PDT
DTSTART:20230312T100000
END:DAYLIGHT
BEGIN:STANDARD
TZOFFSETFROM:-0700
TZOFFSETTO:-0800
TZNAME:PST
DTSTART:20231105T090000
END:STANDARD
BEGIN:DAYLIGHT
TZOFFSETFROM:-0800
TZOFFSETTO:-0700
TZNAME:PDT
DTSTART:20240310T100000
END:DAYLIGHT
BEGIN:STANDARD
TZOFFSETFROM:-0700
TZOFFSETTO:-0800
TZNAME:PST
DTSTART:20241103T090000
END:STANDARD
BEGIN:DAYLIGHT
TZOFFSETFROM:-0800
TZOFFSETTO:-0700
TZNAME:PDT
DTSTART:20250309T100000
END:DAYLIGHT
BEGIN:STANDARD
TZOFFSETFROM:-0700
TZOFFSETTO:-0800
TZNAME:PST
DTSTART:20251102T090000
END:STANDARD
END:VTIMEZONE
BEGIN:VEVENT
DTSTART;TZID=America/Vancouver:20240520T073000
DTEND;TZID=America/Vancouver:20240524T170000
DTSTAMP:20260421T203649
CREATED:20240424T180625Z
LAST-MODIFIED:20240424T180625Z
UID:3110-1716190200-1716570000@krtrainingcenter.com
SUMMARY:Leadership Development Course - KRC South
DESCRIPTION:Content is protected.
URL:https://krtrainingcenter.com/training/leadership-development-course-krc-south/
LOCATION:Knife River Training Center – Copper River Room\, 35973 Kennel Road SE\, Albany\, OR\, 97322\, United States
ORGANIZER;CN="Reyes%2C Alex":MAILTO:alex.reyes@kniferiver.net
END:VEVENT
BEGIN:VEVENT
DTSTART;TZID=America/Vancouver:20240521T080000
DTEND;TZID=America/Vancouver:20240522T160000
DTSTAMP:20260421T203649
CREATED:20240416T202630Z
LAST-MODIFIED:20240416T202630Z
UID:3100-1716278400-1716393600@krtrainingcenter.com
SUMMARY:Certified Erosion and Sediment Control Lead (CESCL) Full Certification
DESCRIPTION:The full CESCL Certification course is 16 total hours including both in-person classroom-based learning as well as hands-on field-based practical application. \nThis training is being delivered by CWT Training Academy which is not affiliated with Knife River Corporation. \nCost is $400/person \nRegister at https://www.cwtacademy.com/pages/live-events-and-classes
URL:https://krtrainingcenter.com/training/certified-erosion-and-sediment-control-lead-cescl-full-certification-2/
LOCATION:Knife River Training Center – Brazos River Room\, 35973 Kennel Road SE\, Albany\, OR\, 97322\, United States
ORGANIZER;CN="Nathan Hardebeck":MAILTO:nathanh@cwtacademy.com
END:VEVENT
END:VCALENDAR