BEGIN:VCALENDAR
VERSION:2.0
PRODID:-//Knife River Training Center - ECPv6.15.20//NONSGML v1.0//EN
CALSCALE:GREGORIAN
METHOD:PUBLISH
X-ORIGINAL-URL:https://krtrainingcenter.com
X-WR-CALDESC:Events for Knife River Training Center
REFRESH-INTERVAL;VALUE=DURATION:PT1H
X-Robots-Tag:noindex
X-PUBLISHED-TTL:PT1H
BEGIN:VTIMEZONE
TZID:America/Vancouver
BEGIN:DAYLIGHT
TZOFFSETFROM:-0800
TZOFFSETTO:-0700
TZNAME:PDT
DTSTART:20230312T100000
END:DAYLIGHT
BEGIN:STANDARD
TZOFFSETFROM:-0700
TZOFFSETTO:-0800
TZNAME:PST
DTSTART:20231105T090000
END:STANDARD
BEGIN:DAYLIGHT
TZOFFSETFROM:-0800
TZOFFSETTO:-0700
TZNAME:PDT
DTSTART:20240310T100000
END:DAYLIGHT
BEGIN:STANDARD
TZOFFSETFROM:-0700
TZOFFSETTO:-0800
TZNAME:PST
DTSTART:20241103T090000
END:STANDARD
BEGIN:DAYLIGHT
TZOFFSETFROM:-0800
TZOFFSETTO:-0700
TZNAME:PDT
DTSTART:20250309T100000
END:DAYLIGHT
BEGIN:STANDARD
TZOFFSETFROM:-0700
TZOFFSETTO:-0800
TZNAME:PST
DTSTART:20251102T090000
END:STANDARD
END:VTIMEZONE
BEGIN:VEVENT
DTSTART;VALUE=DATE:20240708
DTEND;VALUE=DATE:20240731
DTSTAMP:20260421T180706
CREATED:20230825T174207Z
LAST-MODIFIED:20230825T174207Z
UID:2542-1720396800-1722383999@krtrainingcenter.com
SUMMARY:ELDT/CDL Program
DESCRIPTION:This course is to obtain an “Unrestricted” Class A or Class B CDL for operating Trucks in the Construction Industry \nThis course is 3 weeks and 2 days (or approximately 136 hours) \nDate: July 8th through July 30th (Monday thru Friday) \nStart Time:  7:30am sharp! \nLunch is provided. \nThis Entry Level Driver Training (ELDT) program is a partnership between Knife River and \nLinn Benton Community College.\nFor course information\, tuition and registration information please CLICK HERE\n  \nFor question and assistance please reach out to the LBCC Coordinator at 541-917-4961 or email CDL@LinnBenton.edu \n 
URL:https://krtrainingcenter.com/training/eldt-cdl-program-6/
LOCATION:Knife River Training Center – Missouri River Room\, 35973 Kennel Rd SE\, Albany\, OR\, 97322\, United States
ATTACH;FMTTYPE=image/png:https://krtrainingcenter.com/wp-content/uploads/2022/05/CDL-promo-pic-copy.png
ORGANIZER;CN="Reyes%2C Alex":MAILTO:alex.reyes@kniferiver.net
END:VEVENT
BEGIN:VEVENT
DTSTART;VALUE=DATE:20240722
DTEND;VALUE=DATE:20240727
DTSTAMP:20260421T180706
CREATED:20240402T231158Z
LAST-MODIFIED:20240711T202118Z
UID:3077-1721606400-1722038399@krtrainingcenter.com
SUMMARY:Instructor Development Course - Dirt World- Open To The Public
DESCRIPTION:Course Description:   Instructor Development Course \nDates: Monday\, July 22nd to Friday\, July 26th\, 2024 \nStart Time: 7:30am sharp \nEnd Time: 4:30pm \nClosed toe shoes required on Friday for activity in the Dome \nDress for both indoor and outdoor activity \nSupervisors\, you can enroll multiple individuals with each submission. \nFor The General Public: \nTickets are $3500.00 \nOn Sale! Course is reduced to $2500.00 including daily hot lunch\, snacks and beverages.  Also includes a Thursday evening social and class supplies. \nNote:  For extra savings\, don’t forget to add the coupon code that you received at the Dirt World Workshop. \nTravel Information:  Airports\, Hotels\, Shuttle and other Nearby Services – Travel Information – Knife River Training Center
URL:https://krtrainingcenter.com/training/instructor-development-course-4/
LOCATION:Knife River Training Center – Snake River Room\, 35973 Kennel Road SE\, Albany\, OR\, 97322\, United States
ATTACH;FMTTYPE=image/png:https://krtrainingcenter.com/wp-content/uploads/2020/09/knife-river-logo-color.png
ORGANIZER;CN="Reyes%2C Alex":MAILTO:alex.reyes@kniferiver.net
END:VEVENT
END:VCALENDAR