BEGIN:VCALENDAR
VERSION:2.0
PRODID:-//Knife River Training Center - ECPv6.15.20//NONSGML v1.0//EN
CALSCALE:GREGORIAN
METHOD:PUBLISH
X-WR-CALNAME:Knife River Training Center
X-ORIGINAL-URL:https://krtrainingcenter.com
X-WR-CALDESC:Events for Knife River Training Center
REFRESH-INTERVAL;VALUE=DURATION:PT1H
X-Robots-Tag:noindex
X-PUBLISHED-TTL:PT1H
BEGIN:VTIMEZONE
TZID:America/Vancouver
BEGIN:DAYLIGHT
TZOFFSETFROM:-0800
TZOFFSETTO:-0700
TZNAME:PDT
DTSTART:20230312T100000
END:DAYLIGHT
BEGIN:STANDARD
TZOFFSETFROM:-0700
TZOFFSETTO:-0800
TZNAME:PST
DTSTART:20231105T090000
END:STANDARD
BEGIN:DAYLIGHT
TZOFFSETFROM:-0800
TZOFFSETTO:-0700
TZNAME:PDT
DTSTART:20240310T100000
END:DAYLIGHT
BEGIN:STANDARD
TZOFFSETFROM:-0700
TZOFFSETTO:-0800
TZNAME:PST
DTSTART:20241103T090000
END:STANDARD
BEGIN:DAYLIGHT
TZOFFSETFROM:-0800
TZOFFSETTO:-0700
TZNAME:PDT
DTSTART:20250309T100000
END:DAYLIGHT
BEGIN:STANDARD
TZOFFSETFROM:-0700
TZOFFSETTO:-0800
TZNAME:PST
DTSTART:20251102T090000
END:STANDARD
END:VTIMEZONE
BEGIN:VEVENT
DTSTART;TZID=America/Vancouver:20240806T080000
DTEND;TZID=America/Vancouver:20240806T120000
DTSTAMP:20260421T164622
CREATED:20240712T220519Z
LAST-MODIFIED:20240715T150219Z
UID:3292-1722931200-1722945600@krtrainingcenter.com
SUMMARY:Basic Life Support - CPR/AED - Knife River Only
DESCRIPTION:The AHA Basic Life Support (BLS) course trains participants to promptly recognize several life-threatening emergencies\, give high-quality chest compressions\, deliver appropriate ventilations and provide early use of an AED.  Reflects science and education from the American Heart Association Guidelines\, Update for CPR and Emergency Cardiovascular Care (ECC). \nThis is a very hands-on course.  Expect to deliver a lot of practice chest compressions and ventilation both as a team and solo. \nA EMT/Firefighter from the Philomath Fire Department will be providing the training. \n 
URL:https://krtrainingcenter.com/training/basic-life-support-cpr-aed-knife-river-only/
LOCATION:Knife River Training Center – Copper River Room\, 35973 Kennel Road SE\, Albany\, OR\, 97322\, United States
ORGANIZER;CN="Reyes%2C Alex":MAILTO:alex.reyes@kniferiver.net
END:VEVENT
BEGIN:VEVENT
DTSTART;TZID=America/Vancouver:20240806T130000
DTEND;TZID=America/Vancouver:20240806T150000
DTSTAMP:20260421T164622
CREATED:20240712T214730Z
LAST-MODIFIED:20240715T160738Z
UID:3300-1722949200-1722956400@krtrainingcenter.com
SUMMARY:Basic Life Support - CPR/AED Refresher - Knife River Only
DESCRIPTION:The AHA Basic Life Support (BLS) course trains participants to promptly recognize several life-threatening emergencies\, give high-quality chest compressions\, deliver appropriate ventilations and provide early use of an AED.  Reflects science and education from the American Heart Association Guidelines\, Update for CPR and Emergency Cardiovascular Care (ECC). \nThis is a very hands-on course.  Expect to deliver a lot of practice chest compressions and ventilation both as a team and solo. \nAn EMT/Firefighter from the Philomath Fire Department will be providing the training. \n 
URL:https://krtrainingcenter.com/training/basic-life-support-cpr-aed-refresher-american-heart-association-knife-river-only/
LOCATION:Knife River Training Center – Copper River Room\, 35973 Kennel Road SE\, Albany\, OR\, 97322\, United States
ORGANIZER;CN="Reyes%2C Alex":MAILTO:alex.reyes@kniferiver.net
END:VEVENT
END:VCALENDAR