BEGIN:VCALENDAR
VERSION:2.0
PRODID:-//Knife River Training Center - ECPv6.15.20//NONSGML v1.0//EN
CALSCALE:GREGORIAN
METHOD:PUBLISH
X-ORIGINAL-URL:https://krtrainingcenter.com
X-WR-CALDESC:Events for Knife River Training Center
REFRESH-INTERVAL;VALUE=DURATION:PT1H
X-Robots-Tag:noindex
X-PUBLISHED-TTL:PT1H
BEGIN:VTIMEZONE
TZID:America/Vancouver
BEGIN:DAYLIGHT
TZOFFSETFROM:-0800
TZOFFSETTO:-0700
TZNAME:PDT
DTSTART:20240310T100000
END:DAYLIGHT
BEGIN:STANDARD
TZOFFSETFROM:-0700
TZOFFSETTO:-0800
TZNAME:PST
DTSTART:20241103T090000
END:STANDARD
BEGIN:DAYLIGHT
TZOFFSETFROM:-0800
TZOFFSETTO:-0700
TZNAME:PDT
DTSTART:20250309T100000
END:DAYLIGHT
BEGIN:STANDARD
TZOFFSETFROM:-0700
TZOFFSETTO:-0800
TZNAME:PST
DTSTART:20251102T090000
END:STANDARD
BEGIN:DAYLIGHT
TZOFFSETFROM:-0800
TZOFFSETTO:-0700
TZNAME:PDT
DTSTART:20260308T100000
END:DAYLIGHT
BEGIN:STANDARD
TZOFFSETFROM:-0700
TZOFFSETTO:-0800
TZNAME:PST
DTSTART:20261101T090000
END:STANDARD
END:VTIMEZONE
BEGIN:VEVENT
DTSTART;TZID=America/Vancouver:20250313T073000
DTEND;TZID=America/Vancouver:20250315T163000
DTSTAMP:20260421T075942
CREATED:20241231T172254Z
LAST-MODIFIED:20250205T224614Z
UID:4064-1741851000-1742056200@krtrainingcenter.com
SUMMARY:Skid Steer Loader Level 2 Training (Sioux City)
DESCRIPTION:Class Information:  Skid Steer/Compact Track Loader Course \nDates: Thursday\, March 13\, 2025\, through Saturday\, March 15\, 2025 \nStart Time: 7:30am sharp \nEnd Time: 4:30pm \nPPE Required \nDress for both indoor and outdoor activity \nThis course is for experienced operators with at least 6 months of seat time prior to the training. \nSupervisors\, you can enroll multiple individuals with each submission. \nCancellation Policy: If\, for any reason\, you and/or any student(s) you’re registering cannot attend a class\, you’ll receive a full refund or are not charged if you cancel 14 days prior to the start of the scheduled class. Please call the Training Center Office to cancel or email hope.koch@kniferiver.com \nIf you cannot cancel less than 14 days prior to the start of your scheduled class\, then 30% of your course fee is non-refundable.\nTransferring to another scheduled class must be made 14 days prior to the start of the scheduled class or may be subject to a transfer fee. \nStudents who do not show up for their registered course will forfeit all tuition. \nLocation: Sioux City\, Iowa
URL:https://krtrainingcenter.com/training/skid-steer-loader-level-2-training-offsite/
LOCATION:Offsite – Please See Class Description
ATTACH;FMTTYPE=image/png:https://krtrainingcenter.com/wp-content/uploads/2023/05/Skid-steer-bucket-load2-Wlogo.png
ORGANIZER;CN="Koch%2C Hope":MAILTO:Hope.Koch@KnifeRiver.com
END:VEVENT
END:VCALENDAR