BEGIN:VCALENDAR
VERSION:2.0
PRODID:-//Knife River Training Center - ECPv6.15.20//NONSGML v1.0//EN
CALSCALE:GREGORIAN
METHOD:PUBLISH
X-ORIGINAL-URL:https://krtrainingcenter.com
X-WR-CALDESC:Events for Knife River Training Center
REFRESH-INTERVAL;VALUE=DURATION:PT1H
X-Robots-Tag:noindex
X-PUBLISHED-TTL:PT1H
BEGIN:VTIMEZONE
TZID:America/Vancouver
BEGIN:DAYLIGHT
TZOFFSETFROM:-0800
TZOFFSETTO:-0700
TZNAME:PDT
DTSTART:20240310T100000
END:DAYLIGHT
BEGIN:STANDARD
TZOFFSETFROM:-0700
TZOFFSETTO:-0800
TZNAME:PST
DTSTART:20241103T090000
END:STANDARD
BEGIN:DAYLIGHT
TZOFFSETFROM:-0800
TZOFFSETTO:-0700
TZNAME:PDT
DTSTART:20250309T100000
END:DAYLIGHT
BEGIN:STANDARD
TZOFFSETFROM:-0700
TZOFFSETTO:-0800
TZNAME:PST
DTSTART:20251102T090000
END:STANDARD
BEGIN:DAYLIGHT
TZOFFSETFROM:-0800
TZOFFSETTO:-0700
TZNAME:PDT
DTSTART:20260308T100000
END:DAYLIGHT
BEGIN:STANDARD
TZOFFSETFROM:-0700
TZOFFSETTO:-0800
TZNAME:PST
DTSTART:20261101T090000
END:STANDARD
END:VTIMEZONE
BEGIN:VEVENT
DTSTART;VALUE=DATE:20250421
DTEND;VALUE=DATE:20250514
DTSTAMP:20260421T054010
CREATED:20240816T221047Z
LAST-MODIFIED:20250423T213054Z
UID:3547-1745193600-1747180799@krtrainingcenter.com
SUMMARY:ELDT/CDL Program
DESCRIPTION:This course is to obtain an “Unrestricted” Class A or Class B CDL  \nThis course is 3 weeks and 2 days (or approximately 136 hours) \nDate: April 21st\, 2025 through May 13th\, 2025 (Monday thru Friday) \nStart Time:  7:30am sharp! \nLunch is provided. \nThis Entry Level Driver Training (ELDT) program is a partnership between Knife River and \nLinn Benton Community College.\nFor course information\, tuition and registration information please CLICK HERE\n  \nFor question and assistance please reach out to the LBCC Coordinator at 541-917-4961 or email CDL@LinnBenton.edu \n 
URL:https://krtrainingcenter.com/training/eldt-cdl-program-13/
LOCATION:Knife River Training Center – Building 2\, 35973 Kennel Rd. SE\, Albany\, OR\, 97332\, United States
ATTACH;FMTTYPE=image/jpeg:https://krtrainingcenter.com/wp-content/uploads/2024/08/CDL-Test-Pic.jpg
ORGANIZER;CN="Koch%2C Hope":MAILTO:Hope.Koch@KnifeRiver.com
END:VEVENT
BEGIN:VEVENT
DTSTART;TZID=America/Vancouver:20250428T073000
DTEND;TZID=America/Vancouver:20250430T163000
DTSTAMP:20260421T054010
CREATED:20250331T184018Z
LAST-MODIFIED:20250331T184018Z
UID:4549-1745825400-1746030600@krtrainingcenter.com
SUMMARY:Wheel Loader Level 2 - Knife River Only
DESCRIPTION:Class Information:  Wheel Loader  \nDates: Monday\, April 28th\, 2025 through Wednesday\, April 30th\, 2025 \nStart Time: 7:30am sharp \nEnd Time: 4:30pm \nPPE Required \nDress for both indoor and outdoor activity \nThis course is for experienced operators with at least 6 months of seat time prior to the training. \nSupervisors\, you can enroll multiple individuals with each submission. \nTravel Information:  Airports\, Hotels\, Shuttle and other Nearby Services – Travel Information – Knife River Training Center \nCancellation Policy: If\, for any reason\, you and/or any student(s) you’re registering cannot attend a class\, you’ll receive a full refund or are not charged if you cancel 14 days prior to the start of the scheduled class. Please call the Training Center Office to cancel or email hope.koch@kniferiver.com \nIf you cannot cancel less than 14 days prior to the start of your scheduled class\, then 30% of your course fee is non-refundable.\nTransferring to another scheduled class must be made 14 days prior to the start of the scheduled class or may be subject to a transfer fee. \nStudents who do not show up for their registered course will forfeit all tuition. \n 
URL:https://krtrainingcenter.com/training/wheel-loader-level-2-knife-river-only-8/
LOCATION:Knifer River Training Center – Columbia River Room\, 35973 Kennel Road SE\, Albany\, OR\, 97322\, United States
ATTACH;FMTTYPE=image/jpeg:https://krtrainingcenter.com/wp-content/uploads/2022/12/about-knife-01.jpg
ORGANIZER;CN="Koch%2C Hope":MAILTO:Hope.Koch@KnifeRiver.com
END:VEVENT
BEGIN:VEVENT
DTSTART;TZID=America/Vancouver:20250429T073000
DTEND;TZID=America/Vancouver:20250501T163000
DTSTAMP:20260421T054010
CREATED:20240815T231641Z
LAST-MODIFIED:20250307T232218Z
UID:3508-1745911800-1746117000@krtrainingcenter.com
SUMMARY:Communication Skills for Coaches - Open to the Public
DESCRIPTION:Communication Skills for Coaches (Formally Leadership Development Course) – Overview\nDates: Tuesday\, April 29th\, 2025 through Thursday\, May 1st\, 2025 \nStart Time: 7:30am sharp! \nEnd Time: 5:00pm \nClosed toe shoes required on Friday for activities in the Dome \nDress for both indoor and outdoor activity \nSupervisors\, you can enroll multiple individuals with each submission. \nFor The General Public: \nTickets are $2500.00 \nOn Sale! Course reduced to $1500.00 including daily hot lunch\, snacks and beverages. \nAlso includes an evening social and class supplies. \nTravel Information:  Airports\, Hotels\, Shuttle and other Nearby Services – Travel Information – Knife River Training Center \nCancellation Policy: If\, for any reason\, you and/or any student(s) you’re registering cannot attend a class\, you’ll receive a full refund or are not charged if you cancel 14 days prior to the start of the scheduled class. Please call the Training Center Office to cancel or email Hope.Koch@KnifeRiver.com \nIf you cannot cancel less than 14 days prior to the start of your scheduled class\, then 30% of your course fee is non-refundable.\nTransferring to another scheduled class must be made 14 days prior to the start of the scheduled class or may be subject to a transfer fee. \nStudent’s who do not show up for their registered course will forfeit all tuition.
URL:https://krtrainingcenter.com/training/communication-skills-for-coaches-open-to-the-public-5/
LOCATION:Knife River Training Center – Copper River Room\, 35973 Kennel Road SE\, Albany\, OR\, 97322\, United States
ATTACH;FMTTYPE=image/png:https://krtrainingcenter.com/wp-content/uploads/2024/04/Knife_River_Training_Center_Logo_Full_Color.png
ORGANIZER;CN="Koch%2C Hope":MAILTO:Hope.Koch@KnifeRiver.com
END:VEVENT
BEGIN:VEVENT
DTSTART;TZID=America/Vancouver:20250429T103000
DTEND;TZID=America/Vancouver:20250429T130000
DTSTAMP:20260421T054010
CREATED:20250129T224855Z
LAST-MODIFIED:20250129T225217Z
UID:4305-1745922600-1745931600@krtrainingcenter.com
SUMMARY:High School Career Exploration Program
DESCRIPTION:Career Expo Days at Knife River Training Center are provided on a limited basis and advance registration is required.  Each program is designed to accommodate 140 high school students (total) from seven high schools (20 students per school).  These high impact programs are designed for high school juniors and seniors. \nHands on experiences include equipment operation\, communications\, leadership projects\, and career knowledge/exploration. \nAll events currently scheduled for 2025 are full.  If you would like to receive notification of future opportunities – please complete this form. \n  \n 
URL:https://krtrainingcenter.com/training/high-school-career-exploration-program/2025-04-29/
LOCATION:Training Center\, 35973 Kennel Road SE\, Albany\, OR\, 97322\, United States
ORGANIZER;CN="Kris Latimer":MAILTO:kris.latimer@kniferiver.net
END:VEVENT
END:VCALENDAR