BEGIN:VCALENDAR
VERSION:2.0
PRODID:-//Knife River Training Center - ECPv6.15.20//NONSGML v1.0//EN
CALSCALE:GREGORIAN
METHOD:PUBLISH
X-ORIGINAL-URL:https://krtrainingcenter.com
X-WR-CALDESC:Events for Knife River Training Center
REFRESH-INTERVAL;VALUE=DURATION:PT1H
X-Robots-Tag:noindex
X-PUBLISHED-TTL:PT1H
BEGIN:VTIMEZONE
TZID:America/Vancouver
BEGIN:DAYLIGHT
TZOFFSETFROM:-0800
TZOFFSETTO:-0700
TZNAME:PDT
DTSTART:20240310T100000
END:DAYLIGHT
BEGIN:STANDARD
TZOFFSETFROM:-0700
TZOFFSETTO:-0800
TZNAME:PST
DTSTART:20241103T090000
END:STANDARD
BEGIN:DAYLIGHT
TZOFFSETFROM:-0800
TZOFFSETTO:-0700
TZNAME:PDT
DTSTART:20250309T100000
END:DAYLIGHT
BEGIN:STANDARD
TZOFFSETFROM:-0700
TZOFFSETTO:-0800
TZNAME:PST
DTSTART:20251102T090000
END:STANDARD
BEGIN:DAYLIGHT
TZOFFSETFROM:-0800
TZOFFSETTO:-0700
TZNAME:PDT
DTSTART:20260308T100000
END:DAYLIGHT
BEGIN:STANDARD
TZOFFSETFROM:-0700
TZOFFSETTO:-0800
TZNAME:PST
DTSTART:20261101T090000
END:STANDARD
END:VTIMEZONE
BEGIN:VEVENT
DTSTART;VALUE=DATE:20250707
DTEND;VALUE=DATE:20250730
DTSTAMP:20260421T034146
CREATED:20240816T221443Z
LAST-MODIFIED:20240816T221530Z
UID:3550-1751846400-1753833599@krtrainingcenter.com
SUMMARY:ELDT/CDL Program
DESCRIPTION:This course is to obtain an “Unrestricted” Class A or Class B CDL  \nThis course is 3 weeks and 2 days (or approximately 136 hours) \nDate: July 7th\, 2025 through July 29th\, 2025 (Monday thru Friday) \nStart Time:  7:30am sharp! \nLunch is provided. \nThis Entry Level Driver Training (ELDT) program is a partnership between Knife River and \nLinn Benton Community College.\nFor course information\, tuition and registration information please CLICK HERE\n  \nFor question and assistance please reach out to the LBCC Coordinator at 541-917-4961 or email CDL@LinnBenton.edu \n 
URL:https://krtrainingcenter.com/training/eldt-cdl-program-copy/
LOCATION:Knife River Training Center – Building 2\, 35973 Kennel Rd. SE\, Albany\, OR\, 97332\, United States
ATTACH;FMTTYPE=image/jpeg:https://krtrainingcenter.com/wp-content/uploads/2023/08/IMG_3373.jpg
ORGANIZER;CN="Koch%2C Hope":MAILTO:Hope.Koch@KnifeRiver.com
END:VEVENT
BEGIN:VEVENT
DTSTART;TZID=America/Vancouver:20250717T073000
DTEND;TZID=America/Vancouver:20250717T163000
DTSTAMP:20260421T034146
CREATED:20250618T195016Z
LAST-MODIFIED:20250618T195016Z
UID:4934-1752737400-1752769800@krtrainingcenter.com
SUMMARY:Top Rock Bench 1: Conveyance
DESCRIPTION:Dates: Thursday\, July 17\, 2025 \nStart Time: 7:30am sharp \nEnd Time: 4:30pm \nOverview:  \nThe goal of this training is to help educate our teams on the basics of material conveyance to ensure safe\, efficient\, and profitable production.  \nConveyor systems are key to the efficiency of an entire operation\, and belting is key to the productivity of a conveyor. Consequently\, preservation of the capabilities and life of a belt is essential. Considering the size of the initial investment in conveyor belting\, the importance of preserving a belt through regular inspection and repair cannot be overstated. Recognize\, report\, and repair issues as they arise. Planned downtime provides significant payback compared to emergency or unscheduled downtime\, or replacement of failed components  \nAudience:  \nTeam members with four hundred hours or more experience working on or directly with aggregates processing equipment will benefit most from the training.  \nTeam Members may also be recognized by a coach or lead as ready to advance a limited or intermediate knowledge of conveyance equipment.  \nSupplies:  \nThis course will be going over inputting data electronically.  A smart phone will be needed.  Please bring a company provided smart phone if you have one. \nTravel Information:  \nAirports\, Hotels\, Shuttle and other Nearby Services – Travel Information – Knife River Training Center  \nCancellation Policy:  \nIf\, for any reason\, you and/or any student(s) you’re registering cannot attend a class\, you’ll receive a full refund or are not charged if you cancel 14 days prior to the start of the scheduled class. Please email Hope.Koch@KnifeRiver.com \nIf you cannot cancel less than 14 days prior to the start of your scheduled class\, then 30% of your course fee is non-refundable. \nTransferring to another scheduled class must be made 14 days prior to the start of the scheduled class or may be subject to a transfer fee. Students who do not show up for their registered course will forfeit all tuition. \nAdditional Information:  \nSupervisors\, you can enroll multiple individuals with each submission. Supervisors are also encouraged to attend with their team members.
URL:https://krtrainingcenter.com/training/top-rock-bench-1-conveyance-july-2025/
LOCATION:Knife River Training Center – Snake River Room\, 35973 Kennel Road SE\, Albany\, OR\, 97322\, United States
CATEGORIES:Training
ATTACH;FMTTYPE=image/png:https://krtrainingcenter.com/wp-content/uploads/2024/11/Top-Rock-1.0.png
ORGANIZER;CN="Koch%2C Hope":MAILTO:Hope.Koch@KnifeRiver.com
END:VEVENT
END:VCALENDAR