BEGIN:VCALENDAR
VERSION:2.0
PRODID:-//Knife River Training Center - ECPv6.15.20//NONSGML v1.0//EN
CALSCALE:GREGORIAN
METHOD:PUBLISH
X-WR-CALNAME:Knife River Training Center
X-ORIGINAL-URL:https://krtrainingcenter.com
X-WR-CALDESC:Events for Knife River Training Center
REFRESH-INTERVAL;VALUE=DURATION:PT1H
X-Robots-Tag:noindex
X-PUBLISHED-TTL:PT1H
BEGIN:VTIMEZONE
TZID:America/Vancouver
BEGIN:DAYLIGHT
TZOFFSETFROM:-0800
TZOFFSETTO:-0700
TZNAME:PDT
DTSTART:20200308T100000
END:DAYLIGHT
BEGIN:STANDARD
TZOFFSETFROM:-0700
TZOFFSETTO:-0800
TZNAME:PST
DTSTART:20201101T090000
END:STANDARD
BEGIN:DAYLIGHT
TZOFFSETFROM:-0800
TZOFFSETTO:-0700
TZNAME:PDT
DTSTART:20210314T100000
END:DAYLIGHT
BEGIN:STANDARD
TZOFFSETFROM:-0700
TZOFFSETTO:-0800
TZNAME:PST
DTSTART:20211107T090000
END:STANDARD
BEGIN:DAYLIGHT
TZOFFSETFROM:-0800
TZOFFSETTO:-0700
TZNAME:PDT
DTSTART:20220313T100000
END:DAYLIGHT
BEGIN:STANDARD
TZOFFSETFROM:-0700
TZOFFSETTO:-0800
TZNAME:PST
DTSTART:20221106T090000
END:STANDARD
END:VTIMEZONE
BEGIN:VEVENT
DTSTART;VALUE=DATE:20211129
DTEND;VALUE=DATE:20211204
DTSTAMP:20260424T100727
CREATED:20211015T201550Z
LAST-MODIFIED:20211111T164201Z
UID:857-1638144000-1638575999@krtrainingcenter.com
SUMMARY:Motor Grader Level 2 - Full
DESCRIPTION:Motor Grader Level 2 – Internal Only
URL:https://krtrainingcenter.com/training/motor-grader-level-2-full/
LOCATION:Knife River Training Center Dome\, 35973 Kennel Road SE\, Albany\, OR\, 97322\, United States
ATTACH;FMTTYPE=image/png:https://krtrainingcenter.com/wp-content/uploads/2021/10/New-TC-Motor-Grader1-e1636648882545.png
ORGANIZER;CN="Reyes%2C Alex":MAILTO:alex.reyes@kniferiver.net
END:VEVENT
BEGIN:VEVENT
DTSTART;VALUE=DATE:20211206
DTEND;VALUE=DATE:20211211
DTSTAMP:20260424T100727
CREATED:20211108T215240Z
LAST-MODIFIED:20211111T164959Z
UID:911-1638748800-1639180799@krtrainingcenter.com
SUMMARY:Instructor Development Course #1
DESCRIPTION:Content is protected.
URL:https://krtrainingcenter.com/training/instructor-development-course-1/
LOCATION:Knife River Training Center – Copper River Room\, 35973 Kennel Road SE\, Albany\, OR\, 97322\, United States
ORGANIZER;CN="Reyes%2C Alex":MAILTO:alex.reyes@kniferiver.net
END:VEVENT
BEGIN:VEVENT
DTSTART;TZID=America/Vancouver:20211209T170000
DTEND;TZID=America/Vancouver:20211209T220000
DTSTAMP:20260424T100727
CREATED:20211124T000212Z
LAST-MODIFIED:20211124T000212Z
UID:1001-1639069200-1639087200@krtrainingcenter.com
SUMMARY:Private Function
DESCRIPTION:THIS IS A PRIVATE EVENT \nStarting at 5:00 \nEnding at 10:00 \n  \nPlease email Alex Reyes at alex.reyes@kniferiver.com if you have any question about renting space at the Knife River Training Center.
URL:https://krtrainingcenter.com/training/private-function/
LOCATION:Knife River Training Center Dome\, 35973 Kennel Road SE\, Albany\, OR\, 97322\, United States
ORGANIZER;CN="Reyes%2C Alex":MAILTO:alex.reyes@kniferiver.net
END:VEVENT
BEGIN:VEVENT
DTSTART;VALUE=DATE:20211213
DTEND;VALUE=DATE:20211218
DTSTAMP:20260424T100727
CREATED:20211109T000634Z
LAST-MODIFIED:20211109T000634Z
UID:916-1639353600-1639785599@krtrainingcenter.com
SUMMARY:Instructor Development Course #2
DESCRIPTION:Content is protected.
URL:https://krtrainingcenter.com/training/instructor-development-course-2/
LOCATION:Knife River Training Center – Copper River Room\, 35973 Kennel Road SE\, Albany\, OR\, 97322\, United States
ORGANIZER;CN="Reyes%2C Alex":MAILTO:alex.reyes@kniferiver.net
END:VEVENT
END:VCALENDAR