BEGIN:VCALENDAR
VERSION:2.0
PRODID:-//Knife River Training Center - ECPv6.15.20//NONSGML v1.0//EN
CALSCALE:GREGORIAN
METHOD:PUBLISH
X-WR-CALNAME:Knife River Training Center
X-ORIGINAL-URL:https://krtrainingcenter.com
X-WR-CALDESC:Events for Knife River Training Center
REFRESH-INTERVAL;VALUE=DURATION:PT1H
X-Robots-Tag:noindex
X-PUBLISHED-TTL:PT1H
BEGIN:VTIMEZONE
TZID:America/Vancouver
BEGIN:DAYLIGHT
TZOFFSETFROM:-0800
TZOFFSETTO:-0700
TZNAME:PDT
DTSTART:20210314T100000
END:DAYLIGHT
BEGIN:STANDARD
TZOFFSETFROM:-0700
TZOFFSETTO:-0800
TZNAME:PST
DTSTART:20211107T090000
END:STANDARD
BEGIN:DAYLIGHT
TZOFFSETFROM:-0800
TZOFFSETTO:-0700
TZNAME:PDT
DTSTART:20220313T100000
END:DAYLIGHT
BEGIN:STANDARD
TZOFFSETFROM:-0700
TZOFFSETTO:-0800
TZNAME:PST
DTSTART:20221106T090000
END:STANDARD
BEGIN:DAYLIGHT
TZOFFSETFROM:-0800
TZOFFSETTO:-0700
TZNAME:PDT
DTSTART:20230312T100000
END:DAYLIGHT
BEGIN:STANDARD
TZOFFSETFROM:-0700
TZOFFSETTO:-0800
TZNAME:PST
DTSTART:20231105T090000
END:STANDARD
END:VTIMEZONE
BEGIN:VEVENT
DTSTART;VALUE=DATE:20220131
DTEND;VALUE=DATE:20220205
DTSTAMP:20260424T064116
CREATED:20211110T171017Z
LAST-MODIFIED:20220215T181055Z
UID:947-1643587200-1644019199@krtrainingcenter.com
SUMMARY:Knife River Paver Training #1 - Knife River Only
DESCRIPTION:Content is protected.
URL:https://krtrainingcenter.com/training/knife-river-paver-training-1-knife-river-only/
LOCATION:Knifer River Training Center – Columbia River Room\, 35973 Kennel Road SE\, Albany\, OR\, 97322\, United States
ORGANIZER;CN="Reyes%2C Alex":MAILTO:alex.reyes@kniferiver.net
END:VEVENT
BEGIN:VEVENT
DTSTART;VALUE=DATE:20220131
DTEND;VALUE=DATE:20220205
DTSTAMP:20260424T064116
CREATED:20211110T181022Z
LAST-MODIFIED:20220125T183621Z
UID:958-1643587200-1644019199@krtrainingcenter.com
SUMMARY:Leadership Development Course #2- Knife River Only
DESCRIPTION:Content is protected.
URL:https://krtrainingcenter.com/training/leadership-development-course-2-knife-river-only/
LOCATION:Knife River Training Center – Snake River Room\, 35973 Kennel Road SE\, Albany\, OR\, 97322\, United States
ORGANIZER;CN="Reyes%2C Alex":MAILTO:alex.reyes@kniferiver.net
END:VEVENT
BEGIN:VEVENT
DTSTART;VALUE=DATE:20220207
DTEND;VALUE=DATE:20220212
DTSTAMP:20260424T064116
CREATED:20211110T174041Z
LAST-MODIFIED:20220215T180014Z
UID:953-1644192000-1644623999@krtrainingcenter.com
SUMMARY:Knife River Paver Training #2 - Knife River Only
DESCRIPTION:Content is protected.
URL:https://krtrainingcenter.com/training/knife-river-paver-training-1-knife-river-only-copy/
LOCATION:Knifer River Training Center – Columbia River Room\, 35973 Kennel Road SE\, Albany\, OR\, 97322\, United States
ORGANIZER;CN="Reyes%2C Alex":MAILTO:alex.reyes@kniferiver.net
END:VEVENT
BEGIN:VEVENT
DTSTART;VALUE=DATE:20220207
DTEND;VALUE=DATE:20220227
DTSTAMP:20260424T064116
CREATED:20220119T211940Z
LAST-MODIFIED:20220126T235508Z
UID:1082-1644192000-1645919999@krtrainingcenter.com
SUMMARY:CDL Prep Class #2 2022
DESCRIPTION:Content is protected.
URL:https://krtrainingcenter.com/training/cdl-prep-class-2-2022/
LOCATION:Knife River Training Center – Snake River Room\, 35973 Kennel Road SE\, Albany\, OR\, 97322\, United States
ORGANIZER;CN="Reyes%2C Alex":MAILTO:alex.reyes@kniferiver.net
END:VEVENT
BEGIN:VEVENT
DTSTART;VALUE=DATE:20220211
DTEND;VALUE=DATE:20220212
DTSTAMP:20260424T064116
CREATED:20220125T190843Z
LAST-MODIFIED:20220125T220917Z
UID:1106-1644537600-1644623999@krtrainingcenter.com
SUMMARY:KRM MLP Kickoff
DESCRIPTION:Start time – 8:00am
URL:https://krtrainingcenter.com/training/krm-mlp-refresher/
LOCATION:Knife River Training Center – Copper River Room\, 35973 Kennel Road SE\, Albany\, OR\, 97322\, United States
ORGANIZER;CN="Reyes%2C Alex":MAILTO:alex.reyes@kniferiver.net
END:VEVENT
BEGIN:VEVENT
DTSTART;VALUE=DATE:20220214
DTEND;VALUE=DATE:20220217
DTSTAMP:20260424T064116
CREATED:20220125T222253Z
LAST-MODIFIED:20220210T165224Z
UID:1092-1644796800-1645055999@krtrainingcenter.com
SUMMARY:Wheel Loader Level 2 Training -  Knife River Only
DESCRIPTION:Dates: Monday\, February 14 to Wednesday\, February 16\, 2022 \nStart Time: 8:00am sharp \nEnd Time: 5pm \nPPE Required \nDress for both indoor and outdoor activity \nThis course is for experienced operators with at least 6 months of seat time prier to the training. \nSupervisors\, you can enroll multiple individuals with each submission.
URL:https://krtrainingcenter.com/training/wheel-loader-level-2-training-knife-river-onley/
LOCATION:Knifer River Training Center – Columbia River Room\, 35973 Kennel Road SE\, Albany\, OR\, 97322\, United States
END:VEVENT
BEGIN:VEVENT
DTSTART;VALUE=DATE:20220216
DTEND;VALUE=DATE:20220218
DTSTAMP:20260424T064116
CREATED:20211110T213402Z
LAST-MODIFIED:20220121T231525Z
UID:978-1644969600-1645142399@krtrainingcenter.com
SUMMARY:Knife River HeavyBid/HeavyJob Training - Knife River Only
DESCRIPTION:Dates: Wednesday\, February 16 to Thursday\, February 17\, 2022 \nStart Time: 8:00am sharp \nEnd Time: 5pm \nPPE Required \nDress for indoor activity \nSupervisors\, you can enroll multiple individuals with each submission.
URL:https://krtrainingcenter.com/training/knife-river-heavybid-heavyjob-training-knife-river-only/
LOCATION:Knife River Training Center – Missouri River Room\, 35973 Kennel Rd SE\, Albany\, OR\, 97322\, United States
ORGANIZER;CN="Reyes%2C Alex":MAILTO:alex.reyes@kniferiver.net
END:VEVENT
BEGIN:VEVENT
DTSTART;VALUE=DATE:20220219
DTEND;VALUE=DATE:20220220
DTSTAMP:20260424T064116
CREATED:20220125T164557Z
LAST-MODIFIED:20220125T165240Z
UID:1101-1645228800-1645315199@krtrainingcenter.com
SUMMARY:Knife River - Mid Valley RM Refresher Training
DESCRIPTION:
URL:https://krtrainingcenter.com/training/knife-river-mid-valley-rm-refresher-training/
LOCATION:Knife River Training Center Dome\, 35973 Kennel Road SE\, Albany\, OR\, 97322\, United States
ORGANIZER;CN="Reyes%2C Alex":MAILTO:alex.reyes@kniferiver.net
END:VEVENT
BEGIN:VEVENT
DTSTART;TZID=America/Vancouver:20220224T080000
DTEND;TZID=America/Vancouver:20220224T170000
DTSTAMP:20260424T064116
CREATED:20220224T160758Z
LAST-MODIFIED:20220224T160947Z
UID:1178-1645689600-1645722000@krtrainingcenter.com
SUMMARY:Knife River - Western Oregon Dispatch Procedure Training
DESCRIPTION:Start: 8:00 am \nEnd: 5:00 pm
URL:https://krtrainingcenter.com/training/knife-river-western-oregon-dispatch-procedure-training/
LOCATION:Knife River Training Center – Copper River Room\, 35973 Kennel Road SE\, Albany\, OR\, 97322\, United States
ORGANIZER;CN="Hollie Rathabun":MAILTO:hollie.rathbun@kniferiver.com
END:VEVENT
BEGIN:VEVENT
DTSTART;VALUE=DATE:20220228
DTEND;VALUE=DATE:20220305
DTSTAMP:20260424T064116
CREATED:20211110T214007Z
LAST-MODIFIED:20211129T234540Z
UID:982-1646006400-1646438399@krtrainingcenter.com
SUMMARY:Leadership Development Course #3- Knife River Only
DESCRIPTION:Content is protected.
URL:https://krtrainingcenter.com/training/leadership-development-course-3-knife-river-only/
LOCATION:Knife River Training Center – Snake River Room\, 35973 Kennel Road SE\, Albany\, OR\, 97322\, United States
ORGANIZER;CN="Reyes%2C Alex":MAILTO:alex.reyes@kniferiver.net
END:VEVENT
BEGIN:VEVENT
DTSTART;VALUE=DATE:20220228
DTEND;VALUE=DATE:20220312
DTSTAMP:20260424T064116
CREATED:20220125T163920Z
LAST-MODIFIED:20220201T154356Z
UID:1096-1646006400-1647043199@krtrainingcenter.com
SUMMARY:Western Oregon Refresher Training - Knife River only
DESCRIPTION:Western Oregon Mid-Valley MSHA\, OSHA\, Training & Spring Kickoff
URL:https://krtrainingcenter.com/training/knife-river-refresher-training/
LOCATION:Knife River Training Center Dome & Copper River Room\, 35973 Kennel Road SE\, Albany\, OR\, 97322\, United States
ORGANIZER;CN="Reyes%2C Alex":MAILTO:alex.reyes@kniferiver.net
END:VEVENT
END:VCALENDAR