BEGIN:VCALENDAR
VERSION:2.0
PRODID:-//Knife River Training Center - ECPv6.15.20//NONSGML v1.0//EN
CALSCALE:GREGORIAN
METHOD:PUBLISH
X-WR-CALNAME:Knife River Training Center
X-ORIGINAL-URL:https://krtrainingcenter.com
X-WR-CALDESC:Events for Knife River Training Center
REFRESH-INTERVAL;VALUE=DURATION:PT1H
X-Robots-Tag:noindex
X-PUBLISHED-TTL:PT1H
BEGIN:VTIMEZONE
TZID:America/Vancouver
BEGIN:DAYLIGHT
TZOFFSETFROM:-0800
TZOFFSETTO:-0700
TZNAME:PDT
DTSTART:20210314T100000
END:DAYLIGHT
BEGIN:STANDARD
TZOFFSETFROM:-0700
TZOFFSETTO:-0800
TZNAME:PST
DTSTART:20211107T090000
END:STANDARD
BEGIN:DAYLIGHT
TZOFFSETFROM:-0800
TZOFFSETTO:-0700
TZNAME:PDT
DTSTART:20220313T100000
END:DAYLIGHT
BEGIN:STANDARD
TZOFFSETFROM:-0700
TZOFFSETTO:-0800
TZNAME:PST
DTSTART:20221106T090000
END:STANDARD
BEGIN:DAYLIGHT
TZOFFSETFROM:-0800
TZOFFSETTO:-0700
TZNAME:PDT
DTSTART:20230312T100000
END:DAYLIGHT
BEGIN:STANDARD
TZOFFSETFROM:-0700
TZOFFSETTO:-0800
TZNAME:PST
DTSTART:20231105T090000
END:STANDARD
END:VTIMEZONE
BEGIN:VEVENT
DTSTART;VALUE=DATE:20220228
DTEND;VALUE=DATE:20220305
DTSTAMP:20260424T050636
CREATED:20211110T214007Z
LAST-MODIFIED:20211129T234540Z
UID:982-1646006400-1646438399@krtrainingcenter.com
SUMMARY:Leadership Development Course #3- Knife River Only
DESCRIPTION:Content is protected.
URL:https://krtrainingcenter.com/training/leadership-development-course-3-knife-river-only/
LOCATION:Knife River Training Center – Snake River Room\, 35973 Kennel Road SE\, Albany\, OR\, 97322\, United States
ORGANIZER;CN="Reyes%2C Alex":MAILTO:alex.reyes@kniferiver.net
END:VEVENT
BEGIN:VEVENT
DTSTART;VALUE=DATE:20220228
DTEND;VALUE=DATE:20220312
DTSTAMP:20260424T050636
CREATED:20220125T163920Z
LAST-MODIFIED:20220201T154356Z
UID:1096-1646006400-1647043199@krtrainingcenter.com
SUMMARY:Western Oregon Refresher Training - Knife River only
DESCRIPTION:Western Oregon Mid-Valley MSHA\, OSHA\, Training & Spring Kickoff
URL:https://krtrainingcenter.com/training/knife-river-refresher-training/
LOCATION:Knife River Training Center Dome & Copper River Room\, 35973 Kennel Road SE\, Albany\, OR\, 97322\, United States
ORGANIZER;CN="Reyes%2C Alex":MAILTO:alex.reyes@kniferiver.net
END:VEVENT
BEGIN:VEVENT
DTSTART;VALUE=DATE:20220308
DTEND;VALUE=DATE:20220310
DTSTAMP:20260424T050636
CREATED:20211129T192435Z
LAST-MODIFIED:20220307T165438Z
UID:1012-1646697600-1646870399@krtrainingcenter.com
SUMMARY:Top Drum / Top Wheel Train the Trainer #1 2022
DESCRIPTION:Dates: Tuesday\, March 8 to Wednesday\, March 9\, 2022 \nStart Time: 8am sharp \nEnd Time: 5pm \nPPE Required \nDress for both indoor and outdoor activity \nThis course is for new or recertifying Top Drum or Wheel trainers only – Mentor Driver is not yet scheduled.  If Top Drum/Wheel is new to you\, or you’re unfamiliar with it then we strongly encourage you to attend as well! It is the Knife River standard for all drivers of Commercial Vehicles. \nSupervisors\, you can enroll multiple individuals with each submission.
URL:https://krtrainingcenter.com/training/top-drum-top-wheel-train-the-trainer-1-2022/
LOCATION:Knife River Training Center Dome\, 35973 Kennel Road SE\, Albany\, OR\, 97322\, United States
ORGANIZER;CN="Reyes%2C Alex":MAILTO:alex.reyes@kniferiver.net
END:VEVENT
BEGIN:VEVENT
DTSTART;VALUE=DATE:20220314
DTEND;VALUE=DATE:20220319
DTSTAMP:20260424T050636
CREATED:20211129T234013Z
LAST-MODIFIED:20211129T234705Z
UID:1021-1647216000-1647647999@krtrainingcenter.com
SUMMARY:Leadership Development Course #4- Knife River Only
DESCRIPTION:Content is protected.
URL:https://krtrainingcenter.com/training/leadership-development-course-4-knife-river-only/
LOCATION:Knife River Training Center – Snake River Room\, 35973 Kennel Road SE\, Albany\, OR\, 97322\, United States
ORGANIZER;CN="Reyes%2C Alex":MAILTO:alex.reyes@kniferiver.net
END:VEVENT
BEGIN:VEVENT
DTSTART;VALUE=DATE:20220315
DTEND;VALUE=DATE:20220318
DTSTAMP:20260424T050636
CREATED:20211129T235516Z
LAST-MODIFIED:20211129T235516Z
UID:1024-1647302400-1647561599@krtrainingcenter.com
SUMMARY:Private Event
DESCRIPTION:This is a Private Event \n  \n  \nFor information on renting space at the Knife River Training Center please email Alex Reyes at alex.reyes@kniferiver.com \n 
URL:https://krtrainingcenter.com/training/private-event/
LOCATION:Knife River Training Center – Columbia & Copper River Rooms\, 35973 Kennel Road SE\, Albany\, OR\, 97322\, United States
ORGANIZER;CN="Abbott%2C Dan":MAILTO:dan.abbott@kniferiver.com
END:VEVENT
BEGIN:VEVENT
DTSTART;VALUE=DATE:20220318
DTEND;VALUE=DATE:20220327
DTSTAMP:20260424T050636
CREATED:20220224T152742Z
LAST-MODIFIED:20220224T152742Z
UID:1176-1647561600-1648339199@krtrainingcenter.com
SUMMARY:Private Event - Training Center Full
DESCRIPTION:The Knife River Training Center will be full from March 18th to March 26th.
URL:https://krtrainingcenter.com/training/private-event-training-center-full/
LOCATION:Training Center\, 35973 Kennel Road SE\, Albany\, OR\, 97322\, United States
ORGANIZER;CN="Reyes%2C Alex":MAILTO:alex.reyes@kniferiver.net
END:VEVENT
BEGIN:VEVENT
DTSTART;VALUE=DATE:20220328
DTEND;VALUE=DATE:20220416
DTSTAMP:20260424T050636
CREATED:20220224T205612Z
LAST-MODIFIED:20220224T222101Z
UID:1182-1648425600-1650067199@krtrainingcenter.com
SUMMARY:ELDT/CDL Prep
DESCRIPTION:This course is a partnership between Linn Benton Community College (LBCC) and  the Knife River Training Center. \nRegistration will be done through LBCC.  A link to the LBCC registration site will be added soon. \nClasses will be held at the Knife River Training Center and the instructors will be from the Knife River Training group. \n  \n3 week course \nDate: March 28th through April 15th \nStart Time:  8:00am sharp \nLunch is provided.  After accepting the RSVP\, you will be asked a question about any dietary restrictions \nItems students need before the start of class:  \n\nValid Drivers License\nCurrent Medical Card\nDOT Drug Test\nCDL Class A Permit- with a minimum of 30 days remaining at the completion of the course\nCleared through HR & have completed the “Pre-Employment” process as a driver\n\nPlease email a copy of the following to Allan.nichols@kniferiver.com \n 
URL:https://krtrainingcenter.com/training/eldt-cdl-prep/
LOCATION:Knife River Training Center – Snake River Room\, 35973 Kennel Road SE\, Albany\, OR\, 97322\, United States
ORGANIZER;CN="Reyes%2C Alex":MAILTO:alex.reyes@kniferiver.net
END:VEVENT
BEGIN:VEVENT
DTSTART;VALUE=DATE:20220329
DTEND;VALUE=DATE:20220330
DTSTAMP:20260424T050636
CREATED:20211130T000626Z
LAST-MODIFIED:20220224T153241Z
UID:1030-1648512000-1648598399@krtrainingcenter.com
SUMMARY:Western Oregon Coaches Clinic - Knife River Only
DESCRIPTION:This is a Private Event \n  \n  \nIf you have any interest renting space at the Knife River Training Center please email Alex Reyes at alex.reyes@kniferiver.com
URL:https://krtrainingcenter.com/training/knife-river-coaches-clinic-knife-river-only/
LOCATION:Training Center\, 35973 Kennel Road SE\, Albany\, OR\, 97322\, United States
ORGANIZER;CN="Reyes%2C Alex":MAILTO:alex.reyes@kniferiver.net
END:VEVENT
BEGIN:VEVENT
DTSTART;TZID=America/Vancouver:20220331T080000
DTEND;TZID=America/Vancouver:20220331T143000
DTSTAMP:20260424T050636
CREATED:20220210T171210Z
LAST-MODIFIED:20220210T173556Z
UID:1149-1648713600-1648737000@krtrainingcenter.com
SUMMARY:OCAPA - MSHA SPRING THAW
DESCRIPTION:Please use the link below under Details to register. \nOr visit:   https://www.ocapa.net/spring-thaw \nStart Time: 8:00 \nEnd Time: 2:30 \n 
URL:https://krtrainingcenter.com/training/ocapa-msha-spring-thaw/
LOCATION:Knifer River Training Center – Snake & Missouri River Rooms\, 35973 Kennel Road SE\, Albany\, OR\, 97322\, United States
ATTACH;FMTTYPE=image/png:https://krtrainingcenter.com/wp-content/uploads/2022/02/spring-thaw-2022-flyer.png
ORGANIZER;CN="Reyes%2C Alex":MAILTO:alex.reyes@kniferiver.net
END:VEVENT
END:VCALENDAR