BEGIN:VCALENDAR
VERSION:2.0
PRODID:-//Knife River Training Center - ECPv6.15.20//NONSGML v1.0//EN
CALSCALE:GREGORIAN
METHOD:PUBLISH
X-ORIGINAL-URL:https://krtrainingcenter.com
X-WR-CALDESC:Events for Knife River Training Center
REFRESH-INTERVAL;VALUE=DURATION:PT1H
X-Robots-Tag:noindex
X-PUBLISHED-TTL:PT1H
BEGIN:VTIMEZONE
TZID:America/Vancouver
BEGIN:DAYLIGHT
TZOFFSETFROM:-0800
TZOFFSETTO:-0700
TZNAME:PDT
DTSTART:20210314T100000
END:DAYLIGHT
BEGIN:STANDARD
TZOFFSETFROM:-0700
TZOFFSETTO:-0800
TZNAME:PST
DTSTART:20211107T090000
END:STANDARD
BEGIN:DAYLIGHT
TZOFFSETFROM:-0800
TZOFFSETTO:-0700
TZNAME:PDT
DTSTART:20220313T100000
END:DAYLIGHT
BEGIN:STANDARD
TZOFFSETFROM:-0700
TZOFFSETTO:-0800
TZNAME:PST
DTSTART:20221106T090000
END:STANDARD
BEGIN:DAYLIGHT
TZOFFSETFROM:-0800
TZOFFSETTO:-0700
TZNAME:PDT
DTSTART:20230312T100000
END:DAYLIGHT
BEGIN:STANDARD
TZOFFSETFROM:-0700
TZOFFSETTO:-0800
TZNAME:PST
DTSTART:20231105T090000
END:STANDARD
END:VTIMEZONE
BEGIN:VEVENT
DTSTART;VALUE=DATE:20220328
DTEND;VALUE=DATE:20220416
DTSTAMP:20260424T033718
CREATED:20220224T205612Z
LAST-MODIFIED:20220224T222101Z
UID:1182-1648425600-1650067199@krtrainingcenter.com
SUMMARY:ELDT/CDL Prep
DESCRIPTION:This course is a partnership between Linn Benton Community College (LBCC) and  the Knife River Training Center. \nRegistration will be done through LBCC.  A link to the LBCC registration site will be added soon. \nClasses will be held at the Knife River Training Center and the instructors will be from the Knife River Training group. \n  \n3 week course \nDate: March 28th through April 15th \nStart Time:  8:00am sharp \nLunch is provided.  After accepting the RSVP\, you will be asked a question about any dietary restrictions \nItems students need before the start of class:  \n\nValid Drivers License\nCurrent Medical Card\nDOT Drug Test\nCDL Class A Permit- with a minimum of 30 days remaining at the completion of the course\nCleared through HR & have completed the “Pre-Employment” process as a driver\n\nPlease email a copy of the following to Allan.nichols@kniferiver.com \n 
URL:https://krtrainingcenter.com/training/eldt-cdl-prep/
LOCATION:Knife River Training Center – Snake River Room\, 35973 Kennel Road SE\, Albany\, OR\, 97322\, United States
ORGANIZER;CN="Reyes%2C Alex":MAILTO:alex.reyes@kniferiver.net
END:VEVENT
BEGIN:VEVENT
DTSTART;TZID=America/Vancouver:20220402T080000
DTEND;TZID=America/Vancouver:20220402T170000
DTSTAMP:20260424T033718
CREATED:20220224T174634Z
LAST-MODIFIED:20220224T175900Z
UID:1185-1648886400-1648918800@krtrainingcenter.com
SUMMARY:Knife River Western Oregon Dispatch Procedure Training
DESCRIPTION:Start Time:  8:00 \nEnd Time:  5:00 \n  \nFor any questions please contact Hollie Rathbun at 541-224-4771
URL:https://krtrainingcenter.com/training/knife-river-western-oregon-dispatch-procedure-training-2/
LOCATION:Knife River Training Center – Copper River Room\, 35973 Kennel Road SE\, Albany\, OR\, 97322\, United States
ORGANIZER;CN="Reyes%2C Alex":MAILTO:alex.reyes@kniferiver.net
END:VEVENT
BEGIN:VEVENT
DTSTART;TZID=America/Vancouver:20220402T110000
DTEND;TZID=America/Vancouver:20220402T130000
DTSTAMP:20260424T033718
CREATED:20220225T154029Z
LAST-MODIFIED:20220225T154209Z
UID:1193-1648897200-1648904400@krtrainingcenter.com
SUMMARY:Private Event: Knife River Training Center
DESCRIPTION:This is a private event.
URL:https://krtrainingcenter.com/training/private-event-knife-river-training-center/
LOCATION:Knife River Training Center – Snake River Room\, 35973 Kennel Road SE\, Albany\, OR\, 97322\, United States
ORGANIZER;CN="Reyes%2C Alex":MAILTO:alex.reyes@kniferiver.net
END:VEVENT
BEGIN:VEVENT
DTSTART;TZID=America/Vancouver:20220411T080000
DTEND;TZID=America/Vancouver:20220415T170000
DTSTAMP:20260424T033718
CREATED:20220225T160619Z
LAST-MODIFIED:20220225T160619Z
UID:1197-1649664000-1650042000@krtrainingcenter.com
SUMMARY:Leadership Development Course - Knife River Western Oregon Only
DESCRIPTION:Dates: Monday\, April 11 to Friday\, March 15\, 2022 \nStart Time: 8:00am sharp \nEnd Time: 4:30pm \nPPE Required on Friday \nDress for both indoor and outdoor activity \nSupervisors\, you can enroll multiple individuals with each submission.
URL:https://krtrainingcenter.com/training/leadership-development-course-knife-river-western-oregon-only/
LOCATION:Knife River Training Center – Snake River Room\, 35973 Kennel Road SE\, Albany\, OR\, 97322\, United States
ORGANIZER;CN="Reyes%2C Alex":MAILTO:alex.reyes@kniferiver.net
END:VEVENT
BEGIN:VEVENT
DTSTART;TZID=America/Vancouver:20220420T080000
DTEND;TZID=America/Vancouver:20220422T170000
DTSTAMP:20260424T033718
CREATED:20220225T163357Z
LAST-MODIFIED:20220403T160508Z
UID:1203-1650441600-1650646800@krtrainingcenter.com
SUMMARY:Wheel Loader - Knife River Only
DESCRIPTION:Dates: Tuesday\,  April 20 to Thursday\, April 21\, 2022 \nStart Time: 8:00am sharp \nEnd Time: 5pm \nPPE Required \nDress for both indoor and outdoor activity \nThis course is for experienced operators with at least 6 months of seat time prier to the training. \nSupervisors\, you can enroll multiple individuals with each submission.
URL:https://krtrainingcenter.com/training/wheel-loader-knife-river-only/
LOCATION:Knifer River Training Center – Columbia River Room\, 35973 Kennel Road SE\, Albany\, OR\, 97322\, United States
ORGANIZER;CN="Reyes%2C Alex":MAILTO:alex.reyes@kniferiver.net
END:VEVENT
BEGIN:VEVENT
DTSTART;TZID=America/Vancouver:20220421T173000
DTEND;TZID=America/Vancouver:20220421T190000
DTSTAMP:20260424T033718
CREATED:20220415T141331Z
LAST-MODIFIED:20220415T141331Z
UID:1258-1650562200-1650567600@krtrainingcenter.com
SUMMARY:Neighbor Open-House
DESCRIPTION:Hello Neighbors\, \nWe would like the opportunity to introduce the Knife River Training Team and to give everyone a tour of the new Training Center.  This is by invitation only.  We are reaching out to each Neighbor by mail\, phone or email. \nThis event is starting at 5:30pm and concluding at 7:00pm.  There are going to be snacks and beverages available. \nIf we have been unable to reach you by Wednesday April 20th\, please give Kris Latimer a call at 541-403-7704. \nWe are looking forward to meeting everyone.
URL:https://krtrainingcenter.com/training/neighbor-open-house/
LOCATION:Knife River Training Center – Brazos River Room\, 35973 Kennel Road SE\, Albany\, OR\, 97322\, United States
ORGANIZER;CN="Abbott%2C Dan":MAILTO:dan.abbott@kniferiver.com
END:VEVENT
BEGIN:VEVENT
DTSTART;TZID=America/Vancouver:20220428T130000
DTEND;TZID=America/Vancouver:20220428T160000
DTSTAMP:20260424T033718
CREATED:20220311T154155Z
LAST-MODIFIED:20220311T154219Z
UID:1220-1651150800-1651161600@krtrainingcenter.com
SUMMARY:Grand Opening!
DESCRIPTION:RSVP Form\n                             \n                        \n                        LinkedInThis field is for validation purposes and should be left unchanged.Name*Employer / Organization*Email*
URL:https://krtrainingcenter.com/training/grand-opening/
END:VEVENT
END:VCALENDAR