BEGIN:VCALENDAR
VERSION:2.0
PRODID:-//Knife River Training Center - ECPv6.15.20//NONSGML v1.0//EN
CALSCALE:GREGORIAN
METHOD:PUBLISH
X-ORIGINAL-URL:https://krtrainingcenter.com
X-WR-CALDESC:Events for Knife River Training Center
REFRESH-INTERVAL;VALUE=DURATION:PT1H
X-Robots-Tag:noindex
X-PUBLISHED-TTL:PT1H
BEGIN:VTIMEZONE
TZID:America/Vancouver
BEGIN:DAYLIGHT
TZOFFSETFROM:-0800
TZOFFSETTO:-0700
TZNAME:PDT
DTSTART:20210314T100000
END:DAYLIGHT
BEGIN:STANDARD
TZOFFSETFROM:-0700
TZOFFSETTO:-0800
TZNAME:PST
DTSTART:20211107T090000
END:STANDARD
BEGIN:DAYLIGHT
TZOFFSETFROM:-0800
TZOFFSETTO:-0700
TZNAME:PDT
DTSTART:20220313T100000
END:DAYLIGHT
BEGIN:STANDARD
TZOFFSETFROM:-0700
TZOFFSETTO:-0800
TZNAME:PST
DTSTART:20221106T090000
END:STANDARD
BEGIN:DAYLIGHT
TZOFFSETFROM:-0800
TZOFFSETTO:-0700
TZNAME:PDT
DTSTART:20230312T100000
END:DAYLIGHT
BEGIN:STANDARD
TZOFFSETFROM:-0700
TZOFFSETTO:-0800
TZNAME:PST
DTSTART:20231105T090000
END:STANDARD
END:VTIMEZONE
BEGIN:VEVENT
DTSTART;TZID=America/Vancouver:20220513T080000
DTEND;TZID=America/Vancouver:20220513T170000
DTSTAMP:20260423T170738
CREATED:20220511T191430Z
LAST-MODIFIED:20220511T193321Z
UID:1300-1652428800-1652461200@krtrainingcenter.com
SUMMARY:Test - KRC Only
DESCRIPTION:test
URL:https://krtrainingcenter.com/training/test/
LOCATION:Knife River Training Center – Brazos River Room\, 35973 Kennel Road SE\, Albany\, OR\, 97322\, United States
ORGANIZER;CN="Reyes%2C Alex":MAILTO:alex.reyes@kniferiver.net
END:VEVENT
BEGIN:VEVENT
DTSTART;VALUE=DATE:20220518
DTEND;VALUE=DATE:20220520
DTSTAMP:20260423T170738
CREATED:20220511T122235Z
LAST-MODIFIED:20220511T202059Z
UID:1284-1652832000-1653004799@krtrainingcenter.com
SUMMARY:Top Drum / Top Wheel Train the Trainer #2 2022
DESCRIPTION:Dates: Wednesday\, May 18 to Thursday\, March 19\, 2022 \nStart Time: 8am sharp \nEnd Time: 5pm \nPPE Required \nDress for both indoor and outdoor activity \nThis course is for new or recertifying Top Drum or Wheel trainers only – Mentor Driver is not yet scheduled.  If Top Drum/Wheel is new to you\, or you’re unfamiliar with it then we strongly encourage you to attend as well! It is the Knife River standard for all drivers of Commercial Vehicles. \nSupervisors\, you can enroll multiple individuals with each submission.
URL:https://krtrainingcenter.com/training/top-drum-top-wheel-train-the-trainer-2-2022/
LOCATION:Knife River Training Center Dome\, 35973 Kennel Road SE\, Albany\, OR\, 97322\, United States
ORGANIZER;CN="Reyes%2C Alex":MAILTO:alex.reyes@kniferiver.net
END:VEVENT
BEGIN:VEVENT
DTSTART;TZID=America/Vancouver:20220525T100000
DTEND;TZID=America/Vancouver:20220525T140000
DTSTAMP:20260423T170738
CREATED:20211124T001103Z
LAST-MODIFIED:20211124T001103Z
UID:1003-1653472800-1653487200@krtrainingcenter.com
SUMMARY:Albany CC
DESCRIPTION:THIS IS A PRIVATE EVENT \n  \n  \nPlease email Alex Reyes at alex.reyes@kniferiver.com if you have any question about renting space at the Knife River Training Center.
URL:https://krtrainingcenter.com/training/albany-cc/
LOCATION:Knifer River Training Center – Columbia River Room\, 35973 Kennel Road SE\, Albany\, OR\, 97322\, United States
ORGANIZER;CN="Reyes%2C Alex":MAILTO:alex.reyes@kniferiver.net
END:VEVENT
END:VCALENDAR