BEGIN:VCALENDAR
VERSION:2.0
PRODID:-//Knife River Training Center - ECPv6.15.20//NONSGML v1.0//EN
CALSCALE:GREGORIAN
METHOD:PUBLISH
X-WR-CALNAME:Knife River Training Center
X-ORIGINAL-URL:https://krtrainingcenter.com
X-WR-CALDESC:Events for Knife River Training Center
REFRESH-INTERVAL;VALUE=DURATION:PT1H
X-Robots-Tag:noindex
X-PUBLISHED-TTL:PT1H
BEGIN:VTIMEZONE
TZID:America/Vancouver
BEGIN:DAYLIGHT
TZOFFSETFROM:-0800
TZOFFSETTO:-0700
TZNAME:PDT
DTSTART:20210314T100000
END:DAYLIGHT
BEGIN:STANDARD
TZOFFSETFROM:-0700
TZOFFSETTO:-0800
TZNAME:PST
DTSTART:20211107T090000
END:STANDARD
BEGIN:DAYLIGHT
TZOFFSETFROM:-0800
TZOFFSETTO:-0700
TZNAME:PDT
DTSTART:20220313T100000
END:DAYLIGHT
BEGIN:STANDARD
TZOFFSETFROM:-0700
TZOFFSETTO:-0800
TZNAME:PST
DTSTART:20221106T090000
END:STANDARD
BEGIN:DAYLIGHT
TZOFFSETFROM:-0800
TZOFFSETTO:-0700
TZNAME:PDT
DTSTART:20230312T100000
END:DAYLIGHT
BEGIN:STANDARD
TZOFFSETFROM:-0700
TZOFFSETTO:-0800
TZNAME:PST
DTSTART:20231105T090000
END:STANDARD
END:VTIMEZONE
BEGIN:VEVENT
DTSTART;VALUE=DATE:20220606
DTEND;VALUE=DATE:20220611
DTSTAMP:20260423T154353
CREATED:20211216T140933Z
LAST-MODIFIED:20211216T141436Z
UID:1044-1654473600-1654905599@krtrainingcenter.com
SUMMARY:TTT test
DESCRIPTION:lalkfgnjhe
URL:https://krtrainingcenter.com/training/ttt-test/
LOCATION:Knife River Training Center – Brazos River Room\, 35973 Kennel Road SE\, Albany\, OR\, 97322\, United States
ORGANIZER;CN="Reyes%2C Alex":MAILTO:alex.reyes@kniferiver.net
END:VEVENT
BEGIN:VEVENT
DTSTART;TZID=America/Vancouver:20220610T090000
DTEND;TZID=America/Vancouver:20220610T120000
DTSTAMP:20260423T154353
CREATED:20220125T210312Z
LAST-MODIFIED:20220125T210312Z
UID:1113-1654851600-1654862400@krtrainingcenter.com
SUMMARY:Tour Group
DESCRIPTION:
URL:https://krtrainingcenter.com/training/tour-group/
END:VEVENT
BEGIN:VEVENT
DTSTART;TZID=America/Vancouver:20220613T080000
DTEND;TZID=America/Vancouver:20220617T170000
DTSTAMP:20260423T154353
CREATED:20220511T170825Z
LAST-MODIFIED:20220524T161649Z
UID:1207-1655107200-1655485200@krtrainingcenter.com
SUMMARY:Leadership Development Course - Knife River Only
DESCRIPTION:LDC Course Overview_2022 – Click here more information\n  \nDates: Monday\, June 13 to Friday\, June 17\, 2022 \nStart Time: 8:00am sharp \nEnd Time: 5:00pm \nPPE Required on Friday \nDress for both indoor and outdoor activity \n 
URL:https://krtrainingcenter.com/training/leadership-development-course-knife-river-only-2/
LOCATION:Knife River Training Center – Copper River Room\, 35973 Kennel Road SE\, Albany\, OR\, 97322\, United States
ORGANIZER;CN="Reyes%2C Alex":MAILTO:alex.reyes@kniferiver.net
END:VEVENT
BEGIN:VEVENT
DTSTART;TZID=America/Vancouver:20220613T080000
DTEND;TZID=America/Vancouver:20220617T170000
DTSTAMP:20260423T154353
CREATED:20220513T123041Z
LAST-MODIFIED:20220524T161433Z
UID:1278-1655107200-1655485200@krtrainingcenter.com
SUMMARY:Leadership Development Course - Open to the public - Class is Full
DESCRIPTION:Class is Full\nLDC Course Overview_2022 – Click here more information\n  \nDates: Monday\, June 13 to Friday\, June 17\, 2022 \nStart Time: 8:00am sharp \nEnd Time: 5:00pm \nPPE Required on Friday \nDress for both indoor and outdoor activity \nTuition is normally $3500\, but we are offering a discount of a $1000 \nTuition is $2500\n 
URL:https://krtrainingcenter.com/training/leadership-development-course-open-to-the-public/
LOCATION:Knife River Training Center – Copper River Room\, 35973 Kennel Road SE\, Albany\, OR\, 97322\, United States
ORGANIZER;CN="Reyes%2C Alex":MAILTO:alex.reyes@kniferiver.net
END:VEVENT
BEGIN:VEVENT
DTSTART;VALUE=DATE:20220620
DTEND;VALUE=DATE:20220709
DTSTAMP:20260423T154353
CREATED:20220505T200336Z
LAST-MODIFIED:20220518T225654Z
UID:1266-1655683200-1657324799@krtrainingcenter.com
SUMMARY:ELDT/CDL Prep Class  2022
DESCRIPTION:3 week course \nDate: June 20th through July 8th \nStart Time:  8:00am sharp \nLunch is provided. \nTo register for this class please contact Lee LeJanic by phone at 541-917-4846 or email at lee.lejanic@linnbenton.edu\nItems students need before the start of class:  \n\nValid Drivers License\nCurrent Medical Card\nDOT Drug Test\nCDL Class A Permit- with a minimum of 30 days remaining at the completion of the course\nCleared through HR & have completed the “Pre-Employment” process as a driver\n\nPlease email a copy of the LBCC registration to lee.lejanic@linnbenton.edu \n 
URL:https://krtrainingcenter.com/training/cdl-prep-class-2-2022-copy/
LOCATION:Knife River Training Center – Snake River Room\, 35973 Kennel Road SE\, Albany\, OR\, 97322\, United States
ATTACH;FMTTYPE=image/png:https://krtrainingcenter.com/wp-content/uploads/2022/05/CDL-promo-pic-copy.png
ORGANIZER;CN="Reyes%2C Alex":MAILTO:alex.reyes@kniferiver.net
END:VEVENT
BEGIN:VEVENT
DTSTART;TZID=America/Vancouver:20220630T080000
DTEND;TZID=America/Vancouver:20220630T170000
DTSTAMP:20260423T154353
CREATED:20220520T150521Z
LAST-MODIFIED:20220629T161437Z
UID:1449-1656576000-1656608400@krtrainingcenter.com
SUMMARY:CC Test
DESCRIPTION:This just a test
URL:https://krtrainingcenter.com/training/cc-test/
LOCATION:Knife River Training Center – Brazos River Room\, 35973 Kennel Road SE\, Albany\, OR\, 97322\, United States
ORGANIZER;CN="Reyes%2C Alex":MAILTO:alex.reyes@kniferiver.net
END:VEVENT
END:VCALENDAR