BEGIN:VCALENDAR
VERSION:2.0
PRODID:-//Knife River Training Center - ECPv6.15.20//NONSGML v1.0//EN
CALSCALE:GREGORIAN
METHOD:PUBLISH
X-WR-CALNAME:Knife River Training Center
X-ORIGINAL-URL:https://krtrainingcenter.com
X-WR-CALDESC:Events for Knife River Training Center
REFRESH-INTERVAL;VALUE=DURATION:PT1H
X-Robots-Tag:noindex
X-PUBLISHED-TTL:PT1H
BEGIN:VTIMEZONE
TZID:America/Vancouver
BEGIN:DAYLIGHT
TZOFFSETFROM:-0800
TZOFFSETTO:-0700
TZNAME:PDT
DTSTART:20210314T100000
END:DAYLIGHT
BEGIN:STANDARD
TZOFFSETFROM:-0700
TZOFFSETTO:-0800
TZNAME:PST
DTSTART:20211107T090000
END:STANDARD
BEGIN:DAYLIGHT
TZOFFSETFROM:-0800
TZOFFSETTO:-0700
TZNAME:PDT
DTSTART:20220313T100000
END:DAYLIGHT
BEGIN:STANDARD
TZOFFSETFROM:-0700
TZOFFSETTO:-0800
TZNAME:PST
DTSTART:20221106T090000
END:STANDARD
BEGIN:DAYLIGHT
TZOFFSETFROM:-0800
TZOFFSETTO:-0700
TZNAME:PDT
DTSTART:20230312T100000
END:DAYLIGHT
BEGIN:STANDARD
TZOFFSETFROM:-0700
TZOFFSETTO:-0800
TZNAME:PST
DTSTART:20231105T090000
END:STANDARD
END:VTIMEZONE
BEGIN:VEVENT
DTSTART;VALUE=DATE:20221031
DTEND;VALUE=DATE:20221119
DTSTAMP:20260423T044754
CREATED:20220518T230335Z
LAST-MODIFIED:20220902T182916Z
UID:1402-1667174400-1668815999@krtrainingcenter.com
SUMMARY:ELDT/CDL Prep Class  2022
DESCRIPTION:Course Description:  CDL – Entry Level Driver Training – Knife River Training Center \n3 week course \nDate: October 31st through November 18th \nStart Time:  7:30 am sharp \nLunch is provided. \nTo register for this class follow the steps below:\n\n Choose an Online application:\n\nFor Businesses –  tinyurl.com/ThroughEmployer \nFor General Population –  tinyurl.com/GeneralApplicant\n\n\nEmail the completed Program Application to CDL@linnbenton.edu\nFor assistance\, please contact 541-917-4846 or email to CDL@linnbenton.edu\n\n  \nItems students need before the start of class:  \n\nValid Drivers License\nCurrent Medical Card\nDOT Drug Test\nCDL Class A Permit- with a minimum of 30 days remaining at the completion of the course\nCleared through HR & have completed the “Pre-Employment” process as a driver
URL:https://krtrainingcenter.com/training/eldt-cdl-prep-class-2022-2/
LOCATION:Knife River Training Center – Snake River Room\, 35973 Kennel Road SE\, Albany\, OR\, 97322\, United States
ATTACH;FMTTYPE=image/png:https://krtrainingcenter.com/wp-content/uploads/2022/05/CDL-promo-pic-copy-new-2.png
ORGANIZER;CN="Reyes%2C Alex":MAILTO:alex.reyes@kniferiver.net
END:VEVENT
BEGIN:VEVENT
DTSTART;TZID=America/Vancouver:20221031T073000
DTEND;TZID=America/Vancouver:20221104T170000
DTSTAMP:20260423T044754
CREATED:20220928T202157Z
LAST-MODIFIED:20221010T215422Z
UID:1715-1667201400-1667581200@krtrainingcenter.com
SUMMARY:Top Drum/Top Wheel Master Trainer
DESCRIPTION:Dates: Monday\, October 31 to Tuesday\, November 4\, 2022 \nStart Time: 7:30am sharp \nEnd Time: 5pm \nPPE Required \nDress for both indoor and outdoor activity \nSupervisors\, you can enroll multiple individuals with each submission. \n  \nTravel Information:  Airports\, Hotels\, Shuttle and other Nearby Services – Travel Information – Knife River Training Center
URL:https://krtrainingcenter.com/training/top-drum-top-wheel-master-trainer/
LOCATION:Knife River Training Center – Copper River Room\, 35973 Kennel Road SE\, Albany\, OR\, 97322\, United States
END:VEVENT
BEGIN:VEVENT
DTSTART;TZID=America/Vancouver:20221031T080000
DTEND;TZID=America/Vancouver:20221101T170000
DTSTAMP:20260423T044754
CREATED:20220928T194007Z
LAST-MODIFIED:20221028T145451Z
UID:1701-1667203200-1667322000@krtrainingcenter.com
SUMMARY:Top Drum / Top Wheel Train the Trainer #1 - Knife River Only
DESCRIPTION:Dates: Monday\, October 31 to Tuesday\, November 1\, 2022 \nStart Time: 8am sharp \nEnd Time: 5pm \nPPE Required \nDress for both indoor and outdoor activity \nThis course is for new or recertifying Top Drum or Wheel trainers only – Mentor Driver is not yet scheduled.  If Top Drum/Wheel is new to you\, or you’re unfamiliar with it then we strongly encourage you to attend as well! It is the Knife River standard for all drivers of Commercial Vehicles. \nSupervisors\, you can enroll multiple individuals with each submission. \n  \nTravel Information:  Airports\, Hotels\, Shuttle and other Nearby Services – Travel Information – Knife River Training Center
URL:https://krtrainingcenter.com/training/top-drum-top-wheel-train-the-trainer-1-knife-river-only/
LOCATION:Knife River Training Center – Snake River Room\, 35973 Kennel Road SE\, Albany\, OR\, 97322\, United States
CATEGORIES:Training
ORGANIZER;CN="Reyes%2C Alex":MAILTO:alex.reyes@kniferiver.net
END:VEVENT
BEGIN:VEVENT
DTSTART;TZID=America/Vancouver:20221102T080000
DTEND;TZID=America/Vancouver:20221102T170000
DTSTAMP:20260423T044754
CREATED:20220324T140314Z
LAST-MODIFIED:20220928T200413Z
UID:1233-1667376000-1667408400@krtrainingcenter.com
SUMMARY:Knife River - Mentor Driver
DESCRIPTION:Start Time: 8:00 \nIn this meeting we will be going over three main topics. \n\nProgram Overview\nMentor Manager Meetings\nCreating an Action Plan\nIntroduction of New Mentors\n\n  \nManagers need to attend with their Mentor Driver(s) \nWe will be indoors all day so dress for office casual. \n  \nTravel Information:  Airports\, Hotels\, Shuttle and other Nearby Services – Travel Information – Knife River Training Center
URL:https://krtrainingcenter.com/training/knife-river-western-oregon-mentor-driver-2/
LOCATION:Knifer River Training Center – Snake & Missouri River Rooms\, 35973 Kennel Road SE\, Albany\, OR\, 97322\, United States
ORGANIZER;CN="Reyes%2C Alex":MAILTO:alex.reyes@kniferiver.net
END:VEVENT
BEGIN:VEVENT
DTSTART;TZID=America/Vancouver:20221103T080000
DTEND;TZID=America/Vancouver:20221104T170000
DTSTAMP:20260423T044754
CREATED:20220928T194645Z
LAST-MODIFIED:20221028T154209Z
UID:1706-1667462400-1667581200@krtrainingcenter.com
SUMMARY:Top Drum / Top Wheel Train the Trainer #2 - Knife River Only
DESCRIPTION:Dates: Thursday 3rd to Friday\, November 4th\, 2022 \nStart Time: 8am sharp \nEnd Time: 5pm \nPPE Required \nDress for both indoor and outdoor activity \nThis course is for new or recertifying Top Drum or Wheel trainers only – Mentor Driver is not yet scheduled.  If Top Drum/Wheel is new to you\, or you’re unfamiliar with it then we strongly encourage you to attend as well! It is the Knife River standard for all drivers of Commercial Vehicles. \nSupervisors\, you can enroll multiple individuals with each submission. \n  \nTravel Information:  Airports\, Hotels\, Shuttle and other Nearby Services – Travel Information – Knife River Training Center
URL:https://krtrainingcenter.com/training/top-drum-top-wheel-train-the-trainer-2-knife-river-only/
LOCATION:Knife River Training Center – Snake River Room\, 35973 Kennel Road SE\, Albany\, OR\, 97322\, United States
CATEGORIES:Training
ORGANIZER;CN="Reyes%2C Alex":MAILTO:alex.reyes@kniferiver.net
END:VEVENT
BEGIN:VEVENT
DTSTART;TZID=America/Vancouver:20221114T073000
DTEND;TZID=America/Vancouver:20221116T170000
DTSTAMP:20260423T044754
CREATED:20221026T154227Z
LAST-MODIFIED:20221102T130701Z
UID:1866-1668411000-1668618000@krtrainingcenter.com
SUMMARY:Skid Steer Loader Level 1 - Knife River Only - Class is Full
DESCRIPTION:Skid Steer Loader – Class Information\nDates: Monday\, November 14 to Wednesday\, November 16\, 2022 \nStart Time: 7:30am sharp \nEnd Time: 5:00pm \nPlease bring all your Personal Protective Equipment (PPE) each day \nDress for both indoor and outdoor activity \nSupervisors\, you can enroll multiple individuals with each submission \n  \nTravel Information:  Airports\, Hotels\, Shuttle and other Nearby Services – Travel Information – Knife River Training Center \n 
URL:https://krtrainingcenter.com/training/skid-steer-loader-level-1-knife-river-only-class-is-full/
LOCATION:Knifer River Training Center – Columbia River Room\, 35973 Kennel Road SE\, Albany\, OR\, 97322\, United States
ATTACH;FMTTYPE=image/png:https://krtrainingcenter.com/wp-content/uploads/2020/09/knife-river-logo-color.png
ORGANIZER;CN="Mike Glazier":MAILTO:michael.glazier@kniferiver.net
END:VEVENT
BEGIN:VEVENT
DTSTART;VALUE=DATE:20221128
DTEND;VALUE=DATE:20221217
DTSTAMP:20260423T044754
CREATED:20220518T230619Z
LAST-MODIFIED:20220902T183330Z
UID:1405-1669593600-1671235199@krtrainingcenter.com
SUMMARY:ELDT/CDL Prep Class  2022
DESCRIPTION:Course Description:  CDL – Entry Level Driver Training – Knife River Training Center \n3 week course \nDate: November 28th through December 16th \nStart Time:  7:30 am sharp \nLunch is provided. \nTo register for this class follow the steps below:\n\n Choose an Online application:\n\nFor Businesses –  tinyurl.com/ThroughEmployer \nFor General Population –  tinyurl.com/GeneralApplicant\n\n\nEmail the completed Program Application to CDL@linnbenton.edu\nFor assistance\, please contact 541-917-4846 or email to CDL@linnbenton.edu\n\n  \nItems students need before the start of class:  \n\nValid Drivers License\nCurrent Medical Card\nDOT Drug Test\nCDL Class A Permit- with a minimum of 30 days remaining at the completion of the course\nCleared through HR & have completed the “Pre-Employment” process as a driver
URL:https://krtrainingcenter.com/training/eldt-cdl-prep-class-2022-3/
LOCATION:Knife River Training Center – Snake River Room\, 35973 Kennel Road SE\, Albany\, OR\, 97322\, United States
ATTACH;FMTTYPE=image/png:https://krtrainingcenter.com/wp-content/uploads/2022/05/CDL-promo-pic-copy-new-3.png
ORGANIZER;CN="Reyes%2C Alex":MAILTO:alex.reyes@kniferiver.net
END:VEVENT
BEGIN:VEVENT
DTSTART;TZID=America/Vancouver:20221128T080000
DTEND;TZID=America/Vancouver:20221202T170000
DTSTAMP:20260423T044754
CREATED:20221026T164314Z
LAST-MODIFIED:20221026T165405Z
UID:1870-1669622400-1670000400@krtrainingcenter.com
SUMMARY:Construction Boot Camp - Open to Public - Class is Full
DESCRIPTION:Boot Camp Course Description\nDates: Monday\, November 28 to Friday\, December 2\, 2022 \nStart Time: 8:00am sharp \nEnd Time: 5:00pm \nSafety toe shoes are required all week \nDress for both indoor and outdoor activity \nSupervisors\, you can enroll multiple individuals with each submission \nTo receive additional details\, including registration information complete the online form\nClick on –  Boot Camp Application or scan the QR Code.\n \nTravel Information:  Airports\, Hotels\, Shuttle and other Nearby Services – Travel Information – Knife River Training Center \n 
URL:https://krtrainingcenter.com/training/construction-boot-camp-open-to-public-class-is-full/
LOCATION:Knife River Training Center – Snake River Room\, 35973 Kennel Road SE\, Albany\, OR\, 97322\, United States
ATTACH;FMTTYPE=image/png:https://krtrainingcenter.com/wp-content/uploads/2020/09/knife-river-logo-color.png
ORGANIZER;CN="Reyes%2C Alex":MAILTO:alex.reyes@kniferiver.net
END:VEVENT
END:VCALENDAR