BEGIN:VCALENDAR
VERSION:2.0
PRODID:-//Knife River Training Center - ECPv6.15.20//NONSGML v1.0//EN
CALSCALE:GREGORIAN
METHOD:PUBLISH
X-ORIGINAL-URL:https://krtrainingcenter.com
X-WR-CALDESC:Events for Knife River Training Center
REFRESH-INTERVAL;VALUE=DURATION:PT1H
X-Robots-Tag:noindex
X-PUBLISHED-TTL:PT1H
BEGIN:VTIMEZONE
TZID:America/Vancouver
BEGIN:DAYLIGHT
TZOFFSETFROM:-0800
TZOFFSETTO:-0700
TZNAME:PDT
DTSTART:20220313T100000
END:DAYLIGHT
BEGIN:STANDARD
TZOFFSETFROM:-0700
TZOFFSETTO:-0800
TZNAME:PST
DTSTART:20221106T090000
END:STANDARD
BEGIN:DAYLIGHT
TZOFFSETFROM:-0800
TZOFFSETTO:-0700
TZNAME:PDT
DTSTART:20230312T100000
END:DAYLIGHT
BEGIN:STANDARD
TZOFFSETFROM:-0700
TZOFFSETTO:-0800
TZNAME:PST
DTSTART:20231105T090000
END:STANDARD
BEGIN:DAYLIGHT
TZOFFSETFROM:-0800
TZOFFSETTO:-0700
TZNAME:PDT
DTSTART:20240310T100000
END:DAYLIGHT
BEGIN:STANDARD
TZOFFSETFROM:-0700
TZOFFSETTO:-0800
TZNAME:PST
DTSTART:20241103T090000
END:STANDARD
END:VTIMEZONE
BEGIN:VEVENT
DTSTART;VALUE=DATE:20230530
DTEND;VALUE=DATE:20230622
DTSTAMP:20260422T150711
CREATED:20220519T194155Z
LAST-MODIFIED:20230404T162921Z
UID:1419-1685404800-1687391999@krtrainingcenter.com
SUMMARY:ELDT CDL Program
DESCRIPTION:This course is to obtain an “Unrestricted” Class A or Class B CDL for operating Trucks in the Construction Industry \nThis course is 3 weeks and 2 days (or approximately 136 hours) \nDate:  Tuesday May 30th through June 21st (Monday thru Friday) \nStart Time:  8:00am sharp! \nLunch is provided. \nThis Entry Level Driver Training (ELDT) program is a partnership between Knife River and \nLinn Benton Community College.\nFor course information\, tuition and registration information please CLICK HERE\n  \nFor question and assistance please reach out to the LBCC Coordinator at 541-917-4961 or email CDL@LinnBenton.edu \n 
URL:https://krtrainingcenter.com/training/eldt-cdl-prep-class-2023-4/
LOCATION:Knife River Training Center – Snake River Room\, 35973 Kennel Road SE\, Albany\, OR\, 97322\, United States
ATTACH;FMTTYPE=image/png:https://krtrainingcenter.com/wp-content/uploads/2022/05/CDL-promo-pic-copy.png
ORGANIZER;CN="Reyes%2C Alex":MAILTO:alex.reyes@kniferiver.net
END:VEVENT
BEGIN:VEVENT
DTSTART;TZID=America/Vancouver:20230601T073000
DTEND;TZID=America/Vancouver:20230601T163000
DTSTAMP:20260422T150711
CREATED:20230512T220257Z
LAST-MODIFIED:20230601T141418Z
UID:2332-1685604600-1685637000@krtrainingcenter.com
SUMMARY:Introduction to Wheel Loader
DESCRIPTION:Introduction to Wheel Loader is course designed for people who are interested in operating this type of machinery and have had no prior exposer to it.  This course will go over some of the basic best practices of this machine family such as safety\, digging techniques\, traveling with a load and stockpiling.  This course also includes an inspection of the machine that any new operator should know.  This course is being held at the Training Center in a safe and controlled environment. \nDates: Thursday\, June 1st 2023 \nStart Time: 7:30am sharp \nEnd Time: 4:30pm \nPlease bring all your Personal Protective Equipment (PPE) each day \nDress for both indoor and outdoor activity \nSupervisors\, you can enroll multiple individuals with each submission \n  \nTravel Information:  Airports\, Hotels\, Shuttle and other Nearby Services – Travel Information – Knife River Training Center \nCancellation Policy: If\, for any reason\, you and/or any student(s) you’re registering cannot attend a class\, you’ll receive a full refund or are not charged if you cancel 14 days prior to the start of the scheduled class. Please call the Training Center Office to cancel or email alex.reyes@kniferiver.com \nIf you cannot cancel less than 14 days prior to the start of your scheduled class\, then 30% of your course fee is non-refundable.\nTransferring to another scheduled class must be made 14 days prior to the start of the scheduled class or may be subject to a transfer fee. \nStudent’s who do not show up for their registered course will forfeit all tuition.
URL:https://krtrainingcenter.com/training/introduction-to-wheel-loader-2/
LOCATION:Knife River Training Center Dome\, 35973 Kennel Road SE\, Albany\, OR\, 97322\, United States
ORGANIZER;CN="Reyes%2C Alex":MAILTO:alex.reyes@kniferiver.net
END:VEVENT
BEGIN:VEVENT
DTSTART;TZID=America/Vancouver:20230605T080000
DTEND;TZID=America/Vancouver:20230609T170000
DTSTAMP:20260422T150711
CREATED:20230512T154602Z
LAST-MODIFIED:20230523T200419Z
UID:2320-1685952000-1686330000@krtrainingcenter.com
SUMMARY:Construction Boot Camp - Open to Public
DESCRIPTION:Boot Camp Course Description\nDates: Monday\, June 05 to Friday\, June 09\, 2023 \nStart Time: 8:30am sharp \nEnd Time: 5:00pm \nSafety toe shoes are required all week \nDress for both indoor and outdoor activity \nSupervisors\, you can enroll multiple individuals with each submission \nTo receive additional details\, including registration information complete the online form\nClick on –  Boot Camp Application or scan the QR Code.\n \nTravel Information:  Airports\, Hotels\, Shuttle and other Nearby Services – Travel Information – Knife River Training Center \n 
URL:https://krtrainingcenter.com/training/construction-boot-camp-open-to-public-4/
LOCATION:Knife River Training Center – Snake River Room\, 35973 Kennel Road SE\, Albany\, OR\, 97322\, United States
ATTACH;FMTTYPE=image/png:https://krtrainingcenter.com/wp-content/uploads/2020/09/knife-river-logo-color.png
ORGANIZER;CN="Reyes%2C Alex":MAILTO:alex.reyes@kniferiver.net
END:VEVENT
BEGIN:VEVENT
DTSTART;TZID=America/Vancouver:20230619T080000
DTEND;TZID=America/Vancouver:20230623T170000
DTSTAMP:20260422T150711
CREATED:20230512T154811Z
LAST-MODIFIED:20230512T154811Z
UID:2322-1687161600-1687539600@krtrainingcenter.com
SUMMARY:Construction Boot Camp - Open to Public
DESCRIPTION:Boot Camp Course Description\nDates: Monday\, June 19 to Friday\, June 23\, 2023 \nStart Time: 8:00am sharp \nEnd Time: 5:00pm \nSafety toe shoes are required all week \nDress for both indoor and outdoor activity \nSupervisors\, you can enroll multiple individuals with each submission \nTo receive additional details\, including registration information complete the online form\nClick on –  Boot Camp Application or scan the QR Code.\n \nTravel Information:  Airports\, Hotels\, Shuttle and other Nearby Services – Travel Information – Knife River Training Center \n 
URL:https://krtrainingcenter.com/training/construction-boot-camp-open-to-public-5/
LOCATION:Knife River Training Center – Snake River Room\, 35973 Kennel Road SE\, Albany\, OR\, 97322\, United States
ATTACH;FMTTYPE=image/png:https://krtrainingcenter.com/wp-content/uploads/2020/09/knife-river-logo-color.png
ORGANIZER;CN="Reyes%2C Alex":MAILTO:alex.reyes@kniferiver.net
END:VEVENT
BEGIN:VEVENT
DTSTART;TZID=America/Vancouver:20230626T080000
DTEND;TZID=America/Vancouver:20230630T170000
DTSTAMP:20260422T150711
CREATED:20230512T154955Z
LAST-MODIFIED:20230512T154955Z
UID:2323-1687766400-1688144400@krtrainingcenter.com
SUMMARY:Construction Boot Camp - Open to Public
DESCRIPTION:Boot Camp Course Description\nDates: Monday\, June 26 to Friday\, June 30\, 2023 \nStart Time: 8:00am sharp \nEnd Time: 5:00pm \nSafety toe shoes are required all week \nDress for both indoor and outdoor activity \nSupervisors\, you can enroll multiple individuals with each submission \nTo receive additional details\, including registration information complete the online form\nClick on –  Boot Camp Application or scan the QR Code.\n \nTravel Information:  Airports\, Hotels\, Shuttle and other Nearby Services – Travel Information – Knife River Training Center \n 
URL:https://krtrainingcenter.com/training/construction-boot-camp-open-to-public-6/
LOCATION:Knife River Training Center – Snake River Room\, 35973 Kennel Road SE\, Albany\, OR\, 97322\, United States
ATTACH;FMTTYPE=image/png:https://krtrainingcenter.com/wp-content/uploads/2020/09/knife-river-logo-color.png
ORGANIZER;CN="Reyes%2C Alex":MAILTO:alex.reyes@kniferiver.net
END:VEVENT
END:VCALENDAR