BEGIN:VCALENDAR
VERSION:2.0
PRODID:-//Knife River Training Center - ECPv6.15.20//NONSGML v1.0//EN
CALSCALE:GREGORIAN
METHOD:PUBLISH
X-WR-CALNAME:Knife River Training Center
X-ORIGINAL-URL:https://krtrainingcenter.com
X-WR-CALDESC:Events for Knife River Training Center
REFRESH-INTERVAL;VALUE=DURATION:PT1H
X-Robots-Tag:noindex
X-PUBLISHED-TTL:PT1H
BEGIN:VTIMEZONE
TZID:America/Vancouver
BEGIN:DAYLIGHT
TZOFFSETFROM:-0800
TZOFFSETTO:-0700
TZNAME:PDT
DTSTART:20220313T100000
END:DAYLIGHT
BEGIN:STANDARD
TZOFFSETFROM:-0700
TZOFFSETTO:-0800
TZNAME:PST
DTSTART:20221106T090000
END:STANDARD
BEGIN:DAYLIGHT
TZOFFSETFROM:-0800
TZOFFSETTO:-0700
TZNAME:PDT
DTSTART:20230312T100000
END:DAYLIGHT
BEGIN:STANDARD
TZOFFSETFROM:-0700
TZOFFSETTO:-0800
TZNAME:PST
DTSTART:20231105T090000
END:STANDARD
BEGIN:DAYLIGHT
TZOFFSETFROM:-0800
TZOFFSETTO:-0700
TZNAME:PDT
DTSTART:20240310T100000
END:DAYLIGHT
BEGIN:STANDARD
TZOFFSETFROM:-0700
TZOFFSETTO:-0800
TZNAME:PST
DTSTART:20241103T090000
END:STANDARD
END:VTIMEZONE
BEGIN:VEVENT
DTSTART;VALUE=DATE:20230710
DTEND;VALUE=DATE:20230802
DTSTAMP:20260422T114456
CREATED:20220519T194514Z
LAST-MODIFIED:20230404T164820Z
UID:1421-1688947200-1690934399@krtrainingcenter.com
SUMMARY:ELDT CDL Program
DESCRIPTION:This course is to obtain an “Unrestricted” Class A or Class B CDL for operating Trucks in the Construction Industry \nThis course is 3 weeks and 2 days (or approximately 136 hours) \nDate: July 10th through August 1st (Monday thru Friday) \nStart Time:  8:00am sharp! \nLunch is provided. \nThis Entry Level Driver Training (ELDT) program is a partnership between Knife River and \nLinn Benton Community College.\nFor course information\, tuition and registration information please CLICK HERE\n  \nFor question and assistance please reach out to the LBCC Coordinator at 541-917-4961 or email CDL@LinnBenton.edu \n 
URL:https://krtrainingcenter.com/training/eldt-cdl-prep-class-2023-5/
LOCATION:Knife River Training Center – Snake River Room\, 35973 Kennel Road SE\, Albany\, OR\, 97322\, United States
ATTACH;FMTTYPE=image/png:https://krtrainingcenter.com/wp-content/uploads/2022/05/CDL-promo-pic-copy.png
ORGANIZER;CN="Reyes%2C Alex":MAILTO:alex.reyes@kniferiver.net
END:VEVENT
BEGIN:VEVENT
DTSTART;TZID=America/Vancouver:20230807T073000
DTEND;TZID=America/Vancouver:20230808T170000
DTSTAMP:20260422T114456
CREATED:20230724T175800Z
LAST-MODIFIED:20230724T181559Z
UID:2394-1691393400-1691514000@krtrainingcenter.com
SUMMARY:Excavator 2D
DESCRIPTION:There are many features on the new next gen excavators.  This course is designed to go over all the features that now come standard on the next gen excavators.  The students will not only get to see how to make changes but will also get to operate the machine to see how the features work.  We will be going over E-Fence\, slope assist\, grade assist and bucket measure up. \nDates: Monday\, August 07 to Tuesday\, August 8\, 2023 \nStart Time: 7:30am sharp \nEnd Time: 5:00pm \nPlease bring all your Personal Protective Equipment (PPE) each day \nDress for both indoor and outdoor activity \nSupervisors\, you can enroll multiple individuals with each submission \n  \nTravel Information:  Airports\, Hotels\, Shuttle and other Nearby Services – Travel Information – Knife River Training Center \nCancellation Policy: If\, for any reason\, you and/or any student(s) you’re registering cannot attend a class\, you’ll receive a full refund or are not charged if you cancel 14 days prior to the start of the scheduled class. Please call the Training Center Office to cancel or email alex.reyes@kniferiver.com \nIf you cannot cancel less than 14 days prior to the start of your scheduled class\, then 30% of your course fee is non-refundable.\nTransferring to another scheduled class must be made 14 days prior to the start of the scheduled class or may be subject to a transfer fee. \nStudent’s who do not show up for their registered course will forfeit all tuition.
URL:https://krtrainingcenter.com/training/excavator-2d-2/
LOCATION:Knife River Training Center – Copper River Room\, 35973 Kennel Road SE\, Albany\, OR\, 97322\, United States
ORGANIZER;CN="Abbott%2C Dan":MAILTO:dan.abbott@kniferiver.com
END:VEVENT
BEGIN:VEVENT
DTSTART;TZID=America/Vancouver:20230809T073000
DTEND;TZID=America/Vancouver:20230809T170000
DTSTAMP:20260422T114456
CREATED:20230724T181439Z
LAST-MODIFIED:20230807T170740Z
UID:2434-1691566200-1691600400@krtrainingcenter.com
SUMMARY:Dozer 2D
DESCRIPTION:There are many features that are now standard on the newer Dozers.  The students will not only get to see how to make changes but will also get to operate the machine to see how the features work.  We will be going over slope assist\, and blade assist and how to change the wear on the blade so we can keep an accurate grade. \nDates: Wednesday\, August 9\, 2023 \nStart Time: 7:30am sharp \nEnd Time: 5:00pm \nPlease bring all your Personal Protective Equipment (PPE) each day \nDress for both indoor and outdoor activity \nSupervisors\, you can enroll multiple individuals with each submission \n  \nTravel Information:  Airports\, Hotels\, Shuttle and other Nearby Services – Travel Information – Knife River Training Center \nCancellation Policy: If\, for any reason\, you and/or any student(s) you’re registering cannot attend a class\, you’ll receive a full refund or are not charged if you cancel 14 days prior to the start of the scheduled class. Please call the Training Center Office to cancel or email alex.reyes@kniferiver.com \nIf you cannot cancel less than 14 days prior to the start of your scheduled class\, then 30% of your course fee is non-refundable.\nTransferring to another scheduled class must be made 14 days prior to the start of the scheduled class or may be subject to a transfer fee. \nStudent’s who do not show up for their registered course will forfeit all tuition.
URL:https://krtrainingcenter.com/training/dozer-2d/
LOCATION:Knife River Training Center – Copper River Room\, 35973 Kennel Road SE\, Albany\, OR\, 97322\, United States
ORGANIZER;CN="Abbott%2C Dan":MAILTO:dan.abbott@kniferiver.com
END:VEVENT
BEGIN:VEVENT
DTSTART;VALUE=DATE:20230814
DTEND;VALUE=DATE:20230907
DTSTAMP:20260422T114456
CREATED:20220519T195418Z
LAST-MODIFIED:20230404T165807Z
UID:1426-1691971200-1694044799@krtrainingcenter.com
SUMMARY:ELDT CDL Program
DESCRIPTION:This course is to obtain an “Unrestricted” Class A or Class B CDL for operating Trucks in the Construction Industry \nThis course is 3 weeks and 2 days (or approximately 136 hours) \nDate: August 14th through September 6th (Monday thru Friday) \nStart Time:  8:00am sharp! \nLunch is provided. \nThis Entry Level Driver Training (ELDT) program is a partnership between Knife River and \nLinn Benton Community College.\nFor course information\, tuition and registration information please CLICK HERE\n  \nFor question and assistance please reach out to the LBCC Coordinator at 541-917-4961 or email CDL@LinnBenton.edu \n 
URL:https://krtrainingcenter.com/training/eldt-cdl-prep-class-2023-7/
LOCATION:Knife River Training Center – Snake River Room\, 35973 Kennel Road SE\, Albany\, OR\, 97322\, United States
ATTACH;FMTTYPE=image/png:https://krtrainingcenter.com/wp-content/uploads/2022/05/CDL-promo-pic-copy.png
ORGANIZER;CN="Reyes%2C Alex":MAILTO:alex.reyes@kniferiver.net
END:VEVENT
BEGIN:VEVENT
DTSTART;TZID=America/Vancouver:20230816T080000
DTEND;TZID=America/Vancouver:20230818T170000
DTSTAMP:20260422T114456
CREATED:20230518T195654Z
LAST-MODIFIED:20230518T200231Z
UID:2375-1692172800-1692378000@krtrainingcenter.com
SUMMARY:Hydraulic Excavator Operator Training - Knife River Only
DESCRIPTION:Course Information Click Here – Hydraulic Excavator Operator Course\nDates: Wednesday\, August 16 to Friday\, August 18\, 2023 \nStart Time: 7:30am sharp \nEnd Time: 5:00pm \nPlease bring all your Personal Protective Equipment (PPE) each day \nDress for both indoor and outdoor activity \nSupervisors\, you can enroll multiple individuals with each submission \n  \nTravel Information:  Airports\, Hotels\, Shuttle and other Nearby Services – Travel Information – Knife River Training Center \nCancellation Policy: If\, for any reason\, you and/or any student(s) you’re registering cannot attend a class\, you’ll receive a full refund or are not charged if you cancel 14 days prior to the start of the scheduled class. Please call the Training Center Office to cancel or email alex.reyes@kniferiver.com \nIf you cannot cancel less than 14 days prior to the start of your scheduled class\, then 30% of your course fee is non-refundable.\nTransferring to another scheduled class must be made 14 days prior to the start of the scheduled class or may be subject to a transfer fee. \nStudent’s who do not show up for their registered course will forfeit all tuition.
URL:https://krtrainingcenter.com/training/hydraulic-excavator-operator-training-knife-river-only-2/
LOCATION:Knifer River Training Center – Columbia River Room\, 35973 Kennel Road SE\, Albany\, OR\, 97322\, United States
ATTACH;FMTTYPE=image/png:https://krtrainingcenter.com/wp-content/uploads/2020/09/knife-river-logo-color.png
ORGANIZER;CN="Reyes%2C Alex":MAILTO:alex.reyes@kniferiver.net
END:VEVENT
BEGIN:VEVENT
DTSTART;TZID=America/Vancouver:20230821T080000
DTEND;TZID=America/Vancouver:20230823T170000
DTSTAMP:20260422T114456
CREATED:20230518T203823Z
LAST-MODIFIED:20230518T203823Z
UID:2381-1692604800-1692810000@krtrainingcenter.com
SUMMARY:Track Type Tractor Training (Dozer) - Knife River Only
DESCRIPTION:Class Information Click Here – TTT/Dozer Operator Course\nDates: Monday\, August 21 to Wednesday\, August 23\, 2023 \nStart Time: 7:30am sharp \nEnd Time: 5:00pm \nPlease bring all your Personal Protective Equipment (PPE) each day \nDress for both indoor and outdoor activity \nSupervisors\, you can enroll multiple individuals with each submission \n  \nTravel Information:  Airports\, Hotels\, Shuttle and other Nearby Services – Travel Information – Knife River Training Center \nCancellation Policy: If\, for any reason\, you and/or any student(s) you’re registering cannot attend a class\, you’ll receive a full refund or are not charged if you cancel 14 days prior to the start of the scheduled class. Please call the Training Center Office to cancel or email alex.reyes@kniferiver.com \nIf you cannot cancel less than 14 days prior to the start of your scheduled class\, then 30% of your course fee is non-refundable.\nTransferring to another scheduled class must be made 14 days prior to the start of the scheduled class or may be subject to a transfer fee. \nStudent’s who do not show up for their registered course will forfeit all tuition.
URL:https://krtrainingcenter.com/training/track-type-tractor-training-dozer-knife-river-only-3/
LOCATION:Knifer River Training Center – Columbia River Room\, 35973 Kennel Road SE\, Albany\, OR\, 97322\, United States
ATTACH;FMTTYPE=image/png:https://krtrainingcenter.com/wp-content/uploads/2022/07/New-TC-dozer2.png
ORGANIZER;CN="Reyes%2C Alex":MAILTO:alex.reyes@kniferiver.net
END:VEVENT
BEGIN:VEVENT
DTSTART;TZID=America/Vancouver:20230823T150000
DTEND;TZID=America/Vancouver:20230823T153000
DTSTAMP:20260422T114456
CREATED:20230816T190350Z
LAST-MODIFIED:20230817T222549Z
UID:2500-1692802800-1692804600@krtrainingcenter.com
SUMMARY:Top Drum/Top Wheel Managers Discussion
DESCRIPTION:This meeting is to discuss the changes that are happening to the two programs. \nMeeting starts at 3:00 pm \nMicrosoft Teams meeting \nJoin on your computer\, mobile app or room device \nCLICK HERE TO JOIN THE TEAMS MEETING \nMeeting ID: 232 536 571 063\nPasscode: KuLTcn \nDownload Teams | Join on the web \nOr call in (audio only) \n+1 701-353-1794\,\,613743528#   United States\, Fargo \n(888) 585-6957\,\,613743528#   United States (Toll-free) \nPhone Conference ID: 613 743 528# \nFind a local number | Reset PIN \nLearn More | Meeting options
URL:https://krtrainingcenter.com/training/top-drum-top-wheel-managers-discussion/
ATTACH;FMTTYPE=image/png:https://krtrainingcenter.com/wp-content/uploads/2023/08/Untitled-1.png
ORGANIZER;CN="Reyes%2C Alex":MAILTO:alex.reyes@kniferiver.net
END:VEVENT
END:VCALENDAR