BEGIN:VCALENDAR
VERSION:2.0
PRODID:-//Knife River Training Center - ECPv6.15.20//NONSGML v1.0//EN
CALSCALE:GREGORIAN
METHOD:PUBLISH
X-WR-CALNAME:Knife River Training Center
X-ORIGINAL-URL:https://krtrainingcenter.com
X-WR-CALDESC:Events for Knife River Training Center
REFRESH-INTERVAL;VALUE=DURATION:PT1H
X-Robots-Tag:noindex
X-PUBLISHED-TTL:PT1H
BEGIN:VTIMEZONE
TZID:America/Vancouver
BEGIN:DAYLIGHT
TZOFFSETFROM:-0800
TZOFFSETTO:-0700
TZNAME:PDT
DTSTART:20220313T100000
END:DAYLIGHT
BEGIN:STANDARD
TZOFFSETFROM:-0700
TZOFFSETTO:-0800
TZNAME:PST
DTSTART:20221106T090000
END:STANDARD
BEGIN:DAYLIGHT
TZOFFSETFROM:-0800
TZOFFSETTO:-0700
TZNAME:PDT
DTSTART:20230312T100000
END:DAYLIGHT
BEGIN:STANDARD
TZOFFSETFROM:-0700
TZOFFSETTO:-0800
TZNAME:PST
DTSTART:20231105T090000
END:STANDARD
BEGIN:DAYLIGHT
TZOFFSETFROM:-0800
TZOFFSETTO:-0700
TZNAME:PDT
DTSTART:20240310T100000
END:DAYLIGHT
BEGIN:STANDARD
TZOFFSETFROM:-0700
TZOFFSETTO:-0800
TZNAME:PST
DTSTART:20241103T090000
END:STANDARD
END:VTIMEZONE
BEGIN:VEVENT
DTSTART;VALUE=DATE:20230918
DTEND;VALUE=DATE:20231011
DTSTAMP:20260422T041638
CREATED:20220519T194940Z
LAST-MODIFIED:20230404T170100Z
UID:1423-1694995200-1696982399@krtrainingcenter.com
SUMMARY:ELDT CDL Program
DESCRIPTION:This course is to obtain an “Unrestricted” Class A or Class B CDL for operating Trucks in the Construction Industry \nThis course is 3 weeks and 2 days (or approximately 136 hours) \nDate: September 18th through October 10th (Monday thru Friday) \nStart Time:  8:00am sharp! \nLunch is provided. \nThis Entry Level Driver Training (ELDT) program is a partnership between Knife River and \nLinn Benton Community College.\nFor course information\, tuition and registration information please CLICK HERE\n  \nFor question and assistance please reach out to the LBCC Coordinator at 541-917-4961 or email CDL@LinnBenton.edu \n 
URL:https://krtrainingcenter.com/training/eldt-cdl-prep-class-2023-6/
LOCATION:Knife River Training Center – Snake River Room\, 35973 Kennel Road SE\, Albany\, OR\, 97322\, United States
ATTACH;FMTTYPE=image/png:https://krtrainingcenter.com/wp-content/uploads/2022/05/CDL-promo-pic-copy.png
ORGANIZER;CN="Reyes%2C Alex":MAILTO:alex.reyes@kniferiver.net
END:VEVENT
BEGIN:VEVENT
DTSTART;TZID=America/Vancouver:20231005T073000
DTEND;TZID=America/Vancouver:20231005T163000
DTSTAMP:20260422T041638
CREATED:20230830T164710Z
LAST-MODIFIED:20230830T165326Z
UID:2553-1696491000-1696523400@krtrainingcenter.com
SUMMARY:Introduction to Skid Steer Loader
DESCRIPTION:Content is protected.
URL:https://krtrainingcenter.com/training/introduction-to-skid-steer-loader-4/
LOCATION:Knife River Training Center Dome\, 35973 Kennel Road SE\, Albany\, OR\, 97322\, United States
END:VEVENT
BEGIN:VEVENT
DTSTART;TZID=America/Vancouver:20231006T073000
DTEND;TZID=America/Vancouver:20231006T163000
DTSTAMP:20260422T041638
CREATED:20230830T164214Z
LAST-MODIFIED:20230830T165152Z
UID:2556-1696577400-1696609800@krtrainingcenter.com
SUMMARY:Introduction to Skid Steer Loader
DESCRIPTION:Content is protected.
URL:https://krtrainingcenter.com/training/introduction-to-skid-steer-loader-3/
LOCATION:Knife River Training Center Dome\, 35973 Kennel Road SE\, Albany\, OR\, 97322\, United States
END:VEVENT
BEGIN:VEVENT
DTSTART;VALUE=DATE:20231023
DTEND;VALUE=DATE:20231116
DTSTAMP:20260422T041638
CREATED:20220519T195646Z
LAST-MODIFIED:20230404T170450Z
UID:1428-1698019200-1700092799@krtrainingcenter.com
SUMMARY:ELDT CDL Program
DESCRIPTION:This course is to obtain an “Unrestricted” Class A or Class B CDL for operating Trucks in the Construction Industry \nThis course is 3 weeks and 2 days (or approximately 136 hours) \nDate: October 23rd through November 15th (Monday thru Friday) \nStart Time:  8:00am sharp! \nLunch is provided. \nThis Entry Level Driver Training (ELDT) program is a partnership between Knife River and \nLinn Benton Community College.\nFor course information\, tuition and registration information please CLICK HERE\n  \nFor question and assistance please reach out to the LBCC Coordinator at 541-917-4961 or email CDL@LinnBenton.edu \n 
URL:https://krtrainingcenter.com/training/eldt-cdl-prep-class-2023-8/
LOCATION:Knife River Training Center – Snake River Room\, 35973 Kennel Road SE\, Albany\, OR\, 97322\, United States
ATTACH;FMTTYPE=image/png:https://krtrainingcenter.com/wp-content/uploads/2022/05/CDL-promo-pic-copy.png
ORGANIZER;CN="Reyes%2C Alex":MAILTO:alex.reyes@kniferiver.net
END:VEVENT
BEGIN:VEVENT
DTSTART;TZID=America/Vancouver:20231026T080000
DTEND;TZID=America/Vancouver:20231027T160000
DTSTAMP:20260422T041638
CREATED:20230824T221557Z
LAST-MODIFIED:20230824T221557Z
UID:2529-1698307200-1698422400@krtrainingcenter.com
SUMMARY:Certified Erosion and Sediment Control Lead (CESCL) Full Certification
DESCRIPTION:The full CESCL Certification course is 16 total hours including both in-person classroom-based learning as well as hands-on field-based practical application. \nThis training is being delivered by CWT Training Academy which is not affiliated with Knife River Corporation. \nCost is $400/person \nRegister at https://www.cwtacademy.com/pages/live-events-and-classes
URL:https://krtrainingcenter.com/training/certified-erosion-and-sediment-control-lead-cescl-full-certification/
ORGANIZER;CN="Nathan Hardebeck":MAILTO:nathanh@cwtacademy.com
END:VEVENT
END:VCALENDAR