BEGIN:VCALENDAR
VERSION:2.0
PRODID:-//Knife River Training Center - ECPv6.15.20//NONSGML v1.0//EN
CALSCALE:GREGORIAN
METHOD:PUBLISH
X-WR-CALNAME:Knife River Training Center
X-ORIGINAL-URL:https://krtrainingcenter.com
X-WR-CALDESC:Events for Knife River Training Center
REFRESH-INTERVAL;VALUE=DURATION:PT1H
X-Robots-Tag:noindex
X-PUBLISHED-TTL:PT1H
BEGIN:VTIMEZONE
TZID:America/Vancouver
BEGIN:DAYLIGHT
TZOFFSETFROM:-0800
TZOFFSETTO:-0700
TZNAME:PDT
DTSTART:20230312T100000
END:DAYLIGHT
BEGIN:STANDARD
TZOFFSETFROM:-0700
TZOFFSETTO:-0800
TZNAME:PST
DTSTART:20231105T090000
END:STANDARD
BEGIN:DAYLIGHT
TZOFFSETFROM:-0800
TZOFFSETTO:-0700
TZNAME:PDT
DTSTART:20240310T100000
END:DAYLIGHT
BEGIN:STANDARD
TZOFFSETFROM:-0700
TZOFFSETTO:-0800
TZNAME:PST
DTSTART:20241103T090000
END:STANDARD
BEGIN:DAYLIGHT
TZOFFSETFROM:-0800
TZOFFSETTO:-0700
TZNAME:PDT
DTSTART:20250309T100000
END:DAYLIGHT
BEGIN:STANDARD
TZOFFSETFROM:-0700
TZOFFSETTO:-0800
TZNAME:PST
DTSTART:20251102T090000
END:STANDARD
END:VTIMEZONE
BEGIN:VEVENT
DTSTART;VALUE=DATE:20240318
DTEND;VALUE=DATE:20240410
DTSTAMP:20260421T203105
CREATED:20230825T170005Z
LAST-MODIFIED:20240215T170617Z
UID:2536-1710720000-1712707199@krtrainingcenter.com
SUMMARY:ELDT/CDL Program
DESCRIPTION:This course is to obtain an “Unrestricted” Class A or Class B CDL for operating Commercial Motor Vehicles (CMV) \nThis course is 3 weeks and 2 days (or approximately 136 hours) \nDate: March 18th through April 9th (Monday thru Friday) \nStart Time:  7:30am sharp! \nLunch is provided. \nThis Entry Level Driver Training (ELDT) program is a partnership between Knife River and \nLinn Benton Community College.\nFor course information\, tuition and registration information please CLICK HERE\n  \nFor question and assistance please reach out to the LBCC Coordinator at 541-917-4961 or email CDL@LinnBenton.edu \n 
URL:https://krtrainingcenter.com/training/eldt-cdl-program-3/
LOCATION:Knife River Training Center – Missouri River Room\, 35973 Kennel Rd SE\, Albany\, OR\, 97322\, United States
ATTACH;FMTTYPE=image/jpeg:https://krtrainingcenter.com/wp-content/uploads/2023/08/Class-A-CDL.jpg
ORGANIZER;CN="Reyes%2C Alex":MAILTO:alex.reyes@kniferiver.net
END:VEVENT
BEGIN:VEVENT
DTSTART;TZID=America/Vancouver:20240401T073000
DTEND;TZID=America/Vancouver:20240405T170000
DTSTAMP:20260421T203105
CREATED:20230814T151936Z
LAST-MODIFIED:20231116T190139Z
UID:2489-1711956600-1712336400@krtrainingcenter.com
SUMMARY:Leadership Development Course - Knife River Only
DESCRIPTION:Leadership Development Course (LDC) – Overview\nDates: Monday\, April 1st to Friday\, April 5th\, 2024 \nStart Time: 7:30am sharp! \nEnd Time: 5:00pm \nClosed toe shoes required on Friday for activities in the Dome \nDress for both indoor and outdoor activity \nSupervisors\, you can enroll multiple individuals with each submission. \nFor The General Public: \nTickets are $3500.00 \nOn Sale! Course reduced to $2500.00 including daily hot lunch\, snacks and beverages.  Also includes a Thursday evening social and class supplies. \n  \nTravel Information:  Airports\, Hotels\, Shuttle and other Nearby Services – Travel Information – Knife River Training Center \nCancellation Policy: If\, for any reason\, you and/or any student(s) you’re registering cannot attend a class\, you’ll receive a full refund or are not charged if you cancel 14 days prior to the start of the scheduled class. Please call the Training Center Office to cancel or email alex.reyes@kniferiver.com \nIf you cannot cancel less than 14 days prior to the start of your scheduled class\, then 30% of your course fee is non-refundable.\nTransferring to another scheduled class must be made 14 days prior to the start of the scheduled class or may be subject to a transfer fee. \nStudent’s who do not show up for their registered course will forfeit all tuition.
URL:https://krtrainingcenter.com/training/leadership-development-course-open-to-public-10/
LOCATION:Knife River Training Center – Snake River Room\, 35973 Kennel Road SE\, Albany\, OR\, 97322\, United States
ATTACH;FMTTYPE=image/png:https://krtrainingcenter.com/wp-content/uploads/2020/09/knife-river-logo-color.png
ORGANIZER;CN="Reyes%2C Alex":MAILTO:alex.reyes@kniferiver.net
END:VEVENT
BEGIN:VEVENT
DTSTART;TZID=America/Vancouver:20240408T073000
DTEND;TZID=America/Vancouver:20240410T163000
DTSTAMP:20260421T203105
CREATED:20231220T214725Z
LAST-MODIFIED:20231220T214725Z
UID:2812-1712561400-1712766600@krtrainingcenter.com
SUMMARY:Wheel Loader Level 2- Knife River Only
DESCRIPTION:Content is protected.
URL:https://krtrainingcenter.com/training/wheel-loader-level-2-knife-river-only-3/
LOCATION:Knifer River Training Center – Columbia River Room\, 35973 Kennel Road SE\, Albany\, OR\, 97322\, United States
END:VEVENT
BEGIN:VEVENT
DTSTART;TZID=America/Vancouver:20240408T073000
DTEND;TZID=America/Vancouver:20240412T170000
DTSTAMP:20260421T203105
CREATED:20240307T162537Z
LAST-MODIFIED:20240308T210809Z
UID:3031-1712561400-1712941200@krtrainingcenter.com
SUMMARY:Leadership Development Course - Knife River Only
DESCRIPTION:Content is protected.
URL:https://krtrainingcenter.com/training/leadership-development-course-knife-river-only-4/
LOCATION:Knife River Training Center – Snake River Room\, 35973 Kennel Road SE\, Albany\, OR\, 97322\, United States
ORGANIZER;CN="Reyes%2C Alex":MAILTO:alex.reyes@kniferiver.net
END:VEVENT
BEGIN:VEVENT
DTSTART;TZID=America/Vancouver:20240415T073000
DTEND;TZID=America/Vancouver:20240416T163000
DTSTAMP:20260421T203105
CREATED:20240229T213340Z
LAST-MODIFIED:20240326T154152Z
UID:2985-1713166200-1713285000@krtrainingcenter.com
SUMMARY:Top Drum / Top Wheel Train the Trainer - Knife River Only
DESCRIPTION:Dates: Monday\, April 15th to Tuesday\, April 16th\, 2024 \nStart Time: 7:30am sharp \nEnd Time: 4:30pm \nPPE Required \nDress for both indoor and outdoor activity \nThis course is for new or recertifying Top Drum or Wheel trainers only – Mentor Driver is not yet scheduled.  If Top Drum/Wheel is new to you\, or you’re unfamiliar with it then we strongly encourage you to attend as well! It is the Knife River standard for all drivers of Commercial Vehicles. \nSupervisors\, you can enroll multiple individuals with each submission. \nThis course will be going over inputting data electronically.  An iPad will be needed.  Please bring a company provided iPad if you have one.  For those who do not have access to one\, an iPad will be provided during this course. \n  \nTravel Information:  Airports\, Hotels\, Shuttle and other Nearby Services – Travel Information – Knife River Training Center \nCancellation Policy: If\, for any reason\, you and/or any student(s) you’re registering cannot attend a class\, you’ll receive a full refund or are not charged if you cancel 14 days prior to the start of the scheduled class. Please call the Training Center Office to cancel or email alex.reyes@kniferiver.com \nIf you cannot cancel less than 14 days prior to the start of your scheduled class\, then 30% of your course fee is non-refundable.\nTransferring to another scheduled class must be made 14 days prior to the start of the scheduled class or may be subject to a transfer fee. \nStudent’s who do not show up for their registered course will forfeit all tuition.
URL:https://krtrainingcenter.com/training/top-drum-top-wheel-train-the-trainer-knife-river-only-6/
LOCATION:Knife River Training Center – Snake River Room\, 35973 Kennel Road SE\, Albany\, OR\, 97322\, United States
CATEGORIES:Training
ATTACH;FMTTYPE=image/png:https://krtrainingcenter.com/wp-content/uploads/2023/08/Untitled-1.png
END:VEVENT
BEGIN:VEVENT
DTSTART;VALUE=DATE:20240416
DTEND;VALUE=DATE:20240419
DTSTAMP:20260421T203105
CREATED:20240305T224955Z
LAST-MODIFIED:20240315T173805Z
UID:2955-1713225600-1713484799@krtrainingcenter.com
SUMMARY:Motor Grader Training Level 2 @ Caterpillar - Knife River Only
DESCRIPTION:Training will be held at the Caterpillar Tinaja Hills Training Center\n\nDates: Tuesday April 16th to Thursday April 18th\, 2024 \nStart Time: 7:30am sharp \nEnd Time: 5:00pm \nPlease bring all your Personal Protective Equipment (PPE) each day \nDress for both indoor and outdoor activity \nSupervisors\, you can enroll multiple individuals with each submission \n  \n  \nCancellation Policy: If\, for any reason\, you and/or any student(s) you’re registering cannot attend a class\, you’ll receive a full refund or are not charged if you cancel 14 days prior to the start of the scheduled class. Please call the Training Center Office to cancel or email alex.reyes@kniferiver.com \nIf you cannot cancel less than 14 days prior to the start of your scheduled class\, then 30% of your course fee is non-refundable.\nTransferring to another scheduled class must be made 14 days prior to the start of the scheduled class or may be subject to a transfer fee. \nStudent’s who do not show up for their registered course will forfeit all tuition.
URL:https://krtrainingcenter.com/training/motor-grader-training-level-2-knife-river-only-3/
LOCATION:Caterpillar Tinaja Hills Training Center- Arizona\, 5000 W Caterpillar Trail\, Green Valley\, AZ\, 85614\, United States
CATEGORIES:Offsite
ATTACH;FMTTYPE=image/png:https://krtrainingcenter.com/wp-content/uploads/2021/10/New-TC-Motor-Grader1-e1636648882545.png
ORGANIZER;CN="Abbott%2C Dan":MAILTO:dan.abbott@kniferiver.com
END:VEVENT
BEGIN:VEVENT
DTSTART;VALUE=DATE:20240422
DTEND;VALUE=DATE:20240515
DTSTAMP:20260421T203105
CREATED:20230825T170517Z
LAST-MODIFIED:20240215T004257Z
UID:2538-1713744000-1715731199@krtrainingcenter.com
SUMMARY:ELDT/CDL Program
DESCRIPTION:This course is to obtain an “Unrestricted” Class A or Class B CDL. \nThis course is 3 weeks and 2 days (or approximately 136 hours) \nDate: April 22nd through May 14th (Monday thru Friday) \nStart Time:  7:30am sharp! \nLunch is provided. \nThis Entry Level Driver Training (ELDT) program is a partnership between Knife River and \nLinn Benton Community College.\nFor course information\, tuition and registration information please CLICK HERE\n  \nFor question and assistance please reach out to the LBCC Coordinator at 541-917-4961 or email CDL@LinnBenton.edu \n 
URL:https://krtrainingcenter.com/training/eldt-cdl-program-4/
LOCATION:Knife River Training Center – Missouri River Room\, 35973 Kennel Rd SE\, Albany\, OR\, 97322\, United States
ATTACH;FMTTYPE=image/jpeg:https://krtrainingcenter.com/wp-content/uploads/2023/08/Class-A-CDL.jpg
ORGANIZER;CN="Reyes%2C Alex":MAILTO:alex.reyes@kniferiver.net
END:VEVENT
BEGIN:VEVENT
DTSTART;TZID=America/Vancouver:20240429T073000
DTEND;TZID=America/Vancouver:20240503T170000
DTSTAMP:20260421T203105
CREATED:20230814T220614Z
LAST-MODIFIED:20240426T153300Z
UID:2494-1714375800-1714755600@krtrainingcenter.com
SUMMARY:Leadership Development Course - Open to Public
DESCRIPTION:Leadership Development Course (LDC) – Overview\nDates: Monday\, April 29th to Friday\, May 3rd\, 2024 \nStart Time: 7:30am sharp! \nEnd Time: 5:00pm \nClosed toe shoes required on Friday for activities in the Dome \nDress for both indoor and outdoor activity \nSupervisors\, you can enroll multiple individuals with each submission. \nFor The General Public: \nTickets are $3500.00 \nOn Sale! Course reduced to $2500.00 including daily hot lunch\, snacks and beverages.  Also includes a Thursday evening social and class supplies. \n  \nTravel Information:  Airports\, Hotels\, Shuttle and other Nearby Services – Travel Information – Knife River Training Center \nCancellation Policy: If\, for any reason\, you and/or any student(s) you’re registering cannot attend a class\, you’ll receive a full refund or are not charged if you cancel 14 days prior to the start of the scheduled class. Please call the Training Center Office to cancel or email alex.reyes@kniferiver.com \nIf you cannot cancel less than 14 days prior to the start of your scheduled class\, then 30% of your course fee is non-refundable.\nTransferring to another scheduled class must be made 14 days prior to the start of the scheduled class or may be subject to a transfer fee. \nStudent’s who do not show up for their registered course will forfeit all tuition.
URL:https://krtrainingcenter.com/training/leadership-development-course-open-to-public-11/
LOCATION:Knife River Training Center – Snake River Room\, 35973 Kennel Road SE\, Albany\, OR\, 97322\, United States
ATTACH;FMTTYPE=image/png:https://krtrainingcenter.com/wp-content/uploads/2024/04/Knife_River_Training_Center_Logo_Full_Color.png
ORGANIZER;CN="Reyes%2C Alex":MAILTO:alex.reyes@kniferiver.net
END:VEVENT
END:VCALENDAR