BEGIN:VCALENDAR
VERSION:2.0
PRODID:-//Knife River Training Center - ECPv6.15.20//NONSGML v1.0//EN
CALSCALE:GREGORIAN
METHOD:PUBLISH
X-ORIGINAL-URL:https://krtrainingcenter.com
X-WR-CALDESC:Events for Knife River Training Center
REFRESH-INTERVAL;VALUE=DURATION:PT1H
X-Robots-Tag:noindex
X-PUBLISHED-TTL:PT1H
BEGIN:VTIMEZONE
TZID:America/Vancouver
BEGIN:DAYLIGHT
TZOFFSETFROM:-0800
TZOFFSETTO:-0700
TZNAME:PDT
DTSTART:20240310T100000
END:DAYLIGHT
BEGIN:STANDARD
TZOFFSETFROM:-0700
TZOFFSETTO:-0800
TZNAME:PST
DTSTART:20241103T090000
END:STANDARD
BEGIN:DAYLIGHT
TZOFFSETFROM:-0800
TZOFFSETTO:-0700
TZNAME:PDT
DTSTART:20250309T100000
END:DAYLIGHT
BEGIN:STANDARD
TZOFFSETFROM:-0700
TZOFFSETTO:-0800
TZNAME:PST
DTSTART:20251102T090000
END:STANDARD
BEGIN:DAYLIGHT
TZOFFSETFROM:-0800
TZOFFSETTO:-0700
TZNAME:PDT
DTSTART:20260308T100000
END:DAYLIGHT
BEGIN:STANDARD
TZOFFSETFROM:-0700
TZOFFSETTO:-0800
TZNAME:PST
DTSTART:20261101T090000
END:STANDARD
END:VTIMEZONE
BEGIN:VEVENT
DTSTART;VALUE=DATE:20250106
DTEND;VALUE=DATE:20250129
DTSTAMP:20260421T133736
CREATED:20240816T215616Z
LAST-MODIFIED:20240816T215616Z
UID:3537-1736121600-1738108799@krtrainingcenter.com
SUMMARY:ELDT/CDL Program
DESCRIPTION:This course is to obtain an “Unrestricted” Class A or Class B CDL  \nThis course is 3 weeks and 2 days (or approximately 136 hours) \nDate: January 6th\, 2025 through January 28th\, 2025 (Monday thru Friday) \nStart Time:  7:30am sharp! \nLunch is provided. \nThis Entry Level Driver Training (ELDT) program is a partnership between Knife River and \nLinn Benton Community College.\nFor course information\, tuition and registration information please CLICK HERE\n  \nFor question and assistance please reach out to the LBCC Coordinator at 541-917-4961 or email CDL@LinnBenton.edu \n 
URL:https://krtrainingcenter.com/training/eldt-cdl-program-10/
LOCATION:Knife River Training Center – Building 2\, 35973 Kennel Rd. SE\, Albany\, OR\, 97332\, United States
ATTACH;FMTTYPE=image/jpeg:https://krtrainingcenter.com/wp-content/uploads/2023/08/IMG_3373.jpg
ORGANIZER;CN="Koch%2C Hope":MAILTO:Hope.Koch@KnifeRiver.com
END:VEVENT
BEGIN:VEVENT
DTSTART;TZID=America/Vancouver:20250106T073000
DTEND;TZID=America/Vancouver:20250110T163000
DTSTAMP:20260421T133736
CREATED:20240103T144725Z
LAST-MODIFIED:20241231T175410Z
UID:2829-1736148600-1736526600@krtrainingcenter.com
SUMMARY:Paver Training - Knife River Only
DESCRIPTION:Class Information Click Here – Paver Operations Training\nDates: Monday\, January 6\, to Friday\, January 10\, 2025 \nStart Time: 7:30am sharp \nEnd Time: 5:00pm \n  \nPlease bring all your Personal Protective Equipment (PPE) each day \n\nSafety toed boots are required on active ranges\n\nDress for both indoor and outdoor activity \nSupervisors\, you can enroll multiple individuals with each submission \n  \nTravel Information:  Airports\, Hotels\, Shuttle and other Nearby Services – Travel Information – Knife River Training Center \nCancellation Policy: If\, for any reason\, you and/or any student(s) you’re registering cannot attend a class\, you’ll receive a full refund or are not charged if you cancel 14 days prior to the start of the scheduled class. Please call the Training Center Office to cancel or email Hope.Koch@KnifeRiver.com \nIf you cannot cancel less than 14 days prior to the start of your scheduled class\, then 30% of your course fee is non-refundable.\nTransferring to another scheduled class must be made 14 days prior to the start of the scheduled class or may be subject to a transfer fee. \nStudent’s who do not show up for their registered course will forfeit all tuition.
URL:https://krtrainingcenter.com/training/paver-training-knife-river-only-5/
LOCATION:Knife River Training Center – Snake River Room\, 35973 Kennel Road SE\, Albany\, OR\, 97322\, United States
ATTACH;FMTTYPE=image/png:https://krtrainingcenter.com/wp-content/uploads/2020/09/knife-river-logo-color.png
ORGANIZER;CN="Mike Glazier":MAILTO:michael.glazier@kniferiver.net
END:VEVENT
BEGIN:VEVENT
DTSTART;TZID=America/Vancouver:20250106T073000
DTEND;TZID=America/Vancouver:20250110T163000
DTSTAMP:20260421T133736
CREATED:20240927T162119Z
LAST-MODIFIED:20241023T220624Z
UID:3774-1736148600-1736526600@krtrainingcenter.com
SUMMARY:Wheel Loader / Haul Truck
DESCRIPTION:Class Information:  Wheel Loader & Haul Truck  \nDates: Monday\, January\, 6th\, 2025 through Friday\, January\, 10th\, 2025 \nStart Time: 7:30am sharp \nEnd Time: 4:30pm \nPPE Required \nDress for both indoor and outdoor activity \nThis course is for experienced operators with at least 6 months of seat time prior to the training. \nSupervisors\, you can enroll multiple individuals with each submission. \nTravel Information:  Airports\, Hotels\, Shuttle and other Nearby Services – Travel Information – Knife River Training Center \nCancellation Policy: If\, for any reason\, you and/or any student(s) you’re registering cannot attend a class\, you’ll receive a full refund or are not charged if you cancel 14 days prior to the start of the scheduled class. Please call the Training Center Office to cancel or email hope.koch@kniferiver.com \nIf you cannot cancel less than 14 days prior to the start of your scheduled class\, then 30% of your course fee is non-refundable.\nTransferring to another scheduled class must be made 14 days prior to the start of the scheduled class or may be subject to a transfer fee. \nStudent’s who do not show up for their registered course will forfeit all tuition. \n 
URL:https://krtrainingcenter.com/training/wheel-loader-haul-truck/
LOCATION:Knife River Training Center – Snake River Room\, 35973 Kennel Road SE\, Albany\, OR\, 97322\, United States
ATTACH;FMTTYPE=image/jpeg:https://krtrainingcenter.com/wp-content/uploads/2022/12/about-knife-01.jpg
ORGANIZER;CN="Koch%2C Hope":MAILTO:Hope.Koch@KnifeRiver.com
END:VEVENT
BEGIN:VEVENT
DTSTART;TZID=America/Vancouver:20250113T073000
DTEND;TZID=America/Vancouver:20250115T163000
DTSTAMP:20260421T133736
CREATED:20240927T153118Z
LAST-MODIFIED:20241023T220717Z
UID:3765-1736753400-1736958600@krtrainingcenter.com
SUMMARY:Skid Steer Loader Level 2 Training- Knife River Only
DESCRIPTION:Class Information:  Skid Steer/Compact Track Loader Course \nDates: Monday\, January 13th\, 2025 through Wednesday\, January 15th\, 2025 \nStart Time: 7:30am sharp \nEnd Time: 4:30pm \nPPE Required \nDress for both indoor and outdoor activity \nThis course is for experienced operators with at least 6 months of seat time prior to the training. \nSupervisors\, you can enroll multiple individuals with each submission. \nTravel Information:  Airports\, Hotels\, Shuttle and other Nearby Services – Travel Information – Knife River Training Center \nCancellation Policy: If\, for any reason\, you and/or any student(s) you’re registering cannot attend a class\, you’ll receive a full refund or are not charged if you cancel 14 days prior to the start of the scheduled class. Please call the Training Center Office to cancel or email hope.koch@kniferiver.com \nIf you cannot cancel less than 14 days prior to the start of your scheduled class\, then 30% of your course fee is non-refundable.\nTransferring to another scheduled class must be made 14 days prior to the start of the scheduled class or may be subject to a transfer fee. \nStudents who do not show up for their registered course will forfeit all tuition.
URL:https://krtrainingcenter.com/training/skid-steer-loader-level-2-training-knife-river-only-6/
LOCATION:Knifer River Training Center – Columbia River Room\, 35973 Kennel Road SE\, Albany\, OR\, 97322\, United States
ATTACH;FMTTYPE=image/png:https://krtrainingcenter.com/wp-content/uploads/2023/05/Skid-steer-bucket-load2-Wlogo.png
ORGANIZER;CN="Koch%2C Hope":MAILTO:Hope.Koch@KnifeRiver.com
END:VEVENT
BEGIN:VEVENT
DTSTART;TZID=America/Vancouver:20250113T073000
DTEND;TZID=America/Vancouver:20250117T163000
DTSTAMP:20260421T133736
CREATED:20240729T164431Z
LAST-MODIFIED:20241212T192643Z
UID:3276-1736753400-1737131400@krtrainingcenter.com
SUMMARY:Paver Training - Knife River Only
DESCRIPTION:Class Information Click Here – Paver Operations Training\nDates: Monday\, January 13\, 2025 to Friday\, January 17\, 2025 \nStart Time: 7:30am sharp \nEnd Time: 5:00pm \nPlease bring all your Personal Protective Equipment (PPE) each day \n\nSafety toed boots are required on active ranges\n\nDress for both indoor and outdoor activity \nSupervisors\, you can enroll multiple individuals with each submission \n  \nTravel Information:  Airports\, Hotels\, Shuttle and other Nearby Services – Travel Information – Knife River Training Center \nCancellation Policy: If\, for any reason\, you and/or any student(s) you’re registering cannot attend a class\, you’ll receive a full refund or are not charged if you cancel 14 days prior to the start of the scheduled class. Please call the Training Center Office to cancel or email Hope.Koch@KnifeRiver.com \nIf you cannot cancel less than 14 days prior to the start of your scheduled class\, then 30% of your course fee is non-refundable.\nTransferring to another scheduled class must be made 14 days prior to the start of the scheduled class or may be subject to a transfer fee. \nStudents who do not show up for their registered course will forfeit all tuition.
URL:https://krtrainingcenter.com/training/paver-training-knife-river-only-6/
LOCATION:Knife River Training Center – Snake River Room\, 35973 Kennel Road SE\, Albany\, OR\, 97322\, United States
ATTACH;FMTTYPE=image/png:https://krtrainingcenter.com/wp-content/uploads/2020/09/knife-river-logo-color.png
ORGANIZER;CN="Mike Glazier":MAILTO:michael.glazier@kniferiver.net
END:VEVENT
BEGIN:VEVENT
DTSTART;TZID=America/Vancouver:20250116T073000
DTEND;TZID=America/Vancouver:20250117T163000
DTSTAMP:20260421T133736
CREATED:20250107T221415Z
LAST-MODIFIED:20250113T230858Z
UID:4123-1737012600-1737131400@krtrainingcenter.com
SUMMARY:Top World - Top Transport
DESCRIPTION:Content is protected.
URL:https://krtrainingcenter.com/training/top-world-january/
LOCATION:Knife River Training Center – Building 2\, 35973 Kennel Rd. SE\, Albany\, OR\, 97332\, United States
CATEGORIES:Training
ORGANIZER;CN="Koch%2C Hope":MAILTO:Hope.Koch@KnifeRiver.com
END:VEVENT
BEGIN:VEVENT
DTSTART;TZID=America/Vancouver:20250116T073000
DTEND;TZID=America/Vancouver:20250118T163000
DTSTAMP:20260421T133736
CREATED:20240927T153553Z
LAST-MODIFIED:20241023T220726Z
UID:3769-1737012600-1737217800@krtrainingcenter.com
SUMMARY:Skid Steer Loader Level 2 Training- Knife River Only
DESCRIPTION:Class Information:  Skid Steer/Compact Track Loader Course \nDates: Thursday\, January 16th\, 2025 through Saturday\, January 18th\, 2025 \nStart Time: 7:30am sharp \nEnd Time: 4:30pm \nPPE Required \nDress for both indoor and outdoor activity \nThis course is for experienced operators with at least 6 months of seat time prior to the training. \nSupervisors\, you can enroll multiple individuals with each submission. \nTravel Information:  Airports\, Hotels\, Shuttle and other Nearby Services – Travel Information – Knife River Training Center \nCancellation Policy: If\, for any reason\, you and/or any student(s) you’re registering cannot attend a class\, you’ll receive a full refund or are not charged if you cancel 14 days prior to the start of the scheduled class. Please call the Training Center Office to cancel or email hope.koch@kniferiver.com \nIf you cannot cancel less than 14 days prior to the start of your scheduled class\, then 30% of your course fee is non-refundable.\nTransferring to another scheduled class must be made 14 days prior to the start of the scheduled class or may be subject to a transfer fee. \nStudents who do not show up for their registered course will forfeit all tuition.
URL:https://krtrainingcenter.com/training/skid-steer-loader-level-2-training-knife-river-only-7/
LOCATION:Knifer River Training Center – Columbia River Room\, 35973 Kennel Road SE\, Albany\, OR\, 97322\, United States
ATTACH;FMTTYPE=image/png:https://krtrainingcenter.com/wp-content/uploads/2023/05/Skid-steer-bucket-load2-Wlogo.png
ORGANIZER;CN="Koch%2C Hope":MAILTO:Hope.Koch@KnifeRiver.com
END:VEVENT
BEGIN:VEVENT
DTSTART;TZID=America/Vancouver:20250116T100000
DTEND;TZID=America/Vancouver:20250117T150000
DTSTAMP:20260421T133736
CREATED:20241226T223607Z
LAST-MODIFIED:20241231T155039Z
UID:4045-1737021600-1737126000@krtrainingcenter.com
SUMMARY:Coaching 101 - The 6 C's
DESCRIPTION:In our Coaching 101 Workshop\, you will build skills that enable you to coach your team in real time and develop relationships that will help drive engagement. Content is focused on our “6 Cs” and our People-First philosophy. You can expect a highly interactive class that will include opportunities for you to practice what you have learned. \nThis is an immersion style course\, with approximately 13 hours of content delivered over two days. \nDay one – 10:00 a.m. – 5:00 p.m. \nDay two – 8:00 a.m. – 3:00 p.m. \nThis is a great opportunity for learning and growth – for experienced and new coaches alike! \nThis first immersion will be delivered to coaches at the KRC Corporate headquarters in Bismarck ND.
URL:https://krtrainingcenter.com/training/coaching-101-the-6-cs/
LOCATION:Offsite – Please See Class Description
CATEGORIES:Coaching
ATTACH;FMTTYPE=image/png:https://krtrainingcenter.com/wp-content/uploads/2024/12/Coaching-101.png
ORGANIZER;CN="Koch%2C Hope":MAILTO:Hope.Koch@KnifeRiver.com
END:VEVENT
BEGIN:VEVENT
DTSTART;TZID=America/Vancouver:20250120T073000
DTEND;TZID=America/Vancouver:20250122T163000
DTSTAMP:20260421T133736
CREATED:20241231T171507Z
LAST-MODIFIED:20241231T172400Z
UID:4059-1737358200-1737563400@krtrainingcenter.com
SUMMARY:Articulated Truck Training (Offsite)
DESCRIPTION:Class Information: Articulated Haul Truck  \nDates: Monday\, January\, 20th\, 2025 through Wednesday\, January\, 22nd\, 2025 \nStart Time: 7:30am sharp \nEnd Time: 4:30pm \nPPE Required \nDress for both indoor and outdoor activity \nThis course is for experienced operators with at least 6 months of seat time prior to the training. \nSupervisors\, you can enroll multiple individuals with each submission. \nCancellation Policy: If\, for any reason\, you and/or any student(s) you’re registering cannot attend a class\, you’ll receive a full refund or are not charged if you cancel 14 days prior to the start of the scheduled class. Please call the Training Center Office to cancel or email hope.koch@kniferiver.com \nIf you cannot cancel less than 14 days prior to the start of your scheduled class\, then 30% of your course fee is non-refundable.\nTransferring to another scheduled class must be made 14 days prior to the start of the scheduled class or may be subject to a transfer fee. \nStudents who do not show up for their registered course will forfeit all tuition. \nLocation: Boise\, Idaho
URL:https://krtrainingcenter.com/training/articulatedtruck/
LOCATION:Offsite – Please See Class Description
ATTACH;FMTTYPE=image/jpeg:https://krtrainingcenter.com/wp-content/uploads/2024/10/Horizontal-Logo-Black.jpg
ORGANIZER;CN="Koch%2C Hope":MAILTO:Hope.Koch@KnifeRiver.com
END:VEVENT
BEGIN:VEVENT
DTSTART;TZID=America/Vancouver:20250121T073000
DTEND;TZID=America/Vancouver:20250123T170000
DTSTAMP:20260421T133736
CREATED:20240815T170939Z
LAST-MODIFIED:20240920T180800Z
UID:3480-1737444600-1737651600@krtrainingcenter.com
SUMMARY:Communication Skills for Coaches - Open to the Public
DESCRIPTION:Communication Skills for Coaches (Formally Leadership Development Course) – Overview\nDates: Tuesday\, January 21st\, 2025 through Thursday\, January 23rd\, 2025 \nStart Time: 7:30am sharp! \nEnd Time: 5:00pm \nClosed toe shoes required on Friday for activities in the Dome \nDress for both indoor and outdoor activity \nSupervisors\, you can enroll multiple individuals with each submission. \nFor The General Public: \nTickets are $2500.00 \nOn Sale! Course reduced to $1500.00 including daily hot lunch\, snacks and beverages. \nAlso includes an evening social and class supplies. \nTravel Information:  Airports\, Hotels\, Shuttle and other Nearby Services – Travel Information – Knife River Training Center \nCancellation Policy: If\, for any reason\, you and/or any student(s) you’re registering cannot attend a class\, you’ll receive a full refund or are not charged if you cancel 14 days prior to the start of the scheduled class. Please call the Training Center Office to cancel or email Hope.Koch@KnifeRiver.com \nIf you cannot cancel less than 14 days prior to the start of your scheduled class\, then 30% of your course fee is non-refundable.\nTransferring to another scheduled class must be made 14 days prior to the start of the scheduled class or may be subject to a transfer fee. \nStudent’s who do not show up for their registered course will forfeit all tuition.
URL:https://krtrainingcenter.com/training/communication-skills-for-coaches-open-to-the-public/
LOCATION:Knife River Training Center – Snake River Room\, 35973 Kennel Road SE\, Albany\, OR\, 97322\, United States
ATTACH;FMTTYPE=image/jpeg:https://krtrainingcenter.com/wp-content/uploads/2022/12/about-knife-01.jpg
ORGANIZER;CN="Koch%2C Hope":MAILTO:Hope.Koch@KnifeRiver.com
END:VEVENT
BEGIN:VEVENT
DTSTART;TZID=America/Vancouver:20250127T073000
DTEND;TZID=America/Vancouver:20250129T163000
DTSTAMP:20260421T133736
CREATED:20240819T192637Z
LAST-MODIFIED:20250108T221721Z
UID:3640-1737963000-1738168200@krtrainingcenter.com
SUMMARY:Hydraulic Excavator Training (HEX) - Level II - Knife River Only
DESCRIPTION:Class Information: Hydraulic Excavator Training\nDates: Monday\, January 27th\, 2025 through Wednesday\, January 29th\, 2025 \nStart Time: 7:30am sharp \nEnd Time: 4:30pm \nPlease bring all your Personal Protective Equipment (PPE) each day \n\nSafety toed boots are required on active ranges\n\nDress for both indoor and outdoor activity \nSupervisors\, you can enroll multiple individuals with each submission \nTravel Information:  Airports\, Hotels\, Shuttle and other Nearby Services – Travel Information – Knife River Training Center \nCancellation Policy: If\, for any reason\, you and/or any student(s) you’re registering cannot attend a class\, you’ll receive a full refund or are not charged if you cancel 14 days prior to the start of the scheduled class. Please call the Training Center Office to cancel or email Hope.Koch@kniferiver.com \nIf you cannot cancel less than 14 days prior to the start of your scheduled class\, then 30% of your course fee is non-refundable.\nTransferring to another scheduled class must be made 14 days prior to the start of the scheduled class or may be subject to a transfer fee. \nStudents who do not show up for their registered course will forfeit all tuition.
URL:https://krtrainingcenter.com/training/hydraulic-excavator-training-hex-level-ii-knife-river-only-2/
LOCATION:Knifer River Training Center – Columbia River Room\, 35973 Kennel Road SE\, Albany\, OR\, 97322\, United States
ATTACH;FMTTYPE=image/jpeg:https://krtrainingcenter.com/wp-content/uploads/2020/09/hero-bg-01.jpg
ORGANIZER;CN="Koch%2C Hope":MAILTO:Hope.Koch@KnifeRiver.com
END:VEVENT
BEGIN:VEVENT
DTSTART;TZID=America/Vancouver:20250129T073000
DTEND;TZID=America/Vancouver:20250130T163000
DTSTAMP:20260421T133736
CREATED:20240816T152253Z
LAST-MODIFIED:20250108T191824Z
UID:3518-1738135800-1738254600@krtrainingcenter.com
SUMMARY:Top World - Top Drum/Top Wheel - Train the Trainer - Knife River Only
DESCRIPTION:Dates: Wednesday\, January 29th\, 2025 & Thursday\, January 30th\, 2025 \nStart Time: 7:30am sharp \nEnd Time: 4:30pm \nPlease bring all your Personal Protective Equipment (PPE) each day \n\nSafety toed boots are required on active ranges\n\nDress for both indoor and outdoor activity \nThis course is for new or recertifying Top World (Top Drum/Top Wheel/Top Transport) trainers only – Mentor Driver is not yet scheduled.  If Top World is new to you\, or you’re unfamiliar with it then we strongly encourage you to attend as well! It is the Knife River standard for all drivers of Commercial Vehicles. \nSupervisors\, you can enroll multiple individuals with each submission. Supervisors are also encouraged to attend with their team members. \nThis course will be going over inputting data electronically.  An iPad will be needed.  Please bring a company provided iPad if you have one.  For those who do not have access to one\, an iPad will be provided during this course. \n  \nTravel Information:  Airports\, Hotels\, Shuttle and other Nearby Services – Travel Information – Knife River Training Center \nCancellation Policy: If\, for any reason\, you and/or any student(s) you’re registering cannot attend a class\, you’ll receive a full refund or are not charged if you cancel 14 days prior to the start of the scheduled class. Please call the Training Center Office to cancel or email Hope.Koch@kniferiver.com \nIf you cannot cancel less than 14 days prior to the start of your scheduled class\, then 30% of your course fee is non-refundable.\nTransferring to another scheduled class must be made 14 days prior to the start of the scheduled class or may be subject to a transfer fee. \nStudents who do not show up for their registered course will forfeit all tuition.
URL:https://krtrainingcenter.com/training/top-world-top-drum-top-wheel-train-the-trainer-knife-river-only-3/
LOCATION:Knife River Training Center – Copper River Room\, 35973 Kennel Road SE\, Albany\, OR\, 97322\, United States
CATEGORIES:Training
ATTACH;FMTTYPE=image/png:https://krtrainingcenter.com/wp-content/uploads/2024/06/Top-World-Active-logos.png
ORGANIZER;CN="Koch%2C Hope":MAILTO:Hope.Koch@KnifeRiver.com
END:VEVENT
END:VCALENDAR