BEGIN:VCALENDAR
VERSION:2.0
PRODID:-//Knife River Training Center - ECPv6.15.20//NONSGML v1.0//EN
CALSCALE:GREGORIAN
METHOD:PUBLISH
X-ORIGINAL-URL:https://krtrainingcenter.com
X-WR-CALDESC:Events for Knife River Training Center
REFRESH-INTERVAL;VALUE=DURATION:PT1H
X-Robots-Tag:noindex
X-PUBLISHED-TTL:PT1H
BEGIN:VTIMEZONE
TZID:America/Vancouver
BEGIN:DAYLIGHT
TZOFFSETFROM:-0800
TZOFFSETTO:-0700
TZNAME:PDT
DTSTART:20240310T100000
END:DAYLIGHT
BEGIN:STANDARD
TZOFFSETFROM:-0700
TZOFFSETTO:-0800
TZNAME:PST
DTSTART:20241103T090000
END:STANDARD
BEGIN:DAYLIGHT
TZOFFSETFROM:-0800
TZOFFSETTO:-0700
TZNAME:PDT
DTSTART:20250309T100000
END:DAYLIGHT
BEGIN:STANDARD
TZOFFSETFROM:-0700
TZOFFSETTO:-0800
TZNAME:PST
DTSTART:20251102T090000
END:STANDARD
BEGIN:DAYLIGHT
TZOFFSETFROM:-0800
TZOFFSETTO:-0700
TZNAME:PDT
DTSTART:20260308T100000
END:DAYLIGHT
BEGIN:STANDARD
TZOFFSETFROM:-0700
TZOFFSETTO:-0800
TZNAME:PST
DTSTART:20261101T090000
END:STANDARD
END:VTIMEZONE
BEGIN:VEVENT
DTSTART;TZID=America/Vancouver:20250805T073000
DTEND;TZID=America/Vancouver:20250806T160000
DTSTAMP:20260421T034228
CREATED:20250519T174714Z
LAST-MODIFIED:20250724T210600Z
UID:4687-1754379000-1754496000@krtrainingcenter.com
SUMMARY:Supervising for Success
DESCRIPTION:Class Information: Supervising for Success\nJoin our immersive\, two-day hands-on workshop designed to enhance your skills for the workplace\, home\, and community. Ideal for both new and seasoned leaders. This experience promises practical applicable learning. \nOpen to: Job seekers as well as those currently employed \nRequirements: Must reside or work in Linn\, Benton\, Marion\, Polk\, or Yamhill County \nDates: Tuesday\, August 5\, 2025 and Wednesday\, August 6\, 2025 \nStart Time: 7:30am sharp! \nEnd Time: 4:00pm \nTuition: This course is publicly funded through an ARPA grant by the Willamette Workforce Partnership. \nWillamette Workforce Partnership/ Knife River is an equal opportunity program/employer. \nLanguage assistance is available to individuals with limited English proficiency free of cost. Auxiliary aids or services are available upon request to individuals with disabilities. Oregon Relay 1-800-735-2900. \nThis project is funded\, 85% by the American Rescue Act. \nNext Steps: Registration through Work Source Oregon is required for data collection purposes. Instruction will be provided following the initial Knife River registration. \nFor more information reach out to Kris Latimer at Kris.Latimer@KnifeRiver.com
URL:https://krtrainingcenter.com/training/supervising-for-success-august-2025/
LOCATION:Knife River Training Center – Copper River Room\, 35973 Kennel Road SE\, Albany\, OR\, 97322\, United States
CATEGORIES:Training
ORGANIZER;CN="Koch%2C Hope":MAILTO:Hope.Koch@KnifeRiver.com
END:VEVENT
BEGIN:VEVENT
DTSTART;TZID=America/Vancouver:20250805T080000
DTEND;TZID=America/Vancouver:20250806T160000
DTSTAMP:20260421T034228
CREATED:20250626T203329Z
LAST-MODIFIED:20250626T203329Z
UID:4929-1754380800-1754496000@krtrainingcenter.com
SUMMARY:Sales Role Play Workshop - Knife River Only
DESCRIPTION:Two-day Sales Role Play Workshop for Knife River Sales Training Professionals \nDates: August 5th and 6th \nLocation: Knife River Training Center – Albany\, Oregon \n 
URL:https://krtrainingcenter.com/training/sales-role-play-workshop-august-2025/
LOCATION:Knife River Training Center – Copper River Room\, 35973 Kennel Road SE\, Albany\, OR\, 97322\, United States
ATTACH;FMTTYPE=image/jpeg:https://krtrainingcenter.com/wp-content/uploads/2022/12/about-knife-01.jpg
ORGANIZER;CN="Koch%2C Hope":MAILTO:Hope.Koch@KnifeRiver.com
END:VEVENT
BEGIN:VEVENT
DTSTART;VALUE=DATE:20250811
DTEND;VALUE=DATE:20250904
DTSTAMP:20260421T034228
CREATED:20240816T221702Z
LAST-MODIFIED:20240816T221702Z
UID:3552-1754870400-1756943999@krtrainingcenter.com
SUMMARY:ELDT/CDL Program
DESCRIPTION:This course is to obtain an “Unrestricted” Class A or Class B CDL  \nThis course is 3 weeks and 2 days (or approximately 136 hours) \nDate: August 11th\, 2025 through September 3rd\, 2025 (Monday thru Friday) \nStart Time:  7:30am sharp! \nLunch is provided. \nThis Entry Level Driver Training (ELDT) program is a partnership between Knife River and \nLinn Benton Community College.\nFor course information\, tuition and registration information please CLICK HERE\n  \nFor question and assistance please reach out to the LBCC Coordinator at 541-917-4961 or email CDL@LinnBenton.edu \n 
URL:https://krtrainingcenter.com/training/eldt-cdl-program-15/
LOCATION:Knife River Training Center – Building 2\, 35973 Kennel Rd. SE\, Albany\, OR\, 97332\, United States
ATTACH;FMTTYPE=image/jpeg:https://krtrainingcenter.com/wp-content/uploads/2023/08/IMG_3373.jpg
ORGANIZER;CN="Koch%2C Hope":MAILTO:Hope.Koch@KnifeRiver.com
END:VEVENT
BEGIN:VEVENT
DTSTART;TZID=America/Vancouver:20250812T100000
DTEND;TZID=America/Vancouver:20250813T150000
DTSTAMP:20260421T034228
CREATED:20250310T185356Z
LAST-MODIFIED:20250507T223840Z
UID:4482-1754992800-1755097200@krtrainingcenter.com
SUMMARY:Coaching 101 - The 6 C's
DESCRIPTION:In our Coaching 101 Workshop\, you will build skills that enable you to coach your team in real time and develop relationships that will help drive engagement. Content is focused on our “6 Cs” and our People-First philosophy. You can expect a highly interactive class that will include opportunities for you to practice what you have learned. \nThis is an immersion style course\, with approximately 13 hours of content delivered over two days. \nDay one – 10:00 a.m. – 5:00 p.m. \nDay two – 8:00 a.m. – 3:00 p.m. \nThis is a great opportunity for learning and growth – for experienced and new coaches alike! \nThis immersion will be delivered to coaches at the Knife River Training Center
URL:https://krtrainingcenter.com/training/coaching-101-the-6-cs-30/
LOCATION:Knife River Training Center – Copper River Room\, 35973 Kennel Road SE\, Albany\, OR\, 97322\, United States
CATEGORIES:Coaching
ATTACH;FMTTYPE=image/png:https://krtrainingcenter.com/wp-content/uploads/2025/03/Coaching-101-2025.png
ORGANIZER;CN="Koch%2C Hope":MAILTO:Hope.Koch@KnifeRiver.com
END:VEVENT
BEGIN:VEVENT
DTSTART;TZID=America/Vancouver:20250826T100000
DTEND;TZID=America/Vancouver:20250827T150000
DTSTAMP:20260421T034228
CREATED:20250310T185633Z
LAST-MODIFIED:20250822T180640Z
UID:4485-1756202400-1756306800@krtrainingcenter.com
SUMMARY:Coaching 101 - The 6 C's
DESCRIPTION:In our Coaching 101 Workshop\, you will build skills that enable you to coach your team in real time and develop relationships that will help drive engagement. Content is focused on our “6 Cs” and our People-First philosophy. You can expect a highly interactive class that will include opportunities for you to practice what you have learned. \nThis is an immersion style course\, with approximately 13 hours of content delivered over two days. \nDay one – 10:00 a.m. – 5:00 p.m. \nDay two – 8:00 a.m. – 3:00 p.m. \nThis is a great opportunity for learning and growth – for experienced and new coaches alike! \nThis immersion will be delivered to coaches in Bismarck\, North Dakota at the Corporate Office
URL:https://krtrainingcenter.com/training/coaching-101-the-6-corporate-august-2025/
LOCATION:Offsite – Please See Class Description
CATEGORIES:Coaching
ATTACH;FMTTYPE=image/png:https://krtrainingcenter.com/wp-content/uploads/2025/03/Coaching-101-2025.png
ORGANIZER;CN="Koch%2C Hope":MAILTO:Hope.Koch@KnifeRiver.com
END:VEVENT
END:VCALENDAR