BEGIN:VCALENDAR
VERSION:2.0
PRODID:-//Knife River Training Center - ECPv6.15.20//NONSGML v1.0//EN
CALSCALE:GREGORIAN
METHOD:PUBLISH
X-WR-CALNAME:Knife River Training Center
X-ORIGINAL-URL:https://krtrainingcenter.com
X-WR-CALDESC:Events for Knife River Training Center
REFRESH-INTERVAL;VALUE=DURATION:PT1H
X-Robots-Tag:noindex
X-PUBLISHED-TTL:PT1H
BEGIN:VTIMEZONE
TZID:America/Vancouver
BEGIN:DAYLIGHT
TZOFFSETFROM:-0800
TZOFFSETTO:-0700
TZNAME:PDT
DTSTART:20240310T100000
END:DAYLIGHT
BEGIN:STANDARD
TZOFFSETFROM:-0700
TZOFFSETTO:-0800
TZNAME:PST
DTSTART:20241103T090000
END:STANDARD
BEGIN:DAYLIGHT
TZOFFSETFROM:-0800
TZOFFSETTO:-0700
TZNAME:PDT
DTSTART:20250309T100000
END:DAYLIGHT
BEGIN:STANDARD
TZOFFSETFROM:-0700
TZOFFSETTO:-0800
TZNAME:PST
DTSTART:20251102T090000
END:STANDARD
BEGIN:DAYLIGHT
TZOFFSETFROM:-0800
TZOFFSETTO:-0700
TZNAME:PDT
DTSTART:20260308T100000
END:DAYLIGHT
BEGIN:STANDARD
TZOFFSETFROM:-0700
TZOFFSETTO:-0800
TZNAME:PST
DTSTART:20261101T090000
END:STANDARD
END:VTIMEZONE
BEGIN:VEVENT
DTSTART;TZID=America/Vancouver:20251103T073000
DTEND;TZID=America/Vancouver:20251105T163000
DTSTAMP:20260421T075826
CREATED:20250520T221813Z
LAST-MODIFIED:20250520T221813Z
UID:4726-1762155000-1762360200@krtrainingcenter.com
SUMMARY:Wheel Loader Level 2 - Knife River Only
DESCRIPTION:Class Information:  Wheel Loader  \nDates: Monday\, November 3rd\, 2025 through Wednesday\, November 5th\, 2025 \nStart Time: 7:30am sharp \nEnd Time: 4:30pm \nPPE Required \nDress for both indoor and outdoor activity \nThis course is for experienced operators with at least 6 months of seat time prior to the training. \nSupervisors\, you can enroll multiple individuals with each submission. \nTravel Information:  Airports\, Hotels\, Shuttle and other Nearby Services – Travel Information – Knife River Training Center \nCancellation Policy: If\, for any reason\, you and/or any student(s) you’re registering cannot attend a class\, you’ll receive a full refund or are not charged if you cancel 14 days prior to the start of the scheduled class. Please call the Training Center Office to cancel or email hope.koch@kniferiver.com \nIf you cannot cancel less than 14 days prior to the start of your scheduled class\, then 30% of your course fee is non-refundable.\nTransferring to another scheduled class must be made 14 days prior to the start of the scheduled class or may be subject to a transfer fee. \nStudents who do not show up for their registered course will forfeit all tuition. \n 
URL:https://krtrainingcenter.com/training/wheel-loader-level-2-november-2025/
LOCATION:Knifer River Training Center – Columbia River Room\, 35973 Kennel Road SE\, Albany\, OR\, 97322\, United States
ATTACH;FMTTYPE=image/jpeg:https://krtrainingcenter.com/wp-content/uploads/2022/12/about-knife-01.jpg
ORGANIZER;CN="Koch%2C Hope":MAILTO:Hope.Koch@KnifeRiver.com
END:VEVENT
BEGIN:VEVENT
DTSTART;TZID=America/Vancouver:20251104T073000
DTEND;TZID=America/Vancouver:20251105T160000
DTSTAMP:20260421T075826
CREATED:20250815T180723Z
LAST-MODIFIED:20251017T220136Z
UID:5109-1762241400-1762358400@krtrainingcenter.com
SUMMARY:Supervising for Success
DESCRIPTION:Class Information: Supervising for Success\nJoin our immersive\, two-day hands-on workshop designed to enhance your skills for the workplace\, home\, and community. Ideal for both new and seasoned leaders. This experience promises practical applicable learning. \nOpen to: Job seekers as well as those currently employed \nDates: Tuesday\, November 4\, 2025 and Wednesday\, November 5\, 2025 \nStart Time: 7:30am sharp! \nEnd Time: 4:00pm \nTuition: \nKnife River Team Members: $350 \nGeneral Public: $500 \nThis course was developed in part with support of an ARPA grant by Willamette Workforce Partnership\, which funded tuition for 60 students over the past six months.  We are grateful for the opportunity to partner with WWP and to serve our region in this manner. \nFor more information reach out to Kris Latimer at Kris.Latimer@KnifeRiver.com
URL:https://krtrainingcenter.com/training/supervising-for-success-november/
LOCATION:Knife River Training Center – Snake River Room\, 35973 Kennel Road SE\, Albany\, OR\, 97322\, United States
CATEGORIES:Training
ORGANIZER;CN="Koch%2C Hope":MAILTO:Hope.Koch@KnifeRiver.com
END:VEVENT
BEGIN:VEVENT
DTSTART;TZID=America/Vancouver:20251104T100000
DTEND;TZID=America/Vancouver:20251105T150000
DTSTAMP:20260421T075826
CREATED:20250114T220918Z
LAST-MODIFIED:20250402T203010Z
UID:4230-1762250400-1762354800@krtrainingcenter.com
SUMMARY:Coaching 101 - The 6 C's
DESCRIPTION:In our Coaching 101 Workshop\, you will build skills that enable you to coach your team in real time and develop relationships that will help drive engagement. Content is focused on our “6 Cs” and our People-First philosophy. You can expect a highly interactive class that will include opportunities for you to practice what you have learned. \nThis is an immersion style course\, with approximately 13 hours of content delivered over two days. \nDay one – 10:00 a.m. – 5:00 p.m. \nDay two – 8:00 a.m. – 3:00 p.m. \nThis is a great opportunity for learning and growth – for experienced and new coaches alike! \nThis immersion will be delivered to coaches in Anchorage\, Alaska
URL:https://krtrainingcenter.com/training/coaching-101-the-6-cs-22/
LOCATION:Offsite – Please See Class Description
CATEGORIES:Coaching
ATTACH;FMTTYPE=image/png:https://krtrainingcenter.com/wp-content/uploads/2025/03/Coaching-101-2025.png
ORGANIZER;CN="Koch%2C Hope":MAILTO:Hope.Koch@KnifeRiver.com
END:VEVENT
BEGIN:VEVENT
DTSTART;TZID=America/Vancouver:20251106T100000
DTEND;TZID=America/Vancouver:20251107T150000
DTSTAMP:20260421T075826
CREATED:20250114T221435Z
LAST-MODIFIED:20250402T202959Z
UID:4238-1762423200-1762527600@krtrainingcenter.com
SUMMARY:Coaching 101 - The 6 C's
DESCRIPTION:In our Coaching 101 Workshop\, you will build skills that enable you to coach your team in real time and develop relationships that will help drive engagement. Content is focused on our “6 Cs” and our People-First philosophy. You can expect a highly interactive class that will include opportunities for you to practice what you have learned. \nThis is an immersion style course\, with approximately 13 hours of content delivered over two days. \nDay one – 10:00 a.m. – 5:00 p.m. \nDay two – 8:00 a.m. – 3:00 p.m. \nThis is a great opportunity for learning and growth – for experienced and new coaches alike! \nThis immersion will be delivered to coaches in Fairbanks\, Alaska
URL:https://krtrainingcenter.com/training/coaching-101-the-6-cs-24/
LOCATION:Offsite – Please See Class Description
CATEGORIES:Coaching
ATTACH;FMTTYPE=image/png:https://krtrainingcenter.com/wp-content/uploads/2025/03/Coaching-101-2025.png
ORGANIZER;CN="Koch%2C Hope":MAILTO:Hope.Koch@KnifeRiver.com
END:VEVENT
BEGIN:VEVENT
DTSTART;VALUE=DATE:20251117
DTEND;VALUE=DATE:20251122
DTSTAMP:20260421T075826
CREATED:20250422T164341Z
LAST-MODIFIED:20251006T155056Z
UID:4639-1763337600-1763769599@krtrainingcenter.com
SUMMARY:Instructor Development Course
DESCRIPTION:Course Description:   Instructor Development Course \nDates: Monday\, November 17th to Friday\, November 21st 2025 \nStart Time: 7:30am sharp \nEnd Time: 4:30pm \nClosed toe shoes required on Friday for activity in the Dome \nDress for both indoor and outdoor activity \nSupervisors\, you can enroll multiple individuals with each submission. \nFor The General Public: \nTickets are $3500.00 \nOn Sale! Course is reduced to $2500.00 including daily hot lunch\, snacks and beverages.  Also includes a Wednesday evening social and class supplies. \nTravel Information:  Airports\, Hotels\, Shuttle and other Nearby Services – Travel Information – Knife River Training Center \nCancellation Policy: If\, for any reason\, you and/or any student(s) you’re registering cannot attend a class\, you’ll receive a full refund or are not charged if you cancel 14 days prior to the start of the scheduled class. Please call the Training Center Office to cancel or email Hope.Koch@KnifeRiver.com \nIf you cannot cancel less than 14 days prior to the start of your scheduled class\, then 30% of your course fee is non-refundable.\nTransferring to another scheduled class must be made 14 days prior to the start of the scheduled class or may be subject to a transfer fee. \nStudents who do not show up for their registered course will forfeit all tuition.
URL:https://krtrainingcenter.com/training/instructor-development-course-november-2025/
LOCATION:Knife River Training Center – Copper River Room\, 35973 Kennel Road SE\, Albany\, OR\, 97322\, United States
ATTACH;FMTTYPE=image/png:https://krtrainingcenter.com/wp-content/uploads/2020/09/knife-river-logo-color.png
ORGANIZER;CN="Reyes%2C Alex":MAILTO:alex.reyes@kniferiver.net
END:VEVENT
BEGIN:VEVENT
DTSTART;VALUE=DATE:20251117
DTEND;VALUE=DATE:20251213
DTSTAMP:20260421T075826
CREATED:20240816T222253Z
LAST-MODIFIED:20240816T222253Z
UID:3560-1763337600-1765583999@krtrainingcenter.com
SUMMARY:ELDT/CDL Program
DESCRIPTION:This course is to obtain an “Unrestricted” Class A or Class B CDL  \nThis course is 3 weeks and 2 days (or approximately 136 hours) \nDate: November 17th\, 2025 through December 12th\, 2025 (Monday thru Friday) \nStart Time:  7:30am sharp! \nLunch is provided. \nThis Entry Level Driver Training (ELDT) program is a partnership between Knife River and \nLinn Benton Community College.\nFor course information\, tuition and registration information please CLICK HERE\n  \nFor question and assistance please reach out to the LBCC Coordinator at 541-917-4961 or email CDL@LinnBenton.edu \n 
URL:https://krtrainingcenter.com/training/eldt-cdl-program-17/
LOCATION:Knife River Training Center – Building 2\, 35973 Kennel Rd. SE\, Albany\, OR\, 97332\, United States
ATTACH;FMTTYPE=image/jpeg:https://krtrainingcenter.com/wp-content/uploads/2023/08/IMG_3373.jpg
ORGANIZER;CN="Koch%2C Hope":MAILTO:Hope.Koch@KnifeRiver.com
END:VEVENT
BEGIN:VEVENT
DTSTART;TZID=America/Vancouver:20251118T100000
DTEND;TZID=America/Vancouver:20251119T150000
DTSTAMP:20260421T075826
CREATED:20250310T190821Z
LAST-MODIFIED:20250402T201608Z
UID:4503-1763460000-1763564400@krtrainingcenter.com
SUMMARY:Coaching 101 - The 6 C's
DESCRIPTION:In our Coaching 101 Workshop\, you will build skills that enable you to coach your team in real time and develop relationships that will help drive engagement. Content is focused on our “6 Cs” and our People-First philosophy. You can expect a highly interactive class that will include opportunities for you to practice what you have learned. \nThis is an immersion style course\, with approximately 13 hours of content delivered over two days. \nDay one – 10:00 a.m. – 5:00 p.m. \nDay two – 8:00 a.m. – 3:00 p.m. \nThis is a great opportunity for learning and growth – for experienced and new coaches alike! \nThis immersion will be delivered to coaches in the Mountain Region
URL:https://krtrainingcenter.com/training/coaching-101-the-6-cs-38/
LOCATION:Offsite – Please See Class Description
CATEGORIES:Coaching
ATTACH;FMTTYPE=image/png:https://krtrainingcenter.com/wp-content/uploads/2025/03/Coaching-101-2025.png
ORGANIZER;CN="Koch%2C Hope":MAILTO:Hope.Koch@KnifeRiver.com
END:VEVENT
END:VCALENDAR