BEGIN:VCALENDAR
VERSION:2.0
PRODID:-//Knife River Training Center - ECPv6.15.20//NONSGML v1.0//EN
CALSCALE:GREGORIAN
METHOD:PUBLISH
X-WR-CALNAME:Knife River Training Center
X-ORIGINAL-URL:https://krtrainingcenter.com
X-WR-CALDESC:Events for Knife River Training Center
REFRESH-INTERVAL;VALUE=DURATION:PT1H
X-Robots-Tag:noindex
X-PUBLISHED-TTL:PT1H
BEGIN:VTIMEZONE
TZID:America/Vancouver
BEGIN:DAYLIGHT
TZOFFSETFROM:-0800
TZOFFSETTO:-0700
TZNAME:PDT
DTSTART:20250309T100000
END:DAYLIGHT
BEGIN:STANDARD
TZOFFSETFROM:-0700
TZOFFSETTO:-0800
TZNAME:PST
DTSTART:20251102T090000
END:STANDARD
BEGIN:DAYLIGHT
TZOFFSETFROM:-0800
TZOFFSETTO:-0700
TZNAME:PDT
DTSTART:20260308T100000
END:DAYLIGHT
BEGIN:STANDARD
TZOFFSETFROM:-0700
TZOFFSETTO:-0800
TZNAME:PST
DTSTART:20261101T090000
END:STANDARD
BEGIN:DAYLIGHT
TZOFFSETFROM:-0800
TZOFFSETTO:-0700
TZNAME:PDT
DTSTART:20270314T100000
END:DAYLIGHT
BEGIN:STANDARD
TZOFFSETFROM:-0700
TZOFFSETTO:-0800
TZNAME:PST
DTSTART:20271107T090000
END:STANDARD
END:VTIMEZONE
BEGIN:VEVENT
DTSTART;TZID=America/Vancouver:20260109T073000
DTEND;TZID=America/Vancouver:20260109T160000
DTSTAMP:20260424T125448
CREATED:20251217T203249Z
LAST-MODIFIED:20251223T225154Z
UID:5482-1767943800-1767974400@krtrainingcenter.com
SUMMARY:Top Rock Bench 1: Conveyance
DESCRIPTION:Dates: Friday\, January 9\, 2026 \nStart Time: 7:30am sharp \nEnd Time: 4:00pm \nOverview:  \nThe goal of this training is to help educate our teams on the basics of material conveyance to ensure safe\, efficient\, and profitable production.  \nConveyor systems are key to the efficiency of an entire operation\, and belting is key to the productivity of a conveyor. Consequently\, preservation of the capabilities and life of a belt is essential. Considering the size of the initial investment in conveyor belting\, the importance of preserving a belt through regular inspection and repair cannot be overstated. Recognize\, report\, and repair issues as they arise. Planned downtime provides significant payback compared to emergency or unscheduled downtime\, or replacement of failed components  \nAudience:  \nTeam members with four hundred hours or more experience working on or directly with aggregates processing equipment will benefit most from the training.  \nTeam Members may also be recognized by a coach or lead as ready to advance a limited or intermediate knowledge of conveyance equipment.  \nSupplies:  \nThis course will be going over inputting data electronically.  A smart phone will be needed.  Please bring a company provided smart phone if you have one. \nTravel Information:  \nAirports\, Hotels\, Shuttle and other Nearby Services – Travel Information – Knife River Training Center  \nCancellation Policy:  \nIf\, for any reason\, you and/or any student(s) you’re registering cannot attend a class\, you’ll receive a full refund or are not charged if you cancel 14 days prior to the start of the scheduled class. Please email Hope.Koch@KnifeRiver.com \nIf you cannot cancel less than 14 days prior to the start of your scheduled class\, then 30% of your course fee is non-refundable. \nTransferring to another scheduled class must be made 14 days prior to the start of the scheduled class or may be subject to a transfer fee. Students who do not show up for their registered course will forfeit all tuition. \nAdditional Information:  \nSupervisors\, you can enroll multiple individuals with each submission. Supervisors are also encouraged to attend with their team members.
URL:https://krtrainingcenter.com/training/top-rock-bench-1-conveyance-2/
LOCATION:Knife River Training Center – Missouri River Room\, 35973 Kennel Rd SE\, Albany\, OR\, 97322\, United States
CATEGORIES:Training
ORGANIZER;CN="Koch%2C Hope":MAILTO:Hope.Koch@KnifeRiver.com
END:VEVENT
END:VCALENDAR